BEGIN:VCALENDAR
VERSION:2.0
PRODID:-//magpie - ECPv6.15.20//NONSGML v1.0//EN
CALSCALE:GREGORIAN
METHOD:PUBLISH
X-ORIGINAL-URL:https://magpie.ae
X-WR-CALDESC:Events for magpie
REFRESH-INTERVAL;VALUE=DURATION:PT1H
X-Robots-Tag:noindex
X-PUBLISHED-TTL:PT1H
BEGIN:VTIMEZONE
TZID:Asia/Dubai
BEGIN:STANDARD
TZOFFSETFROM:+0400
TZOFFSETTO:+0400
TZNAME:+04
DTSTART:20240101T000000
END:STANDARD
END:VTIMEZONE
BEGIN:VEVENT
DTSTART;VALUE=DATE:20250412
DTEND;VALUE=DATE:20250413
DTSTAMP:20260420T110448
CREATED:20250402T095234Z
LAST-MODIFIED:20250402T095234Z
UID:10011850-1744416000-1744502399@magpie.ae
SUMMARY:LAST CHANCE Negative S P A C E
DESCRIPTION:A group exhibition that examines the resilience and resourcefulness of artists working outside the confines of institutional representation. Negative S P A C E is the outcome of Engage101’s third Peer Review Program\, an artist development initiative centred around discussion and critique between peers. \nThe artists: \nAhed Al Kathiri\nAhed Alameri\nAlina El Assadi\nAmna Ilyas\nFizza Shabbir\nLayla Doueidi\nSalma Hani Ali & Omar AlAhmadani
URL:https://magpie.ae/event/last-chance-negative-s-p-a-c-e/
LOCATION:Villa 72\, Al Fanna St\, Umm Suqeim 3\, Dubai
CATEGORIES:Art,Exhibition
GEO:25.136651;55.1955445
X-APPLE-STRUCTURED-LOCATION;VALUE=URI;X-ADDRESS=Villa 72 Al Fanna St Umm Suqeim 3 Dubai;X-APPLE-RADIUS=500;X-TITLE=Umm Suqeim 3:geo:55.1955445,25.136651
END:VEVENT
BEGIN:VEVENT
DTSTART;VALUE=DATE:20250405
DTEND;VALUE=DATE:20250406
DTSTAMP:20260420T110448
CREATED:20250402T095131Z
LAST-MODIFIED:20250402T095131Z
UID:10011849-1743811200-1743897599@magpie.ae
SUMMARY:Negative S P A C E
DESCRIPTION:A group exhibition curated by Nadine Khoury and Gaith Abdulla that examines the resilience and resourcefulness of artists working outside the confines of institutional representation. The exhibition brings together a diverse group of artists navigating the scarcity of creative spaces and questioning the structures that shape access\, inclusion\, and artistic agency. Negative S P A C E is the outcome of Engage101’s third Peer Review Program\, an artist development initiative centred around discussion and critique between peers. \nThe artists: \nAhed Al Kathiri\nAhed Alameri\nAlina El Assadi\nAmna Ilyas\nFizza Shabbir\nLayla Doueidi\nSalma Hani Ali & Omar AlAhmadani \nTo 12 April.
URL:https://magpie.ae/event/negative-s-p-a-c-e/
LOCATION:Villa 72\, Al Fanna St\, Umm Suqeim 3\, Dubai
CATEGORIES:Art,Exhibition
GEO:25.136651;55.1955445
X-APPLE-STRUCTURED-LOCATION;VALUE=URI;X-ADDRESS=Villa 72 Al Fanna St Umm Suqeim 3 Dubai;X-APPLE-RADIUS=500;X-TITLE=Umm Suqeim 3:geo:55.1955445,25.136651
END:VEVENT
END:VCALENDAR