BEGIN:VCALENDAR
VERSION:2.0
PRODID:-//magpie - ECPv6.15.20//NONSGML v1.0//EN
CALSCALE:GREGORIAN
METHOD:PUBLISH
X-ORIGINAL-URL:https://magpie.ae
X-WR-CALDESC:Events for magpie
REFRESH-INTERVAL;VALUE=DURATION:PT1H
X-Robots-Tag:noindex
X-PUBLISHED-TTL:PT1H
BEGIN:VTIMEZONE
TZID:Asia/Dubai
BEGIN:STANDARD
TZOFFSETFROM:+0400
TZOFFSETTO:+0400
TZNAME:+04
DTSTART:20240101T000000
END:STANDARD
END:VTIMEZONE
BEGIN:VEVENT
DTSTART;TZID=Asia/Dubai:20250128T200000
DTEND;TZID=Asia/Dubai:20250128T230000
DTSTAMP:20260424T150827
CREATED:20250121T152547Z
LAST-MODIFIED:20250121T155934Z
UID:10011244-1738094400-1738105200@magpie.ae
SUMMARY:Comedy Night @ Ting Irie Dubai
DESCRIPTION:Great Jamaican vibes and a good bill of yet-to-hit-the-big-time-so-you-can-say-you-saw-them-first standups (among them Nadim Basnan\, Noha Jadallah\, Andrea Brooks\, Joshua-John Dias\, Jed Dawson). The entrance price includes two free drinks\, which you were probably going to buy anyway … And after the gig there’s a live DJ set till midnight. \nThis is becoming a regular date on alternate Tuesdays\, incidentally.
URL:https://magpie.ae/event/comedy-night-ting-irie-4/
LOCATION:Ting Irie\, Souq Al Manzil\, Ground Floor\, Souq Al Manzil\, Downtown\, Dubai
CATEGORIES:Comedy
ATTACH;FMTTYPE=image/jpeg:https://magpie.ae/wp-content/uploads/2025/01/ting-irie.jpg
GEO:25.1908186;55.2776813
X-APPLE-STRUCTURED-LOCATION;VALUE=URI;X-ADDRESS=Ting Irie Souq Al Manzil Ground Floor Souq Al Manzil Downtown Dubai;X-APPLE-RADIUS=500;X-TITLE=Ground Floor\, Souq Al Manzil\, Downtown:geo:55.2776813,25.1908186
END:VEVENT
END:VCALENDAR