BEGIN:VCALENDAR
VERSION:2.0
PRODID:-//magpie - ECPv6.15.20//NONSGML v1.0//EN
CALSCALE:GREGORIAN
METHOD:PUBLISH
X-WR-CALNAME:magpie
X-ORIGINAL-URL:https://magpie.ae
X-WR-CALDESC:Events for magpie
REFRESH-INTERVAL;VALUE=DURATION:PT1H
X-Robots-Tag:noindex
X-PUBLISHED-TTL:PT1H
BEGIN:VTIMEZONE
TZID:Asia/Dubai
BEGIN:STANDARD
TZOFFSETFROM:+0400
TZOFFSETTO:+0400
TZNAME:+04
DTSTART:20230101T000000
END:STANDARD
END:VTIMEZONE
BEGIN:VEVENT
DTSTART;TZID=Asia/Dubai:20240525T120000
DTEND;TZID=Asia/Dubai:20240525T133000
DTSTAMP:20260422T101339
CREATED:20240510T094722Z
LAST-MODIFIED:20240510T094722Z
UID:10009473-1716638400-1716643800@magpie.ae
SUMMARY:Comedy Braai: Robby Collins and Celeste Ntuli
DESCRIPTION:We like the idea of comedy with brunch (the price doesn’t include any food and drink\, of course) and these two South Africans should be a pretty tasty addition to Abu Dhabi Comedy Week. Robby Collins is a hard-working comedian and actor who won ‘Comic of the Year’ at the 2023 Comics Choice Awards in his home country; the Queen of Zulu Comedy\, Celeste Ntuli (“the Queen of Zulu comedy”) is a real powerhouse\, one of the funniest comedians working in South Africa today. The Sportsman’s Arms – “Abu Dhabi’s only true family-friendly gastropub\, taking inspiration from Boston’s finest dining scene” – is new to us as a comedy venue\, so it will be interesting to see how a pub in the Zayed Sports City’s Tennis Center works …
URL:https://magpie.ae/event/comedy-braai-robby-collins-and-celeste-ntuli/
LOCATION:The Sportsman’s Arms\, First Floor\, International Tennis Center Zayed Sports City\, Abu Dhabi
CATEGORIES:Comedy
GEO:24.4135945;54.4592711
X-APPLE-STRUCTURED-LOCATION;VALUE=URI;X-ADDRESS=The Sportsman’s Arms First Floor International Tennis Center Zayed Sports City Abu Dhabi;X-APPLE-RADIUS=500;X-TITLE=First Floor\, International Tennis Center Zayed Sports City:geo:54.4592711,24.4135945
END:VEVENT
END:VCALENDAR