BEGIN:VCALENDAR
VERSION:2.0
PRODID:-//magpie - ECPv6.15.20//NONSGML v1.0//EN
CALSCALE:GREGORIAN
METHOD:PUBLISH
X-ORIGINAL-URL:https://magpie.ae
X-WR-CALDESC:Events for magpie
REFRESH-INTERVAL;VALUE=DURATION:PT1H
X-Robots-Tag:noindex
X-PUBLISHED-TTL:PT1H
BEGIN:VTIMEZONE
TZID:Asia/Dubai
BEGIN:STANDARD
TZOFFSETFROM:+0400
TZOFFSETTO:+0400
TZNAME:+04
DTSTART:20250101T000000
END:STANDARD
END:VTIMEZONE
BEGIN:VEVENT
DTSTART;TZID=Asia/Dubai:20260425T193000
DTEND;TZID=Asia/Dubai:20260425T213000
DTSTAMP:20260425T035059
CREATED:20260414T151712Z
LAST-MODIFIED:20260414T152215Z
UID:10013607-1777145400-1777152600@magpie.ae
SUMMARY:X Fest DXB: weekend 2
DESCRIPTION:The second weekend for the Junction’s short play festival: each weekend features 10 to 11 original 10-minute plays\, meaning audiences will get the chance to see a diverse lineup of stories\, styles and performances in a single evening. Essentially you could see something up to 70 original microplays if you attended all weekend performances up to 16-17 May; the strongest return to the stage to compete for the top honours of the festival on the Finals Weekend\, 22-24 May. \nTimes\, dates\, prices: \n7.30pm 25 April AED 120\n7.30pm 26 April AED 120\n7.30pm 2 May AED 120\n7.30pm 3 May AED 120\n7.30pm 9 May AED 150\n7.30pm 10 May AED 150\n7.30pm 16 May AED 120\n7.30pm 17 May AED 120\n7.30pm 22 May tbc\n7.30pm 23 May tbc\n7.30pm 24 May tbc\n  \n 
URL:https://magpie.ae/event/x-fest-dxb-weekend-2/
LOCATION:The Junction\, Unit H72\, Alserkal Avenue\, Dubai\, United Arab Emirates
CATEGORIES:Theatre
GEO:25.1431157;55.2246127
X-APPLE-STRUCTURED-LOCATION;VALUE=URI;X-ADDRESS=The Junction Unit H72 Alserkal Avenue Dubai United Arab Emirates;X-APPLE-RADIUS=500;X-TITLE=Unit H72\, Alserkal Avenue:geo:55.2246127,25.1431157
END:VEVENT
BEGIN:VEVENT
DTSTART;TZID=Asia/Dubai:20260426T193000
DTEND;TZID=Asia/Dubai:20260426T213000
DTSTAMP:20260425T035059
CREATED:20260414T151819Z
LAST-MODIFIED:20260414T152225Z
UID:10013608-1777231800-1777239000@magpie.ae
SUMMARY:X Fest DXB: weekend 2
DESCRIPTION:The second weekend for the Junction’s short play festival: each weekend features 10 to 11 original 10-minute plays\, meaning audiences will get the chance to see a diverse lineup of stories\, styles and performances in a single evening. Essentially you could see something up to 70 original microplays if you attended all weekend performances up to 16-17 May; the strongest return to the stage to compete for the top honours of the festival on the Finals Weekend\, 22-24 May. \nUpcoming times\, dates\, prices: \n7.30pm 2 May AED 120\n7.30pm 3 May AED 120\n7.30pm 9 May AED 150\n7.30pm 10 May AED 150\n7.30pm 16 May AED 120\n7.30pm 17 May AED 120\n7.30pm 22 May tbc\n7.30pm 23 May tbc\n7.30pm 24 May tbc\n  \n 
URL:https://magpie.ae/event/x-fest-dxb-weekend-2-2/
LOCATION:The Junction\, Unit H72\, Alserkal Avenue\, Dubai\, United Arab Emirates
CATEGORIES:Theatre
GEO:25.1431157;55.2246127
X-APPLE-STRUCTURED-LOCATION;VALUE=URI;X-ADDRESS=The Junction Unit H72 Alserkal Avenue Dubai United Arab Emirates;X-APPLE-RADIUS=500;X-TITLE=Unit H72\, Alserkal Avenue:geo:55.2246127,25.1431157
END:VEVENT
BEGIN:VEVENT
DTSTART;TZID=Asia/Dubai:20260502T193000
DTEND;TZID=Asia/Dubai:20260502T213000
DTSTAMP:20260425T035059
CREATED:20260414T151906Z
LAST-MODIFIED:20260414T152232Z
UID:10013609-1777750200-1777757400@magpie.ae
SUMMARY:X Fest DXB: weekend 3
DESCRIPTION:The third weekend for the Junction’s short play festival: each weekend features 10 to 11 original 10-minute plays\, meaning audiences will get the chance to see a diverse lineup of stories\, styles and performances in a single evening. This weekend is labelled ‘Untranslated Week’\, where every play is performed in languages other than English “celebrating the cultural diversity of theatre-makers in the UAE”. Overall you could see something up to 70 original microplays if you attended all weekend performances up to 16-17 May; the strongest return to the stage to compete for the top honours of the festival on the Finals Weekend\, 22-24 May. \nUpcoming times\, dates\, prices: \n7.30pm 2 May AED 120\n7.30pm 3 May AED 120\n7.30pm 9 May AED 150\n7.30pm 10 May AED 150\n7.30pm 16 May AED 120\n7.30pm 17 May AED 120\n7.30pm 22 May tbc\n7.30pm 23 May tbc\n7.30pm 24 May tbc\n  \n 
URL:https://magpie.ae/event/x-fest-dxb-weekend-3/
LOCATION:The Junction\, Unit H72\, Alserkal Avenue\, Dubai\, United Arab Emirates
CATEGORIES:Theatre
GEO:25.1431157;55.2246127
X-APPLE-STRUCTURED-LOCATION;VALUE=URI;X-ADDRESS=The Junction Unit H72 Alserkal Avenue Dubai United Arab Emirates;X-APPLE-RADIUS=500;X-TITLE=Unit H72\, Alserkal Avenue:geo:55.2246127,25.1431157
END:VEVENT
BEGIN:VEVENT
DTSTART;TZID=Asia/Dubai:20260503T193000
DTEND;TZID=Asia/Dubai:20260503T213000
DTSTAMP:20260425T035059
CREATED:20260414T152058Z
LAST-MODIFIED:20260414T152241Z
UID:10013610-1777836600-1777843800@magpie.ae
SUMMARY:X Fest DXB: weekend 3
DESCRIPTION:The third weekend for the Junction’s short play festival: each weekend features 10 to 11 original 10-minute plays\, meaning audiences will get the chance to see a diverse lineup of stories\, styles and performances in a single evening. This weekend is labelled ‘Untranslated Week’\, where every play is performed in languages other than English “celebrating the cultural diversity of theatre-makers in the UAE”. Overall you could see something up to 70 original microplays if you attended all weekend performances up to 16-17 May; the strongest return to the stage to compete for the top honours of the festival on the Finals Weekend\, 22-24 May. \nUpcoming times\, dates\, prices: \n7.30pm 9 May AED 150\n7.30pm 10 May AED 150\n7.30pm 16 May AED 120\n7.30pm 17 May AED 120\n7.30pm 22 May tbc\n7.30pm 23 May tbc\n7.30pm 24 May tbc\n  \n 
URL:https://magpie.ae/event/x-fest-dxb-weekend-3-2/
LOCATION:The Junction\, Unit H72\, Alserkal Avenue\, Dubai\, United Arab Emirates
CATEGORIES:Theatre
GEO:25.1431157;55.2246127
X-APPLE-STRUCTURED-LOCATION;VALUE=URI;X-ADDRESS=The Junction Unit H72 Alserkal Avenue Dubai United Arab Emirates;X-APPLE-RADIUS=500;X-TITLE=Unit H72\, Alserkal Avenue:geo:55.2246127,25.1431157
END:VEVENT
BEGIN:VEVENT
DTSTART;TZID=Asia/Dubai:20260509T193000
DTEND;TZID=Asia/Dubai:20260509T213000
DTSTAMP:20260425T035059
CREATED:20260414T152142Z
LAST-MODIFIED:20260414T152540Z
UID:10013611-1778355000-1778362200@magpie.ae
SUMMARY:X Fest DXB: weekend 4
DESCRIPTION:The fourth weekend for the Junction’s short play festival: each weekend features 10 to 11 original 10-minute plays\, meaning audiences will get the chance to see a diverse lineup of stories\, styles and performances in a single evening. Overall you could see something up to 70 original microplays if you attended all weekend performances up to 16-17 May; the strongest return to the stage to compete for the top honours of the festival on the Finals Weekend\, 22-24 May. \nUpcoming times\, dates\, prices: \n7.30pm 9 May AED 150\n7.30pm 10 May AED 150\n7.30pm 16 May AED 120\n7.30pm 17 May AED 120\n7.30pm 22 May tbc\n7.30pm 23 May tbc\n7.30pm 24 May tbc\n  \n 
URL:https://magpie.ae/event/x-fest-dxb-weekend-4/
LOCATION:The Junction\, Unit H72\, Alserkal Avenue\, Dubai\, United Arab Emirates
CATEGORIES:Theatre
GEO:25.1431157;55.2246127
X-APPLE-STRUCTURED-LOCATION;VALUE=URI;X-ADDRESS=The Junction Unit H72 Alserkal Avenue Dubai United Arab Emirates;X-APPLE-RADIUS=500;X-TITLE=Unit H72\, Alserkal Avenue:geo:55.2246127,25.1431157
END:VEVENT
BEGIN:VEVENT
DTSTART;TZID=Asia/Dubai:20260510T193000
DTEND;TZID=Asia/Dubai:20260510T213000
DTSTAMP:20260425T035059
CREATED:20260414T152327Z
LAST-MODIFIED:20260414T152553Z
UID:10013612-1778441400-1778448600@magpie.ae
SUMMARY:X Fest DXB: weekend 4
DESCRIPTION:The fourth weekend for the Junction’s short play festival: each weekend features 10 to 11 original 10-minute plays\, meaning audiences will get the chance to see a diverse lineup of stories\, styles and performances in a single evening. Overall you could see something up to 70 original microplays if you attended all weekend performances up to 16-17 May; the strongest return to the stage to compete for the top honours of the festival on the Finals Weekend\, 22-24 May. \nUpcoming times\, dates\, prices: \n7.30pm 16 May AED 120\n7.30pm 17 May AED 120\n7.30pm 22 May tbc\n7.30pm 23 May tbc\n7.30pm 24 May tbc\n  \n 
URL:https://magpie.ae/event/x-fest-dxb-weekend-4-2/
LOCATION:The Junction\, Unit H72\, Alserkal Avenue\, Dubai\, United Arab Emirates
CATEGORIES:Theatre
GEO:25.1431157;55.2246127
X-APPLE-STRUCTURED-LOCATION;VALUE=URI;X-ADDRESS=The Junction Unit H72 Alserkal Avenue Dubai United Arab Emirates;X-APPLE-RADIUS=500;X-TITLE=Unit H72\, Alserkal Avenue:geo:55.2246127,25.1431157
END:VEVENT
BEGIN:VEVENT
DTSTART;TZID=Asia/Dubai:20260516T193000
DTEND;TZID=Asia/Dubai:20260516T213000
DTSTAMP:20260425T035059
CREATED:20260414T152744Z
LAST-MODIFIED:20260414T152814Z
UID:10013613-1778959800-1778967000@magpie.ae
SUMMARY:X Fest DXB: weekend 4
DESCRIPTION:The penultimate weekend for the Junction’s short play festival: if you’ve been attending all performances\, you could have seen something like 70 original 10-minute plays by now … The strongest return to the stage to compete for the top honours of the festival on the Finals Weekend\, 22-24 May. \nUpcoming times\, dates\, prices: \n7.30pm 16 May AED 120\n7.30pm 17 May AED 120\n7.30pm 22 May tbc\n7.30pm 23 May tbc\n7.30pm 24 May tbc\n  \n 
URL:https://magpie.ae/event/x-fest-dxb-weekend-4-3/
LOCATION:The Junction\, Unit H72\, Alserkal Avenue\, Dubai\, United Arab Emirates
CATEGORIES:Theatre
GEO:25.1431157;55.2246127
X-APPLE-STRUCTURED-LOCATION;VALUE=URI;X-ADDRESS=The Junction Unit H72 Alserkal Avenue Dubai United Arab Emirates;X-APPLE-RADIUS=500;X-TITLE=Unit H72\, Alserkal Avenue:geo:55.2246127,25.1431157
END:VEVENT
BEGIN:VEVENT
DTSTART;TZID=Asia/Dubai:20260516T193000
DTEND;TZID=Asia/Dubai:20260516T213000
DTSTAMP:20260425T035059
CREATED:20260414T152808Z
LAST-MODIFIED:20260414T152808Z
UID:10013614-1778959800-1778967000@magpie.ae
SUMMARY:X Fest DXB: weekend 4
DESCRIPTION:The penultimate weekend for the Junction’s short play festival: if you’ve been attending all performances\, you could have seen something like 70 original 10-minute plays by now … The strongest return to the stage to compete for the top honours of the festival on the Finals Weekend\, 22-24 May. \nUpcoming times\, dates\, prices: \n7.30pm 22 May tbc\n7.30pm 23 May tbc\n7.30pm 24 May tbc\n  \n 
URL:https://magpie.ae/event/x-fest-dxb-weekend-4-4/
LOCATION:The Junction\, Unit H72\, Alserkal Avenue\, Dubai\, United Arab Emirates
CATEGORIES:Theatre
GEO:25.1431157;55.2246127
X-APPLE-STRUCTURED-LOCATION;VALUE=URI;X-ADDRESS=The Junction Unit H72 Alserkal Avenue Dubai United Arab Emirates;X-APPLE-RADIUS=500;X-TITLE=Unit H72\, Alserkal Avenue:geo:55.2246127,25.1431157
END:VEVENT
END:VCALENDAR