BEGIN:VCALENDAR
VERSION:2.0
PRODID:-//magpie - ECPv6.15.20//NONSGML v1.0//EN
CALSCALE:GREGORIAN
METHOD:PUBLISH
X-ORIGINAL-URL:https://magpie.ae
X-WR-CALDESC:Events for magpie
REFRESH-INTERVAL;VALUE=DURATION:PT1H
X-Robots-Tag:noindex
X-PUBLISHED-TTL:PT1H
BEGIN:VTIMEZONE
TZID:Asia/Dubai
BEGIN:STANDARD
TZOFFSETFROM:+0400
TZOFFSETTO:+0400
TZNAME:+04
DTSTART:20230101T000000
END:STANDARD
END:VTIMEZONE
BEGIN:VEVENT
DTSTART;TZID=Asia/Dubai:20241020T200000
DTEND;TZID=Asia/Dubai:20241020T233000
DTSTAMP:20260422T023608
CREATED:20241015T092208Z
LAST-MODIFIED:20241015T092531Z
UID:10010724-1729454400-1729467000@magpie.ae
SUMMARY:Politically Incorrect Comedy # Creekside
DESCRIPTION:Mad Cat Comedy returns to the Copperhead pub at the Marriott Marquis in Business Bay with a strong lineup of local standups: \nMiqdaad Dohadwala (above): Mad Cat’s main man\, razor-sharp comedy\nSunny: high energy\, big punchlines\, big personality\nLiz Bains: dry\, sharp\, and a hit at this year’s Edinburgh Fringe\nMarcia Johnston: relatable comedy and dramatic anecdotes \nThe cover charge of AED 85 includes one drink.
URL:https://magpie.ae/event/mad-cat-comedy-the-copperhead/
LOCATION:The Copperhead\, Marriott Marquis Dubai\, Business Bay\, Dubai
CATEGORIES:Comedy
ATTACH;FMTTYPE=image/jpeg:https://magpie.ae/wp-content/uploads/2024/10/Miqdaad-Dohadwala-copy.jpg
GEO:25.1854005;55.2580876
X-APPLE-STRUCTURED-LOCATION;VALUE=URI;X-ADDRESS=The Copperhead Marriott Marquis Dubai Business Bay Dubai;X-APPLE-RADIUS=500;X-TITLE=Marriott Marquis Dubai\, Business Bay:geo:55.2580876,25.1854005
END:VEVENT
END:VCALENDAR