BEGIN:VCALENDAR
VERSION:2.0
PRODID:-//magpie - ECPv6.15.20//NONSGML v1.0//EN
CALSCALE:GREGORIAN
METHOD:PUBLISH
X-ORIGINAL-URL:https://magpie.ae
X-WR-CALDESC:Events for magpie
REFRESH-INTERVAL;VALUE=DURATION:PT1H
X-Robots-Tag:noindex
X-PUBLISHED-TTL:PT1H
BEGIN:VTIMEZONE
TZID:Asia/Dubai
BEGIN:STANDARD
TZOFFSETFROM:+0400
TZOFFSETTO:+0400
TZNAME:+04
DTSTART:20230101T000000
END:STANDARD
END:VTIMEZONE
BEGIN:VEVENT
DTSTART;VALUE=DATE:20241123
DTEND;VALUE=DATE:20241124
DTSTAMP:20260421T183143
CREATED:20241119T145527Z
LAST-MODIFIED:20241119T145527Z
UID:10010890-1732320000-1732406399@magpie.ae
SUMMARY:Nico Van Lucas: I PAINT COLORS
DESCRIPTION:Twelve paintings by the Italian artist featuring his trademark explosions of vivid colour\, including his take on the UAE flag (above). He says his works place attention not on the subject\, but rather on the gesture: “painting becomes the intermediary\, while the arm\, which lashes the colour on the canvas\, becomes a connection with the boundless spaces of the imagination …”
URL:https://magpie.ae/event/nico-van-lucas-i-paint-colors/
LOCATION:Stu Studios\, First Al Khail Street\, Dubai\, United Arab Emirates
CATEGORIES:Art,Exhibition
ATTACH;FMTTYPE=image/jpeg:https://magpie.ae/wp-content/uploads/2024/11/The-UAE-flag-is-now-on-display-in-an-artistic-take-by-world-renowned-Italian-artist-Nico-Van-Lucas-for-Eid-Al-Etihads-53rd-National-Day.jpeg
GEO:25.1054761;55.1919699
X-APPLE-STRUCTURED-LOCATION;VALUE=URI;X-ADDRESS=Stu Studios First Al Khail Street Dubai United Arab Emirates;X-APPLE-RADIUS=500;X-TITLE=First Al Khail Street:geo:55.1919699,25.1054761
END:VEVENT
END:VCALENDAR