BEGIN:VCALENDAR
VERSION:2.0
PRODID:-//magpie - ECPv6.15.20//NONSGML v1.0//EN
CALSCALE:GREGORIAN
METHOD:PUBLISH
X-ORIGINAL-URL:https://magpie.ae
X-WR-CALDESC:Events for magpie
REFRESH-INTERVAL;VALUE=DURATION:PT1H
X-Robots-Tag:noindex
X-PUBLISHED-TTL:PT1H
BEGIN:VTIMEZONE
TZID:Asia/Dubai
BEGIN:STANDARD
TZOFFSETFROM:+0400
TZOFFSETTO:+0400
TZNAME:+04
DTSTART:20240101T000000
END:STANDARD
END:VTIMEZONE
BEGIN:VEVENT
DTSTART;TZID=Asia/Dubai:20250626T213000
DTEND;TZID=Asia/Dubai:20250626T230000
DTSTAMP:20260422T201950
CREATED:20250611T131809Z
LAST-MODIFIED:20250611T131809Z
UID:10012538-1750973400-1750978800@magpie.ae
SUMMARY:Nataly Aukar
DESCRIPTION:Lebanese-born NYC-based conic\, a regular at Gotham Comedy Club and Union Hall shows in Brooklyn. The prices seem a bit steep\, but she really is a classy\, clever comedian with a self-deprecatingly confessional line in  talking about he life\, her fears\, her flaws\, and “everything that makes you a better person than she is”. \n 
URL:https://magpie.ae/event/nataly-aukar-2/
LOCATION:Space 42 Arena\, Al Raha St\, Abu Dhabi
CATEGORIES:Comedy
ATTACH;FMTTYPE=image/webp:https://magpie.ae/wp-content/uploads/2025/06/nataly-aukar-bcc80a83-main-image.webp
GEO:24.4456917;54.5933026
X-APPLE-STRUCTURED-LOCATION;VALUE=URI;X-ADDRESS=Space 42 Arena Al Raha St Abu Dhabi;X-APPLE-RADIUS=500;X-TITLE=Al Raha St:geo:54.5933026,24.4456917
END:VEVENT
END:VCALENDAR