BEGIN:VCALENDAR
VERSION:2.0
PRODID:-//magpie - ECPv6.15.20//NONSGML v1.0//EN
CALSCALE:GREGORIAN
METHOD:PUBLISH
X-ORIGINAL-URL:https://magpie.ae
X-WR-CALDESC:Events for magpie
REFRESH-INTERVAL;VALUE=DURATION:PT1H
X-Robots-Tag:noindex
X-PUBLISHED-TTL:PT1H
BEGIN:VTIMEZONE
TZID:Asia/Dubai
BEGIN:STANDARD
TZOFFSETFROM:+0400
TZOFFSETTO:+0400
TZNAME:+04
DTSTART:20220101T000000
END:STANDARD
END:VTIMEZONE
BEGIN:VEVENT
DTSTART;VALUE=DATE:20240616
DTEND;VALUE=DATE:20240617
DTSTAMP:20260422T035601
CREATED:20240409T124856Z
LAST-MODIFIED:20240409T124856Z
UID:10007498-1718496000-1718582399@magpie.ae
SUMMARY:LAST CHANCE Henok Melkamzer: Telsem Symbols and Imagery
DESCRIPTION:With more than 100 works\, many on view for the first time\, this exhibition is the largest solo presentation by telsem artist Henok Melkamzer. Traditionally termed a healing or talisman art\, telsem is a distinctive Ethiopian art form that incorporates philosophy and intricate themes into various symbols\, drawings and texts imbued with deeper meanings. \n  \n 
URL:https://magpie.ae/event/last-chance-henok-melkamzer-telsem-symbols-and-imagery/
LOCATION:Sharjah Art Museum\, Sharjah\, United Arab Emirates
CATEGORIES:Art,Exhibition
END:VEVENT
BEGIN:VEVENT
DTSTART;VALUE=DATE:20240224
DTEND;VALUE=DATE:20240225
DTSTAMP:20260422T035601
CREATED:20240110T144426Z
LAST-MODIFIED:20240110T144556Z
UID:10007421-1708732800-1708819199@magpie.ae
SUMMARY:Henok Melkamzer: Telsem Symbols and Imagery
DESCRIPTION:With more than 100 works\, many on view for the first time\, this exhibition is the largest solo presentation by telsem artist Henok Melkamzer. Traditionally termed a healing or talisman art\, telsem is a distinctive Ethiopian art form that incorporates philosophy and intricate themes into various symbols\, drawings and texts imbued with deeper meanings. \nOrganised in collaboration with The Africa Institute\, Sharjah\, and Sharjah Museums Authority\, the exhibition is curated by Elizabeth Giorgis\, Associate Professor of Art History\, Theory and Criticism\, The Africa Institute. \nTo 16 June. \n  \n 
URL:https://magpie.ae/event/henok-melkamzer-telsem-symbols-and-imagery/
LOCATION:Sharjah Art Museum\, Sharjah\, United Arab Emirates
CATEGORIES:Art,Exhibition
END:VEVENT
BEGIN:VEVENT
DTSTART;VALUE=DATE:20230920
DTEND;VALUE=DATE:20230921
DTSTAMP:20260422T035601
CREATED:20230613T143725Z
LAST-MODIFIED:20230712T081127Z
UID:10004645-1695168000-1695254399@magpie.ae
SUMMARY:Samia Halaby: Lasting Impressions
DESCRIPTION:The big autumn exhibition at the Sharjah Art Museum is a major retrospective for the NY-based Palestinian Samia Halaby\, featuring around 180 works of various sizes from abstract paintings and sculptures to documentary drawings and digital works. \nInternationally recognised as a leading abstract painter and an influential scholar of Palestinian art\, Halaby says she uses visual abstraction to convert what our senses have stored in our memory – “what the viewer and I already know” – into abstract visual form; her work “mirrors our shared perception of the world we live in”\, as she puts it. \nHalaby is also dedicated advocate for Palestinian rights\, though her experience of exile and displacement from her homeland 1948 rarely appears as content\, though the 16 illustrative drawings that document a heartbreaking historical event – the Kafr Qasim Massacre of 1956 – are a notable exception. She does however suggest that being loyal to abstraction is itself a political act\, and certainly she references Palestine in the titles of some of her works. \nThe exhibition is part of the Lasting Impressions series\, held annually at the Sharjah Art Museum and focussing on prominent Arab artists who have left a lasting impression on the development and evolution of modern art in the Arab world. The extent and curation of these exhibitions has always been very good; given the rich source material\, we expect nothing less from the Samia Halaby show. \nTo 7 January. \nAbove: Samia Halaby\, Damascus (2010) Below: Samia Halaby\, from the Kafr Qasem Massacre series (2017) \n \n  \n  \n  \n 
URL:https://magpie.ae/event/samia-halaby-lasting-impressions/
LOCATION:Sharjah Art Museum\, Sharjah\, United Arab Emirates
CATEGORIES:Art,Exhibition
ATTACH;FMTTYPE=image/png:https://magpie.ae/wp-content/uploads/2023/06/halaby.png
END:VEVENT
END:VCALENDAR