BEGIN:VCALENDAR
VERSION:2.0
PRODID:-//magpie - ECPv6.15.20//NONSGML v1.0//EN
CALSCALE:GREGORIAN
METHOD:PUBLISH
X-ORIGINAL-URL:https://magpie.ae
X-WR-CALDESC:Events for magpie
REFRESH-INTERVAL;VALUE=DURATION:PT1H
X-Robots-Tag:noindex
X-PUBLISHED-TTL:PT1H
BEGIN:VTIMEZONE
TZID:Asia/Dubai
BEGIN:STANDARD
TZOFFSETFROM:+0400
TZOFFSETTO:+0400
TZNAME:+04
DTSTART:20220101T000000
END:STANDARD
END:VTIMEZONE
BEGIN:VEVENT
DTSTART;VALUE=DATE:20251207
DTEND;VALUE=DATE:20251208
DTSTAMP:20260422T101220
CREATED:20251028T170942Z
LAST-MODIFIED:20251028T171657Z
UID:10012975-1765065600-1765151999@magpie.ae
SUMMARY:LAST CHANCE Lydia Nakashima Degarrod and Susan Ossman: Projects of Art Ethnography
DESCRIPTION:This exhibition brings together works by two artist-anthropologists with practices on the boundaries between scholarship and art. Their projects invite viewers to reflect on migration\, memory\, identity\, and the ways knowledge takes shape across bodies\, materials\, and stories. \nThe exhibition unfolds in six sections\, each anchored by a distinct project. Together\, these works and the projects they represent open a space where imagination\, intellect\, and emotion intersect. Visitors encounter not only completed artworks but also traces of their making – interviews\, documentation\, and collaborative processes – illuminating possibilities for associating ethnographic and artistic practices.
URL:https://magpie.ae/event/lydia-nakashima-degarrod-and-susan-ossman-projects-of-art-ethnography-2/
LOCATION:NYUAD Project Space\, NYUAD Campus\, Saadiyat Island\, Abu Dhabi
CATEGORIES:Art,Exhibition
GEO:24.5302924;54.4451578
X-APPLE-STRUCTURED-LOCATION;VALUE=URI;X-ADDRESS=NYUAD Project Space NYUAD Campus Saadiyat Island Abu Dhabi;X-APPLE-RADIUS=500;X-TITLE=NYUAD Campus\, Saadiyat Island:geo:54.4451578,24.5302924
END:VEVENT
BEGIN:VEVENT
DTSTART;VALUE=DATE:20251106
DTEND;VALUE=DATE:20251107
DTSTAMP:20260422T101220
CREATED:20251028T170909Z
LAST-MODIFIED:20251028T170909Z
UID:10012974-1762387200-1762473599@magpie.ae
SUMMARY:Lydia Nakashima Degarrod and Susan Ossman: Projects of Art Ethnography
DESCRIPTION:This exhibition brings together works by two artist-anthropologists with practices on the boundaries between scholarship and art. Their projects invite viewers to reflect on migration\, memory\, identity\, and the ways knowledge takes shape across bodies\, materials\, and stories. \nThe exhibition unfolds in six sections\, each anchored by a distinct project. Together\, these works and the projects they represent open a space where imagination\, intellect\, and emotion intersect. Visitors encounter not only completed artworks but also traces of their making – interviews\, documentation\, and collaborative processes – illuminating possibilities for associating ethnographic and artistic practices. \nTo 7 December.
URL:https://magpie.ae/event/lydia-nakashima-degarrod-and-susan-ossman-projects-of-art-ethnography/
LOCATION:NYUAD Project Space\, NYUAD Campus\, Saadiyat Island\, Abu Dhabi
CATEGORIES:Art,Exhibition
ATTACH;FMTTYPE=image/webp:https://magpie.ae/wp-content/uploads/2025/10/1920.webp
GEO:24.5302924;54.4451578
X-APPLE-STRUCTURED-LOCATION;VALUE=URI;X-ADDRESS=NYUAD Project Space NYUAD Campus Saadiyat Island Abu Dhabi;X-APPLE-RADIUS=500;X-TITLE=NYUAD Campus\, Saadiyat Island:geo:54.4451578,24.5302924
END:VEVENT
BEGIN:VEVENT
DTSTART;VALUE=DATE:20250525
DTEND;VALUE=DATE:20250526
DTSTAMP:20260422T101220
CREATED:20250506T092638Z
LAST-MODIFIED:20250506T092638Z
UID:10012012-1748131200-1748217599@magpie.ae
SUMMARY:LAST CHANCE A Room of One’s Own
DESCRIPTION:Curated by Duygu Demir\, NYUAD assistant professor of Art History and curator at the Art Gallery\, this exhibition features new work by current MFA students Maha Alasaker\, Yuehan Dai\, Nour Elbery\, Almaha Jaralla\, Tooba Shaikh\, and Shaima Shamsi that has been developed over the past year. A Room of One’s Own invites viewers to consider the possibilities that emerge when artists are given the freedom to create; the exhibition borrows its title from Virginia Woolf’s 1929 essay\, which argued that creative work requires both physical space and material support; the works on show reflect on personal and shared histories\, examining themes such as colonialism\, displacement\, systems of power\, environmental transformation\, and the boundaries\, mental and physical\, that define experience.
URL:https://magpie.ae/event/last-chance-a-room-of-ones-own/
LOCATION:NYUAD Project Space\, NYUAD Campus\, Saadiyat Island\, Abu Dhabi
CATEGORIES:Art,Exhibition
GEO:24.5302924;54.4451578
X-APPLE-STRUCTURED-LOCATION;VALUE=URI;X-ADDRESS=NYUAD Project Space NYUAD Campus Saadiyat Island Abu Dhabi;X-APPLE-RADIUS=500;X-TITLE=NYUAD Campus\, Saadiyat Island:geo:54.4451578,24.5302924
END:VEVENT
BEGIN:VEVENT
DTSTART;VALUE=DATE:20250508
DTEND;VALUE=DATE:20250509
DTSTAMP:20260422T101220
CREATED:20250506T092548Z
LAST-MODIFIED:20250506T092548Z
UID:10012011-1746662400-1746748799@magpie.ae
SUMMARY:A Room of One’s Own
DESCRIPTION:Curated by Duygu Demir\, NYUAD assistant professor of Art History and curator at the Art Gallery\, this exhibition features new work by current MFA students Maha Alasaker\, Yuehan Dai\, Nour Elbery\, Almaha Jaralla\, Tooba Shaikh\, and Shaima Shamsi that has been developed over the past year. A Room of One’s Own invites viewers to consider the possibilities that emerge when artists are given the freedom to create; the exhibition borrows its title from Virginia Woolf’s 1929 essay\, which argued that creative work requires both physical space and material support; the works on show reflect on personal and shared histories\, examining themes such as colonialism\, displacement\, systems of power\, environmental transformation\, and the boundaries\, mental and physical\, that define experience. To 25 May.
URL:https://magpie.ae/event/a-room-of-ones-own/
LOCATION:NYUAD Project Space\, NYUAD Campus\, Saadiyat Island\, Abu Dhabi
CATEGORIES:Art,Exhibition
GEO:24.5302924;54.4451578
X-APPLE-STRUCTURED-LOCATION;VALUE=URI;X-ADDRESS=NYUAD Project Space NYUAD Campus Saadiyat Island Abu Dhabi;X-APPLE-RADIUS=500;X-TITLE=NYUAD Campus\, Saadiyat Island:geo:54.4451578,24.5302924
END:VEVENT
BEGIN:VEVENT
DTSTART;VALUE=DATE:20250211
DTEND;VALUE=DATE:20250212
DTSTAMP:20260422T101220
CREATED:20250116T133040Z
LAST-MODIFIED:20250116T133040Z
UID:10011243-1739232000-1739318399@magpie.ae
SUMMARY:LAST CHANCE Bygones
DESCRIPTION:What does it mean to come from a home that does not exist today? The artworks in this exhibition examine the idea of true foreigners – whose left-behind homes exist not only in a different place\, but also in a different time. Bygones was born out of a longing for community\, and reflects on the trials and tribulations of holding onto a homeland when one relates wholeheartedly to what it once was\, but what it is no longer. \nThis is a deeply personal exhibition for curator Anita Shishani\, who has included her own paintings\, weaving her voice into the dialogue visually. Artists Anastasia A\, Alla Abdunabi\, Aya Afaneh\, Houssam Ballan\, Bady Dalloul\, Hala El Abora\, Zaina El-Said\, Syed Hussain\, Diana Ishaqat\, Pouran Jinchi\, Anuar Khalifi\, Yoonsik Chico Park\, and Ansadat Zumsoy have contributed their work.
URL:https://magpie.ae/event/last-chance-bygones/
LOCATION:NYUAD Project Space\, NYUAD Campus\, Saadiyat Island\, Abu Dhabi
CATEGORIES:Art,Exhibition
GEO:24.5302924;54.4451578
X-APPLE-STRUCTURED-LOCATION;VALUE=URI;X-ADDRESS=NYUAD Project Space NYUAD Campus Saadiyat Island Abu Dhabi;X-APPLE-RADIUS=500;X-TITLE=NYUAD Campus\, Saadiyat Island:geo:54.4451578,24.5302924
END:VEVENT
BEGIN:VEVENT
DTSTART;VALUE=DATE:20250116
DTEND;VALUE=DATE:20250117
DTSTAMP:20260422T101220
CREATED:20250116T132955Z
LAST-MODIFIED:20250116T132955Z
UID:10011242-1736985600-1737071999@magpie.ae
SUMMARY:Bygones
DESCRIPTION:What does it mean to come from a home that does not exist today? The artworks in this exhibition examine the idea of true foreigners – whose left-behind homes exist not only in a different place\, but also in a different time. Bygones was born out of a longing for community\, and reflects on the trials and tribulations of holding onto a homeland when one relates wholeheartedly to what it once was\, but what it is no longer. \nThis is a deeply personal exhibition for curator Anita Shishani\, who has included her own paintings\, weaving her voice into the dialogue visually. Artists Anastasia A\, Alla Abdunabi\, Aya Afaneh\, Houssam Ballan\, Bady Dalloul\, Hala El Abora\, Zaina El-Said\, Syed Hussain\, Diana Ishaqat\, Pouran Jinchi\, Anuar Khalifi\, Yoonsik Chico Park\, and Ansadat Zumsoy have contributed their work. \nTo 11 February. \nThere’s an accompanying public programme in the Art Gallery Reading Room: \n17 January 6.30pm Writing Workshop: How to Return as if You Never Left – Yesmine Abida\n21 January 630pm Curator Talk – Anita Shishani\n24 January 6.30pm Artist Talk – Aysha Hamkari\, The History of Circassian Dance\n4 February 6.30pm Poetry Writing Workshop – Aya Afaneh
URL:https://magpie.ae/event/bygones/
LOCATION:NYUAD Project Space\, NYUAD Campus\, Saadiyat Island\, Abu Dhabi
CATEGORIES:Art,Exhibition
GEO:24.5302924;54.4451578
X-APPLE-STRUCTURED-LOCATION;VALUE=URI;X-ADDRESS=NYUAD Project Space NYUAD Campus Saadiyat Island Abu Dhabi;X-APPLE-RADIUS=500;X-TITLE=NYUAD Campus\, Saadiyat Island:geo:54.4451578,24.5302924
END:VEVENT
BEGIN:VEVENT
DTSTART;VALUE=DATE:20240917
DTEND;VALUE=DATE:20240918
DTSTAMP:20260422T101220
CREATED:20240826T145153Z
LAST-MODIFIED:20240826T145153Z
UID:10010529-1726531200-1726617599@magpie.ae
SUMMARY:LAST CHANCE Susan Doe: Entwined
DESCRIPTION:The first Project Space exhibition of the new season features a series of paintings\, sculptures\, and installations through which Susan Doe explores ideas of intersectionality\, rooted in her own bicultural upbringing. Says the gallery: “Reflecting on her Chinese American background\, the artist blends together disparate elements to create something unexpected. Through this process\, she plays with illusions of materiality\, making metal threads appear soft and weaving paper to mimic large solid sculptures.”
URL:https://magpie.ae/event/last-chance-susan-doe-entwined/
LOCATION:NYUAD Project Space\, NYUAD Campus\, Saadiyat Island\, Abu Dhabi
CATEGORIES:Art,Exhibition
GEO:24.5302924;54.4451578
X-APPLE-STRUCTURED-LOCATION;VALUE=URI;X-ADDRESS=NYUAD Project Space NYUAD Campus Saadiyat Island Abu Dhabi;X-APPLE-RADIUS=500;X-TITLE=NYUAD Campus\, Saadiyat Island:geo:54.4451578,24.5302924
END:VEVENT
BEGIN:VEVENT
DTSTART;VALUE=DATE:20240815
DTEND;VALUE=DATE:20240816
DTSTAMP:20260422T101220
CREATED:20240826T145109Z
LAST-MODIFIED:20240826T145109Z
UID:10010528-1723680000-1723766399@magpie.ae
SUMMARY:Susan Doe: Entwined
DESCRIPTION:The first Project Space exhibition of the new season features a series of paintings\, sculptures\, and installations through which Susan Doe explores ideas of intersectionality\, rooted in her own bicultural upbringing. Says the gallery: “Reflecting on her Chinese American background\, the artist blends together disparate elements to create something unexpected. Through this process\, she plays with illusions of materiality\, making metal threads appear soft and weaving paper to mimic large solid sculptures.” To 17 September.
URL:https://magpie.ae/event/susan-doe-entwined/
LOCATION:NYUAD Project Space\, NYUAD Campus\, Saadiyat Island\, Abu Dhabi
CATEGORIES:Art,Exhibition
ATTACH;FMTTYPE=image/jpeg:https://magpie.ae/wp-content/uploads/2024/08/susan-doe.jpeg
GEO:24.5302924;54.4451578
X-APPLE-STRUCTURED-LOCATION;VALUE=URI;X-ADDRESS=NYUAD Project Space NYUAD Campus Saadiyat Island Abu Dhabi;X-APPLE-RADIUS=500;X-TITLE=NYUAD Campus\, Saadiyat Island:geo:54.4451578,24.5302924
END:VEVENT
BEGIN:VEVENT
DTSTART;VALUE=DATE:20240215
DTEND;VALUE=DATE:20240216
DTSTAMP:20260422T101220
CREATED:20240201T111843Z
LAST-MODIFIED:20240201T144635Z
UID:10007536-1707955200-1708041599@magpie.ae
SUMMARY:Chinasa Ezugha: The Narrow Path – Glossolalia in Public
DESCRIPTION:A performance film\, the second in a series of three performance projects by the artist in which the act of glossolalia — speaking in tongues — can be seen as a ceremonial performance. Transcending ordinary verbal communication\, it keys in on an event that focuses on ritualistic and symbolic aspects rather than the conveyance of conventional meaning. \nChinasa Ezugha is Assistant Arts Professor of Live Art/Art as Social Practice at NYU Abu Dhabi. \nTo 6 March. \n 
URL:https://magpie.ae/event/chinasa-ezugha-the-narrow-path-glossolalia-in-public/
LOCATION:NYUAD Project Space\, NYUAD Campus\, Saadiyat Island\, Abu Dhabi
CATEGORIES:Art
ATTACH;FMTTYPE=image/jpeg:https://magpie.ae/wp-content/uploads/2024/02/glossophilia.jpeg
GEO:24.5302924;54.4451578
X-APPLE-STRUCTURED-LOCATION;VALUE=URI;X-ADDRESS=NYUAD Project Space NYUAD Campus Saadiyat Island Abu Dhabi;X-APPLE-RADIUS=500;X-TITLE=NYUAD Campus\, Saadiyat Island:geo:54.4451578,24.5302924
END:VEVENT
BEGIN:VEVENT
DTSTART;VALUE=DATE:20240111
DTEND;VALUE=DATE:20240112
DTSTAMP:20260422T101220
CREATED:20240109T100318Z
LAST-MODIFIED:20240109T100318Z
UID:10007406-1704931200-1705017599@magpie.ae
SUMMARY:Being Borrowed: On Egyptian Migration to the Gulf
DESCRIPTION:An exhibition featuring 21 Egyptian artists and curated by Farah Hallaba\, Farida Youssef\, and Ali Zaaray. It’s the result of an collaboration that was first presented in Cairo in 2022 and brings the authors of this project together with research by NYUAD faculty Laure Assaf on second-generation Arab migrants in Abu Dhabi. \nBeing Borrowed is part of a larger aim to produce accessible knowledge that invites people to question and to feel. Migration and its effects – on families\, affects\, homes – is a widely shared experience; there is much to gain by opening the doors of knowledge production beyond academia\, and inviting the public to take part in this process. \nThis project is funded by the NYUAD Arts and Humanities Research Kitchen Al Mashhad initiative. To 7 February.
URL:https://magpie.ae/event/being-borrowed-on-egyptian-migration-to-the-gulf/
LOCATION:NYUAD Project Space\, NYUAD Campus\, Saadiyat Island\, Abu Dhabi
CATEGORIES:Art,Exhibition
GEO:24.5302924;54.4451578
X-APPLE-STRUCTURED-LOCATION;VALUE=URI;X-ADDRESS=NYUAD Project Space NYUAD Campus Saadiyat Island Abu Dhabi;X-APPLE-RADIUS=500;X-TITLE=NYUAD Campus\, Saadiyat Island:geo:54.4451578,24.5302924
END:VEVENT
BEGIN:VEVENT
DTSTART;VALUE=DATE:20231109
DTEND;VALUE=DATE:20231110
DTSTAMP:20260422T101220
CREATED:20231106T141856Z
LAST-MODIFIED:20231106T141856Z
UID:10005750-1699488000-1699574399@magpie.ae
SUMMARY:Janet Bellotto: Salted Edges #islandparadise
DESCRIPTION:Janet Bellotto – artist and Professor of Visual Arts at ZU’s College of Arts and Creative Enterprises– has been studying islands as both geography and metaphor for more than a decade. In Salted Edges #islandparadise she explores the concept of liminal space\, where islands mark the threshold between two terrains. Her exhibition centres on two islands\,Sir Bani Yas off Abu Dhabi and Canada’s Sable Island in the North Atlantic\, positioning photographs\, videos\, sculptures\, and found objects within the context of climate change\, adaptation\, survival\, and deluge\, encouraging visitors to contemplate the urgent issues of our time. \nTo 26 November.
URL:https://magpie.ae/event/janet-bellotto-salted-edges-islandparadise/
LOCATION:NYUAD Project Space\, NYUAD Campus\, Saadiyat Island\, Abu Dhabi
CATEGORIES:Art,Exhibition
ATTACH;FMTTYPE=image/jpeg:https://magpie.ae/wp-content/uploads/2023/11/bellotto.jpeg
GEO:24.5302924;54.4451578
X-APPLE-STRUCTURED-LOCATION;VALUE=URI;X-ADDRESS=NYUAD Project Space NYUAD Campus Saadiyat Island Abu Dhabi;X-APPLE-RADIUS=500;X-TITLE=NYUAD Campus\, Saadiyat Island:geo:54.4451578,24.5302924
END:VEVENT
BEGIN:VEVENT
DTSTART;VALUE=DATE:20230831
DTEND;VALUE=DATE:20230901
DTSTAMP:20260422T101220
CREATED:20230830T131957Z
LAST-MODIFIED:20230830T132018Z
UID:10005114-1693440000-1693526399@magpie.ae
SUMMARY:Brídín Clements Cotton and Michael Shiloh: Your Message Could Not Be Delivered
DESCRIPTION:Works by artist\, engineer\, and NYUAD Associate Professor of Practice of Interactive Media Michael Shiloh; and artist\, performing arts manager\, and NYUAD Arts Instructor of Stage and Project Management Brídín Clements Cotton. \nWhat systems do we rely on daily? How does this reliance shape our relationships with each other? With the system? Does the mode of communication influence our tone? Does it impact what we share? The exhibition promises “an opportunity for UAE audiences to engage with the hidden world of the systems we rely on daily to communicate with one another …” Essentially it’s a participatory installation\, with visitors invited to come prepared to work with tools and get their hands dirty\, and also to bring along their own written correspondences– postcards\, letters\, and emails\, as they become a part of the ever-evolving exhibit. \nThis exhibition includes a collection of original archival documents from the NYUAD Library’s Archives and Special Collections Department. \nTo 5 September.
URL:https://magpie.ae/event/bridin-clements-cotton-and-michael-shiloh-your-message-could-not-be-delivered/
LOCATION:NYUAD Project Space\, NYUAD Campus\, Saadiyat Island\, Abu Dhabi
CATEGORIES:Art,Exhibition
GEO:24.5302924;54.4451578
X-APPLE-STRUCTURED-LOCATION;VALUE=URI;X-ADDRESS=NYUAD Project Space NYUAD Campus Saadiyat Island Abu Dhabi;X-APPLE-RADIUS=500;X-TITLE=NYUAD Campus\, Saadiyat Island:geo:54.4451578,24.5302924
END:VEVENT
BEGIN:VEVENT
DTSTART;VALUE=DATE:20230601
DTEND;VALUE=DATE:20230602
DTSTAMP:20260422T101220
CREATED:20230525T130007Z
LAST-MODIFIED:20230525T130104Z
UID:10004610-1685577600-1685663999@magpie.ae
SUMMARY:Talal Al Najjar\, Ziad Al Najjar: Symbiotic Hyperreal
DESCRIPTION:This exhibition marks the first duo show for Emirati brothers Talal Al Najjar and Ziad Al Najjar. They each maintain a distinct individual artistic practice\, but developed in close proximity to one another; and both draw upon their relationship to their surroundings\, particularly Dubai\, where they grew up. \nViewed together\, the works of Talal and Ziad create a quality of simulation\, unrealness\, or hyperreality (the inability to distinguish from a simulation of reality). From the moment that the viewer enters the space\, they are watching\, but there is also a sense of being watched. \nTo 14 June. \nThis exhibition is curated by Tala Nassar; it marks Nassar’s final project at The NYUAD Art Gallery\, before departing to pursue graduate study at the School of the Art Institute of Chicago.
URL:https://magpie.ae/event/talal-al-najjar-ziad-al-najjar-symbiotic-hyperreal/
LOCATION:NYUAD Project Space\, NYUAD Campus\, Saadiyat Island\, Abu Dhabi
CATEGORIES:Art,Exhibition
ATTACH;FMTTYPE=image/png:https://magpie.ae/wp-content/uploads/2023/05/Symbiotic-Hyperreal.png
GEO:24.5302924;54.4451578
X-APPLE-STRUCTURED-LOCATION;VALUE=URI;X-ADDRESS=NYUAD Project Space NYUAD Campus Saadiyat Island Abu Dhabi;X-APPLE-RADIUS=500;X-TITLE=NYUAD Campus\, Saadiyat Island:geo:54.4451578,24.5302924
END:VEVENT
END:VCALENDAR