BEGIN:VCALENDAR
VERSION:2.0
PRODID:-//magpie - ECPv6.15.20//NONSGML v1.0//EN
CALSCALE:GREGORIAN
METHOD:PUBLISH
X-ORIGINAL-URL:https://magpie.ae
X-WR-CALDESC:Events for magpie
REFRESH-INTERVAL;VALUE=DURATION:PT1H
X-Robots-Tag:noindex
X-PUBLISHED-TTL:PT1H
BEGIN:VTIMEZONE
TZID:Asia/Dubai
BEGIN:STANDARD
TZOFFSETFROM:+0400
TZOFFSETTO:+0400
TZNAME:+04
DTSTART:20230101T000000
END:STANDARD
END:VTIMEZONE
BEGIN:VEVENT
DTSTART;VALUE=DATE:20240731
DTEND;VALUE=DATE:20240801
DTSTAMP:20260421T152554
CREATED:20240603T101310Z
LAST-MODIFIED:20240603T101310Z
UID:10009536-1722384000-1722470399@magpie.ae
SUMMARY:LAST CHANCE ChefBurger: Journey Through the Arts – From Tokyo to Paris
DESCRIPTION:A collection of digital and painted art from ChefBurger (aka Mano Gonzalez) that “offers a unique opportunity to experience the convergence of diverse cultures through compelling portraits\, French masterpieces\, and a profound reverence for nature”. Included is a new series of eight paintings\, TreesArt to the World\, which promotes environmental stewardship.
URL:https://magpie.ae/event/last-chance-chefburger-journey-through-the-arts-from-tokyo-to-paris/
LOCATION:ME Dubai\, The Opus by Omniyat\, Al Amal Street\, Business Bay\, Dubai
CATEGORIES:Art,Exhibition
GEO:25.188685;55.267073
X-APPLE-STRUCTURED-LOCATION;VALUE=URI;X-ADDRESS=ME Dubai The Opus by Omniyat Al Amal Street Business Bay Dubai;X-APPLE-RADIUS=500;X-TITLE=The Opus by Omniyat\, Al Amal Street\, Business Bay:geo:55.267073,25.188685
END:VEVENT
BEGIN:VEVENT
DTSTART;VALUE=DATE:20240606
DTEND;VALUE=DATE:20240607
DTSTAMP:20260421T152554
CREATED:20240603T101226Z
LAST-MODIFIED:20240603T101226Z
UID:10009535-1717632000-1717718399@magpie.ae
SUMMARY:ChefBurger: Journey Through the Arts – From Tokyo to Paris
DESCRIPTION:A collection of digital and painted art from ChefBurger (aka Mano Gonzalez) that “offers a unique opportunity to experience the convergence of diverse cultures through compelling portraits\, French masterpieces\, and a profound reverence for nature”. Included is a new series of eight paintings\, TreesArt to the World\, which promotes environmental stewardship. To 31 July.
URL:https://magpie.ae/event/chefburger-journey-through-the-arts-from-tokyo-to-paris/
LOCATION:ME Dubai\, The Opus by Omniyat\, Al Amal Street\, Business Bay\, Dubai
CATEGORIES:Art,Exhibition
GEO:25.188685;55.267073
X-APPLE-STRUCTURED-LOCATION;VALUE=URI;X-ADDRESS=ME Dubai The Opus by Omniyat Al Amal Street Business Bay Dubai;X-APPLE-RADIUS=500;X-TITLE=The Opus by Omniyat\, Al Amal Street\, Business Bay:geo:55.267073,25.188685
END:VEVENT
BEGIN:VEVENT
DTSTART;VALUE=DATE:20240516
DTEND;VALUE=DATE:20240517
DTSTAMP:20260421T152554
CREATED:20240416T083036Z
LAST-MODIFIED:20240416T083116Z
UID:10008979-1715817600-1715903999@magpie.ae
SUMMARY:LAST CHANCE Elena Butko and Jasbir Saggu
DESCRIPTION:The chance to exhibit in an undeniable architectural icon designed by a starchitect (and priced to attract HNIs) doesn’t come along every day. ME Dubai’s Cultural Connections programme for the spring features vivid abstracts by Elena Butko and “multidimensional landscapes of the imagination” by Jasbir Saggu in the hotel’s third floor atrium.
URL:https://magpie.ae/event/last-chance-elena-butko-and-jasbir-saggu/
LOCATION:ME Dubai\, The Opus by Omniyat\, Al Amal Street\, Business Bay\, Dubai
CATEGORIES:Art,Exhibition
GEO:25.188685;55.267073
X-APPLE-STRUCTURED-LOCATION;VALUE=URI;X-ADDRESS=ME Dubai The Opus by Omniyat Al Amal Street Business Bay Dubai;X-APPLE-RADIUS=500;X-TITLE=The Opus by Omniyat\, Al Amal Street\, Business Bay:geo:55.267073,25.188685
END:VEVENT
BEGIN:VEVENT
DTSTART;VALUE=DATE:20240425
DTEND;VALUE=DATE:20240426
DTSTAMP:20260421T152554
CREATED:20240416T083000Z
LAST-MODIFIED:20240422T142336Z
UID:10008978-1714003200-1714089599@magpie.ae
SUMMARY:Elena Butko and Jasbir Saggu
DESCRIPTION:The chance to exhibit in an undeniable architectural icon designed by a starchitect (and priced to attract HNIs) doesn’t come along every day. ME Dubai’s Cultural Connections programme for the spring features vivid abstracts by Elena Butko and “multidimensional landscapes of the imagination” by Jasbir Saggu in the hotel’s third floor atrium. To 16 May.
URL:https://magpie.ae/event/elena-butko-and-jasbir-saggu/
LOCATION:ME Dubai\, The Opus by Omniyat\, Al Amal Street\, Business Bay\, Dubai
CATEGORIES:Art,Exhibition
GEO:25.188685;55.267073
X-APPLE-STRUCTURED-LOCATION;VALUE=URI;X-ADDRESS=ME Dubai The Opus by Omniyat Al Amal Street Business Bay Dubai;X-APPLE-RADIUS=500;X-TITLE=The Opus by Omniyat\, Al Amal Street\, Business Bay:geo:55.267073,25.188685
END:VEVENT
END:VCALENDAR