BEGIN:VCALENDAR
VERSION:2.0
PRODID:-//magpie - ECPv6.15.20//NONSGML v1.0//EN
CALSCALE:GREGORIAN
METHOD:PUBLISH
X-ORIGINAL-URL:https://magpie.ae
X-WR-CALDESC:Events for magpie
REFRESH-INTERVAL;VALUE=DURATION:PT1H
X-Robots-Tag:noindex
X-PUBLISHED-TTL:PT1H
BEGIN:VTIMEZONE
TZID:Asia/Dubai
BEGIN:STANDARD
TZOFFSETFROM:+0400
TZOFFSETTO:+0400
TZNAME:+04
DTSTART:20240101T000000
END:STANDARD
END:VTIMEZONE
BEGIN:VEVENT
DTSTART;VALUE=DATE:20251017
DTEND;VALUE=DATE:20251018
DTSTAMP:20260422T061708
CREATED:20251008T153007Z
LAST-MODIFIED:20251029T072717Z
UID:10012884-1760659200-1760745599@magpie.ae
SUMMARY:Of Land and Water: Works from the Sharjah Art Foundation Collection
DESCRIPTION:How do borders and ideologies attempt to contain open stretches of land and water\, and segregate those who inhabit them? What ties us to a place\, and what severs us from it? Which ways of living and knowledge can move freely across borders\, unbound by race and political ideas like the winds and tides? \nOf Land and Water brings together works by nine artists and collectives from around the world that grapple with some of these questions\, offering different perspectives on our association with and relationship to land\, water and homeland. \nThe exhibition is curated by Jiwon Lee\, Head of Curatorial\, and Abdulla Aljanahi and Amal Al Ali\, Curatorial Assistants\, with Souraya Kreidieh and Shahd Murshed from the Collection Department\, Sharjah Art Foundation. \nTo 31 May. \nAbove: John Akomfrah\, Vertigo Sea (2015\, still) \n 
URL:https://magpie.ae/event/of-land-and-water-works-from-the-sharjah-art-foundation-collection/
LOCATION:Kalba Ice Factory\, Al Gurm\, Kalba\, Sharjah
CATEGORIES:Exhibition,Photography
ATTACH;FMTTYPE=image/webp:https://magpie.ae/wp-content/uploads/2025/10/of-land-and-water.webp
GEO:25.0518688;56.3538633
X-APPLE-STRUCTURED-LOCATION;VALUE=URI;X-ADDRESS=Kalba Ice Factory Al Gurm Kalba Sharjah;X-APPLE-RADIUS=500;X-TITLE=Al Gurm\, Kalba:geo:56.3538633,25.0518688
END:VEVENT
END:VCALENDAR