BEGIN:VCALENDAR
VERSION:2.0
PRODID:-//magpie - ECPv6.15.20//NONSGML v1.0//EN
CALSCALE:GREGORIAN
METHOD:PUBLISH
X-ORIGINAL-URL:https://magpie.ae
X-WR-CALDESC:Events for magpie
REFRESH-INTERVAL;VALUE=DURATION:PT1H
X-Robots-Tag:noindex
X-PUBLISHED-TTL:PT1H
BEGIN:VTIMEZONE
TZID:Asia/Dubai
BEGIN:STANDARD
TZOFFSETFROM:+0400
TZOFFSETTO:+0400
TZNAME:+04
DTSTART:20240101T000000
END:STANDARD
END:VTIMEZONE
BEGIN:VEVENT
DTSTART;VALUE=DATE:20250420
DTEND;VALUE=DATE:20250421
DTSTAMP:20260419T234339
CREATED:20250415T084944Z
LAST-MODIFIED:20250415T084944Z
UID:10011938-1745107200-1745193599@magpie.ae
SUMMARY:The Little Mermaid
DESCRIPTION:The last chance to catch the return of H2 productions and the Dubai Panto team with their adaptation of Hans Christian Andersen’s well-loved tale of the mermaid who yearns for a life above the waves – only to be ensnared by the wicked sea witch Hysteria\, who steals her voice in exchange for the chance to pursue true love with the charming Prince Frederick. \nThere are shows at 10.30am and 2.30pm.
URL:https://magpie.ae/event/the-little-mermaid-2/
LOCATION:Jumeirah Beach Hotel\, Dubai
CATEGORIES:Family/kids,Musical
END:VEVENT
BEGIN:VEVENT
DTSTART;VALUE=DATE:20250419
DTEND;VALUE=DATE:20250420
DTSTAMP:20260419T234339
CREATED:20250415T084823Z
LAST-MODIFIED:20250415T084823Z
UID:10011937-1745020800-1745107199@magpie.ae
SUMMARY:The Little Mermaid
DESCRIPTION:H2 productions and the Dubai Panto team return to Jumeirah Beach Hotel with their unique adaptation of Hans Christian Andersen’s well-loved tale of the mermaid who yearns for a life above the waves – only to be ensnared by the wicked sea witch Hysteria\, who steals her voice in exchange for the chance to pursue true love with the charming Prince Frederick. \nThere are shows at 10.30am and 2.30pm\, repeated on 20 April.
URL:https://magpie.ae/event/the-little-mermaid/
LOCATION:Jumeirah Beach Hotel\, Dubai
CATEGORIES:Family/kids,Musical
END:VEVENT
END:VCALENDAR