BEGIN:VCALENDAR
VERSION:2.0
PRODID:-//magpie - ECPv6.15.20//NONSGML v1.0//EN
CALSCALE:GREGORIAN
METHOD:PUBLISH
X-ORIGINAL-URL:https://magpie.ae
X-WR-CALDESC:Events for magpie
REFRESH-INTERVAL;VALUE=DURATION:PT1H
X-Robots-Tag:noindex
X-PUBLISHED-TTL:PT1H
BEGIN:VTIMEZONE
TZID:Asia/Dubai
BEGIN:STANDARD
TZOFFSETFROM:+0400
TZOFFSETTO:+0400
TZNAME:+04
DTSTART:20230101T000000
END:STANDARD
END:VTIMEZONE
BEGIN:VEVENT
DTSTART;TZID=Asia/Dubai:20250713T190000
DTEND;TZID=Asia/Dubai:20250713T220000
DTSTAMP:20260421T211233
CREATED:20250708T132952Z
LAST-MODIFIED:20250708T134240Z
UID:10012606-1752433200-1752444000@magpie.ae
SUMMARY:Pinoy Comedy in Abu Dhabi
DESCRIPTION:Three good UAE-based Filipino comedians at a very pleasant venue – Ahmad Kasid\, Joshua\, and the irrepressible Imah Dumagay.
URL:https://magpie.ae/event/pinoy-comedy-in-abu-dhabi/
LOCATION:Jazz Bar\, Radisson Blu\, Corniche\, Abu Dhabi
CATEGORIES:Comedy
GEO:24.4629006;54.3257142
X-APPLE-STRUCTURED-LOCATION;VALUE=URI;X-ADDRESS=Jazz Bar Radisson Blu Corniche Abu Dhabi;X-APPLE-RADIUS=500;X-TITLE=Radisson Blu\, Corniche:geo:54.3257142,24.4629006
END:VEVENT
BEGIN:VEVENT
DTSTART;TZID=Asia/Dubai:20240525T200000
DTEND;TZID=Asia/Dubai:20240525T220000
DTSTAMP:20260421T211233
CREATED:20240510T094912Z
LAST-MODIFIED:20240510T094912Z
UID:10009474-1716667200-1716674400@magpie.ae
SUMMARY:Phunny Filipinos
DESCRIPTION:Pinoy standup for Abu Dhabi Comedy Week from Ahmed Kasid\, Joshua-John Dias and the ever-reliable Imah Dumagay.
URL:https://magpie.ae/event/phunny-filipinos/
LOCATION:Jazz Bar\, Radisson Blu\, Corniche\, Abu Dhabi
CATEGORIES:Comedy
GEO:24.4629006;54.3257142
X-APPLE-STRUCTURED-LOCATION;VALUE=URI;X-ADDRESS=Jazz Bar Radisson Blu Corniche Abu Dhabi;X-APPLE-RADIUS=500;X-TITLE=Radisson Blu\, Corniche:geo:54.3257142,24.4629006
END:VEVENT
END:VCALENDAR