BEGIN:VCALENDAR
VERSION:2.0
PRODID:-//magpie - ECPv6.15.20//NONSGML v1.0//EN
CALSCALE:GREGORIAN
METHOD:PUBLISH
X-WR-CALNAME:magpie
X-ORIGINAL-URL:https://magpie.ae
X-WR-CALDESC:Events for magpie
REFRESH-INTERVAL;VALUE=DURATION:PT1H
X-Robots-Tag:noindex
X-PUBLISHED-TTL:PT1H
BEGIN:VTIMEZONE
TZID:Asia/Dubai
BEGIN:STANDARD
TZOFFSETFROM:+0400
TZOFFSETTO:+0400
TZNAME:+04
DTSTART:20230101T000000
END:STANDARD
END:VTIMEZONE
BEGIN:VEVENT
DTSTART;VALUE=DATE:20240210
DTEND;VALUE=DATE:20240211
DTSTAMP:20260424T192715
CREATED:20240207T081708Z
LAST-MODIFIED:20240207T170555Z
UID:10008362-1707523200-1707609599@magpie.ae
SUMMARY:Naser Al Sughaiyer: Lisan
DESCRIPTION:A semi-fictional sound-walk in the Jaddaf Waterfront Sculpture Park\, departing from the Jameel and following the Dubai Creek along the Jaddaf waterfront. It is an immersive and interactive experience narrated by a 12-year-old girl\, leading audiences through contrasting natural and urban landscapes\, bringing to light the many lives of the creek and its human and more-than-human inhabitants. The result is a meditation on ecological care\, bringing together the creek’s acoustic ecologies and prompting listeners to engage with the sensory overstimulation that is a hallmark of contemporary living. \nUse headphones for the full experience. You can take the walk at any time\, but the time window from 4 pm until sunset is recommended. \nLisan is curated by Nadine El khoury for the Jameel\, performed by Aikaterini Bikou\, sound-designed by Joe Najm\, “and channelled in collaboration with the creek\, birds\, fish\, feet\, bridges\, cars\, airplanes\, and the countless more-than-human kin of Al Jaddaf Waterfront”. \n  \n  \n 
URL:https://magpie.ae/event/naser-al-sughaiyer-lisan/
LOCATION:Jaddaf Waterfront Sculpture Park\, Jameel Arts Centre\, Dubai
CATEGORIES:Sound art
GEO:25.2290425;55.3403969
X-APPLE-STRUCTURED-LOCATION;VALUE=URI;X-ADDRESS=Jaddaf Waterfront Sculpture Park Jameel Arts Centre Dubai;X-APPLE-RADIUS=500;X-TITLE=Jameel Arts Centre:geo:55.3403969,25.2290425
END:VEVENT
END:VCALENDAR