BEGIN:VCALENDAR
VERSION:2.0
PRODID:-//magpie - ECPv6.15.20//NONSGML v1.0//EN
CALSCALE:GREGORIAN
METHOD:PUBLISH
X-ORIGINAL-URL:https://magpie.ae
X-WR-CALDESC:Events for magpie
REFRESH-INTERVAL;VALUE=DURATION:PT1H
X-Robots-Tag:noindex
X-PUBLISHED-TTL:PT1H
BEGIN:VTIMEZONE
TZID:Asia/Dubai
BEGIN:STANDARD
TZOFFSETFROM:+0400
TZOFFSETTO:+0400
TZNAME:+04
DTSTART:20250101T000000
END:STANDARD
END:VTIMEZONE
BEGIN:VEVENT
DTSTART;VALUE=DATE:20260430
DTEND;VALUE=DATE:20260501
DTSTAMP:20260420T190345
CREATED:20260120T155204Z
LAST-MODIFIED:20260120T155204Z
UID:10013336-1777507200-1777593599@magpie.ae
SUMMARY:LAST CHANCE Shamsa Al Omaira: Hard Like Tears\, Soft Like Glass
DESCRIPTION:A solo exhibition for Shamsa Al Omaira\, an Abu Dhabi based multidisciplinary artist and designer. Evocations of duality occupy a prominent position in her work; childhood bedding and memories of jelly desserts morph into soft-looking sculptures laced with hidden or overt symbols of harm in ceramic and glass shards. How precarious is childhood? \nAs part of the gallery’s programme\, Al Omaira was mentored by UAE-based curator and art critic Nadine Khalil over the last year\, resulting in a development of her practice and experimentation with new mediums\, including woodwork\, stitching and installation works.
URL:https://magpie.ae/event/last-chance-shamsa-al-omaira-hard-like-tears-soft-like-glass/
LOCATION:Iris Projects\, Studio 20\, Madar 39\, MiZa\, Port Zayed\, Abu Dhabi\, United Arab Emirates
CATEGORIES:Art,Exhibition
GEO:24.5191728;54.3681885
X-APPLE-STRUCTURED-LOCATION;VALUE=URI;X-ADDRESS=Iris Projects Studio 20 Madar 39 MiZa Port Zayed Abu Dhabi United Arab Emirates;X-APPLE-RADIUS=500;X-TITLE=Studio 20\, Madar 39\, MiZa\, Port Zayed:geo:54.3681885,24.5191728
END:VEVENT
END:VCALENDAR