BEGIN:VCALENDAR
VERSION:2.0
PRODID:-//magpie - ECPv6.15.20//NONSGML v1.0//EN
CALSCALE:GREGORIAN
METHOD:PUBLISH
X-ORIGINAL-URL:https://magpie.ae
X-WR-CALDESC:Events for magpie
REFRESH-INTERVAL;VALUE=DURATION:PT1H
X-Robots-Tag:noindex
X-PUBLISHED-TTL:PT1H
BEGIN:VTIMEZONE
TZID:Asia/Dubai
BEGIN:STANDARD
TZOFFSETFROM:+0400
TZOFFSETTO:+0400
TZNAME:+04
DTSTART:20250101T000000
END:STANDARD
END:VTIMEZONE
BEGIN:VEVENT
DTSTART;VALUE=DATE:20260520
DTEND;VALUE=DATE:20260521
DTSTAMP:20260422T071719
CREATED:20260401T152118Z
LAST-MODIFIED:20260401T152118Z
UID:10013587-1779235200-1779321599@magpie.ae
SUMMARY:LAST CHANCE Collector’s Entry Point
DESCRIPTION:A group show of works by emerging\, mid-career and established artists priced at $3\,000 and below\, conceived as an accessible entry into collecting “whether you’re just starting or looking to expand your collection with thoughtful additions”. The artists: \nAhmad Kasha\nAhmad Moualla\nAntoine Deeb\nArda Aslanian\nJude Maharmeh\nLynn Issa\nKhaled Jarada\nMajd Kurdieh\nMayar Obeido\nOmran Younis\nRabee Kiwan \n 
URL:https://magpie.ae/event/last-chance-collectors-entry-point/
LOCATION:Fann à Porter\, The Workshop\, Villa 45\, St. 23b\, off Al Wasl Road (opposite Box Park)\, Jumeirah 2\, Dubai
CATEGORIES:Art,Exhibition
GEO:25.1966736;55.2461631
X-APPLE-STRUCTURED-LOCATION;VALUE=URI;X-ADDRESS=Fann à Porter The Workshop Villa 45 St. 23b off Al Wasl Road (opposite Box Park) Jumeirah 2 Dubai;X-APPLE-RADIUS=500;X-TITLE=The Workshop\, Villa 45\, St. 23b\, off Al Wasl Road (opposite Box Park)\, Jumeirah 2:geo:55.2461631,25.1966736
END:VEVENT
END:VCALENDAR