BEGIN:VCALENDAR
VERSION:2.0
PRODID:-//magpie - ECPv6.15.20//NONSGML v1.0//EN
CALSCALE:GREGORIAN
METHOD:PUBLISH
X-ORIGINAL-URL:https://magpie.ae
X-WR-CALDESC:Events for magpie
REFRESH-INTERVAL;VALUE=DURATION:PT1H
X-Robots-Tag:noindex
X-PUBLISHED-TTL:PT1H
BEGIN:VTIMEZONE
TZID:Asia/Dubai
BEGIN:STANDARD
TZOFFSETFROM:+0400
TZOFFSETTO:+0400
TZNAME:+04
DTSTART:20250101T000000
END:STANDARD
END:VTIMEZONE
BEGIN:VEVENT
DTSTART;VALUE=DATE:20260509
DTEND;VALUE=DATE:20260510
DTSTAMP:20260421T230719
CREATED:20260113T095919Z
LAST-MODIFIED:20260415T110719Z
UID:10013268-1778284800-1778371199@magpie.ae
SUMMARY:LAST CHANCE Aïda Muluneh: This Bloom I Borrow
DESCRIPTION:A new series of images by the Ethiopian art photographer\, her second solo exhibition at the gallery. The show includes 10 works that have never been seen before. \nMuluneh has been a distinctive voice in contemporary photography throughout her 25-year career; her vivid\, carefully staged photographs of painted figures in surreal settings draw on African iconography\, architecture and textiles to create narratives that blur the boundaries between photography\, painting and performance. Muluneh has developed an experimental process that bridges photography\, silkscreen printing and hand-painting to transform photographs into unique\, painterly objects. \nThe works are characterised by bold geometric compositions and recurring symbols such as eyes\, keys\, masks\, flowers\, and ancestral motifs\, mostly rendered in striking primary colours. They continue Muluneh’s ongoing enquiry into ideas of identity\, womanhood and heritage through a lens of material experimentation. \n 
URL:https://magpie.ae/event/last-chance-aida-muluneh-this-bloom-i-borrow-2/
LOCATION:Efiɛ Gallery\, 2 Al Khayat Art Avenue\, First Al Khail Street\, Dubai
CATEGORIES:Art,Exhibition
GEO:25.1399294;55.2285748
X-APPLE-STRUCTURED-LOCATION;VALUE=URI;X-ADDRESS=Efiɛ Gallery 2 Al Khayat Art Avenue First Al Khail Street Dubai;X-APPLE-RADIUS=500;X-TITLE=2 Al Khayat Art Avenue\, First Al Khail Street:geo:55.2285748,25.1399294
END:VEVENT
BEGIN:VEVENT
DTSTART;VALUE=DATE:20260516
DTEND;VALUE=DATE:20260517
DTSTAMP:20260421T230719
CREATED:20260203T131414Z
LAST-MODIFIED:20260203T132005Z
UID:10013387-1778889600-1778975999@magpie.ae
SUMMARY:LAST CHANCE Maggie Otieno: Sojourner – The Difference Is the Same
DESCRIPTION:Otieno’s first solo presentation with Efie centres on her signature transformation of reclaimed and distressed materials. Working across wood\, metal\, and mixed media\, her semi-abstract forms explore layered narratives of history\, memory\, human interaction\, and environmental survival.
URL:https://magpie.ae/event/last-chance-maggie-otieno-sojourner-the-difference-is-the-same/
LOCATION:Efiɛ Gallery\, 2 Al Khayat Art Avenue\, First Al Khail Street\, Dubai
CATEGORIES:Art,Exhibition
GEO:25.1399294;55.2285748
X-APPLE-STRUCTURED-LOCATION;VALUE=URI;X-ADDRESS=Efiɛ Gallery 2 Al Khayat Art Avenue First Al Khail Street Dubai;X-APPLE-RADIUS=500;X-TITLE=2 Al Khayat Art Avenue\, First Al Khail Street:geo:55.2285748,25.1399294
END:VEVENT
END:VCALENDAR