BEGIN:VCALENDAR
VERSION:2.0
PRODID:-//magpie - ECPv6.15.20//NONSGML v1.0//EN
CALSCALE:GREGORIAN
METHOD:PUBLISH
X-ORIGINAL-URL:https://magpie.ae
X-WR-CALDESC:Events for magpie
REFRESH-INTERVAL;VALUE=DURATION:PT1H
X-Robots-Tag:noindex
X-PUBLISHED-TTL:PT1H
BEGIN:VTIMEZONE
TZID:Asia/Dubai
BEGIN:STANDARD
TZOFFSETFROM:+0400
TZOFFSETTO:+0400
TZNAME:+04
DTSTART:20250101T000000
END:STANDARD
END:VTIMEZONE
BEGIN:VEVENT
DTSTART;VALUE=DATE:20260425
DTEND;VALUE=DATE:20260426
DTSTAMP:20260422T033622
CREATED:20260421T114951Z
LAST-MODIFIED:20260421T114951Z
UID:10013650-1777075200-1777161599@magpie.ae
SUMMARY:Déjà Vu
DESCRIPTION:Described as “the UAE’s first collaborative gallery exhibition”\, this 14-day selling show features more than 50 artists represented by 20 of the UAE’s leading contemporary art galleries. \nThe intention is to provide a commercial opportunity for the galleries\, which have been impacted by current events. The exhibition has been curated\, however\, and is themed: it “unpacks the incongruity and inanity of repeated cycles in three streams — the uncanny as it presents in historical mismatching and memory glitches; historical absurdity; and linguistic slippage”. \n‘The uncanny’ aims to examine the surrealism that pervades moments of ‘déjà vu’\, looking into the gap between the real and the perceived\, the conscious and the imagined. \n‘Historical absurdity’ explores Karl Marx’s classic assertion that history repeats itself “first as tragedy\, second as farce”. Specifically\, the show considers the geopolitical tensions faced by people here\, and how their memories are altered in the face of new struggles – “often experienced as glitched familiarity or mis-memory”. \nAnd ‘Linguistic slippage’ looks at how language becomes an unreliable tool for correspondence\, connection\, and factual record in the face of conflicting narratives\, “leaving the foundations of communication unstable and untrustworthy”. \nThe featured artists include Samira Abbassy\, Sadik Alfraiji\, Nabil Anani\, Ammar Al Attar\, Mirna Bamieh\, Lubna Choudhary\, Samuel Fosso\, Anahita Razmi\, Larissa Sansour\, Mithu Sen\, Seher Shah\, Slavs and Tartars\, Lantian Xie\, and Raed Yassin. \nParticipating galleries: Gallery Isabelle\, The Third Line\, Green Art Gallery\, Lawrie Shabibi\, Ayyam Gallery\, Carbon12\, 1×1 Art Gallery\, Grey Noise\, Zawyeh Gallery\, Efie Gallery\, Taymour Grahne Projects\, Aisha Alabbar Gallery\, Waddington Custot\, Leila Heller Gallery Dubai\, Firetti Contemporary\, Satellite\, Iris Projects\, NIKA Project Space\, Tabari Artspace\, and Total Arts. \nThe exhibition has been curated by Kevin Jones\, Artistic Director at Alserkal; Nada Raza\, Director of Alserkal Arts Foundation; and Zaina Zaarour\, Curator & Manager of Programmes at Alserkal Avenue. \nTo 8 May. \nAbove: Amir Khojasteh\, A Man\, Burning (2023: image courtesy of Carbon12 and the artist). Below: Farah Al Qasimi\, A’s Reflection (2019: image courtesy of The Third Line and the artist)
URL:https://magpie.ae/event/deja-vu/
LOCATION:Concrete\, Alserkal Avenue\, Dubai
CATEGORIES:Art,Exhibition
ATTACH;FMTTYPE=image/webp:https://magpie.ae/wp-content/uploads/2026/04/5_Amir-khojastehAK-A-Man-Burning-N2-Oil-on-canvas-200x180cm-2023.jpg.webp
GEO:25.1431157;55.2246127
X-APPLE-STRUCTURED-LOCATION;VALUE=URI;X-ADDRESS=Concrete Alserkal Avenue Dubai;X-APPLE-RADIUS=500;X-TITLE=Alserkal Avenue:geo:55.2246127,25.1431157
END:VEVENT
BEGIN:VEVENT
DTSTART;VALUE=DATE:20260508
DTEND;VALUE=DATE:20260509
DTSTAMP:20260422T033622
CREATED:20260421T115111Z
LAST-MODIFIED:20260421T115131Z
UID:10013651-1778198400-1778284799@magpie.ae
SUMMARY:LAST CHANCE Déjà Vu
DESCRIPTION:Described as “the UAE’s first collaborative gallery exhibition”\, this 14-day selling show features more than 50 artists represented by 20 of the UAE’s leading contemporary art galleries. \nThe intention is to provide a commercial opportunity for the galleries\, which have been impacted by current events. The exhibition has been curated\, however\, and is themed: it “unpacks the incongruity and inanity of repeated cycles in three streams — the uncanny as it presents in historical mismatching and memory glitches; historical absurdity; and linguistic slippage”. The featured artists include Samira Abbassy\, Sadik Alfraiji\, Nabil Anani\, Ammar Al Attar\, Mirna Bamieh\, Lubna Choudhary\, Samuel Fosso\, Anahita Razmi\, Larissa Sansour\, Mithu Sen\, Seher Shah\, Slavs and Tartars\, Lantian Xie\, and Raed Yassin. \nParticipating galleries: Gallery Isabelle\, The Third Line\, Green Art Gallery\, Lawrie Shabibi\, Ayyam Gallery\, Carbon12\, 1×1 Art Gallery\, Grey Noise\, Zawyeh Gallery\, Efie Gallery\, Taymour Grahne Projects\, Aisha Alabbar Gallery\, Waddington Custot\, Leila Heller Gallery Dubai\, Firetti Contemporary\, Satellite\, Iris Projects\, NIKA Project Space\, Tabari Artspace\, and Total Arts. \nThe exhibition has been curated by Kevin Jones\, Artistic Director at Alserkal; Nada Raza\, Director of Alserkal Arts Foundation; and Zaina Zaarour\, Curator & Manager of Programmes at Alserkal Avenue.
URL:https://magpie.ae/event/last-chance-deja-vu/
LOCATION:Concrete\, Alserkal Avenue\, Dubai
CATEGORIES:Art,Exhibition
GEO:25.1431157;55.2246127
X-APPLE-STRUCTURED-LOCATION;VALUE=URI;X-ADDRESS=Concrete Alserkal Avenue Dubai;X-APPLE-RADIUS=500;X-TITLE=Alserkal Avenue:geo:55.2246127,25.1431157
END:VEVENT
END:VCALENDAR