BEGIN:VCALENDAR
VERSION:2.0
PRODID:-//magpie - ECPv6.15.20//NONSGML v1.0//EN
CALSCALE:GREGORIAN
METHOD:PUBLISH
X-ORIGINAL-URL:https://magpie.ae
X-WR-CALDESC:Events for magpie
REFRESH-INTERVAL;VALUE=DURATION:PT1H
X-Robots-Tag:noindex
X-PUBLISHED-TTL:PT1H
BEGIN:VTIMEZONE
TZID:Asia/Dubai
BEGIN:STANDARD
TZOFFSETFROM:+0400
TZOFFSETTO:+0400
TZNAME:+04
DTSTART:20240101T000000
END:STANDARD
END:VTIMEZONE
BEGIN:VEVENT
DTSTART;VALUE=DATE:20251120
DTEND;VALUE=DATE:20251124
DTSTAMP:20260420T161458
CREATED:20251029T073904Z
LAST-MODIFIED:20251029T074107Z
UID:10012979-1763596800-1763942399@magpie.ae
SUMMARY:Cirque Du Liban: Fontana
DESCRIPTION:The second weekend for Cirque du Liban’s acrobatics-plus-aquatics show\, “the first travelling water circus in the Middle East … live entertainment\, breathtaking artistic performances in a tailor-made aqua theatre\, waterfalls cascading\, artists diving and performing mind-blowing Aquatic experience”. There are shows as follows: \n20 Nov 7pm\n21 Nov 4.30pm and 8pm\n22 Nov 1pm and 7pm\n23 Nov 11.30am and 3.30pm
URL:https://magpie.ae/event/cirque-du-liban-fontana-2-2/
LOCATION:Circus Tent\, Marina Mall\, Abu Dhabi
CATEGORIES:Circus
ATTACH;FMTTYPE=image/webp:https://magpie.ae/wp-content/uploads/2025/10/fontana.webp
GEO:24.453884;54.3773438
END:VEVENT
BEGIN:VEVENT
DTSTART;VALUE=DATE:20251113
DTEND;VALUE=DATE:20251117
DTSTAMP:20260420T161458
CREATED:20251029T073854Z
LAST-MODIFIED:20251029T073854Z
UID:10012978-1762992000-1763337599@magpie.ae
SUMMARY:Cirque Du Liban: Fontana
DESCRIPTION:Cirque du Liban returns to Abu Dhabi (it did a show on Yas last year) with “the first travelling water circus in the Middle East … live entertainment\, breathtaking artistic performances in a tailor-made aqua theatre\, waterfalls cascading\, artists diving and performing mind-blowing Aquatic experience”. The show really is good\, and the watery additions do add to the circus skills on view … It all happens in a purpose-built big top circus tent near Marina Mall. There are two weekends of shows\, as follows: \n13 Nov 7pm\n14 Nov 4.30pm and 8pm\n15 Nov 1pm and 7pm\n16 Nov 11.30am and 3.30pm \n20 Nov 7pm\n21 Nov 4.30pm and 8pm\n22 Nov 1pm and 7pm\n23 Nov 11.30am and 3.30pm
URL:https://magpie.ae/event/cirque-du-liban-fontana-2/
LOCATION:Circus Tent\, Marina Mall\, Abu Dhabi
CATEGORIES:Circus
ATTACH;FMTTYPE=image/webp:https://magpie.ae/wp-content/uploads/2025/10/fontana.webp
GEO:24.453884;54.3773438
END:VEVENT
END:VCALENDAR