BEGIN:VCALENDAR
VERSION:2.0
PRODID:-//magpie - ECPv6.15.20//NONSGML v1.0//EN
CALSCALE:GREGORIAN
METHOD:PUBLISH
X-ORIGINAL-URL:https://magpie.ae
X-WR-CALDESC:Events for magpie
REFRESH-INTERVAL;VALUE=DURATION:PT1H
X-Robots-Tag:noindex
X-PUBLISHED-TTL:PT1H
BEGIN:VTIMEZONE
TZID:Asia/Dubai
BEGIN:STANDARD
TZOFFSETFROM:+0400
TZOFFSETTO:+0400
TZNAME:+04
DTSTART:20250101T000000
END:STANDARD
END:VTIMEZONE
BEGIN:VEVENT
DTSTART;TZID=Asia/Dubai:20260607T080000
DTEND;TZID=Asia/Dubai:20260607T170000
DTSTAMP:20260421T053156
CREATED:20260420T152424Z
LAST-MODIFIED:20260420T152424Z
UID:10013642-1780819200-1780851600@magpie.ae
SUMMARY:The Jazz Room: A Journey to the Heart of New Orleans
DESCRIPTION:New Orleans jazz – ragtime\, blues\, brass – in an intimate\, street-style bar setting. Shows last about an hour\, and there are performances at 6.30pm and 9pm. Note that there’s a AED 150 minimum spend on food and/or beverages in addition to the ticket price. \nSome promotions for this event call it ‘The Jazz Room’\, others have ‘We Call it Jazz’\, but both seem to have ‘A Journey to the Heart of New Orleans’ appended …
URL:https://magpie.ae/event/the-jazz-room-a-journey-to-the-heart-of-new-orleans/
LOCATION:Belcanto Restaurant\, Dubai Opera\, Sheikh Mohammed Bin Rashid Blvd\, Downtown Dubai\, Dubai
CATEGORIES:Art,Exhibition
GEO:25.1928528;55.2789648
X-APPLE-STRUCTURED-LOCATION;VALUE=URI;X-ADDRESS=Belcanto Restaurant Dubai Opera Sheikh Mohammed Bin Rashid Blvd Downtown Dubai Dubai;X-APPLE-RADIUS=500;X-TITLE=Sheikh Mohammed Bin Rashid Blvd\, Downtown Dubai:geo:55.2789648,25.1928528
END:VEVENT
END:VCALENDAR