BEGIN:VCALENDAR
VERSION:2.0
PRODID:-//magpie - ECPv6.15.20//NONSGML v1.0//EN
CALSCALE:GREGORIAN
METHOD:PUBLISH
X-WR-CALNAME:magpie
X-ORIGINAL-URL:https://magpie.ae
X-WR-CALDESC:Events for magpie
REFRESH-INTERVAL;VALUE=DURATION:PT1H
X-Robots-Tag:noindex
X-PUBLISHED-TTL:PT1H
BEGIN:VTIMEZONE
TZID:Asia/Dubai
BEGIN:STANDARD
TZOFFSETFROM:+0400
TZOFFSETTO:+0400
TZNAME:+04
DTSTART:20250101T000000
END:STANDARD
END:VTIMEZONE
BEGIN:VEVENT
DTSTART;TZID=Asia/Dubai:20260214T183000
DTEND;TZID=Asia/Dubai:20260214T200000
DTSTAMP:20260423T105940
CREATED:20260209T124954Z
LAST-MODIFIED:20260209T133531Z
UID:10013415-1771093800-1771099200@magpie.ae
SUMMARY:Costa Brava\, Lebanon: dir Mounia Akl (2021)
DESCRIPTION:Leaving the disorder and pollution of Beirut\, Soraya and Walid have built an idyllic life in the mountains for the family. All seems to be going well until a supposedly ecological landfill is constructed right next to their property … \nPart of the Movies Under the Stars programme\, a weekend pop-up that features a selection of classic films screened in a unique outdoor setting at the iconic BEEAH Headquarters\, curated in collaboration with Cinema Akil.
URL:https://magpie.ae/event/costa-brava-lebanon-dir-mounia-akl-2021-2/
LOCATION:BEEAH Headquarters\, nterchange 8\, Al Dhaid Rd\, Rodhat Al Sidir\, Sharjah
CATEGORIES:Film
ATTACH;FMTTYPE=image/webp:https://magpie.ae/wp-content/uploads/2026/02/costa-brava.webp
GEO:25.287829;55.8827946
X-APPLE-STRUCTURED-LOCATION;VALUE=URI;X-ADDRESS=BEEAH Headquarters nterchange 8 Al Dhaid Rd Rodhat Al Sidir Sharjah;X-APPLE-RADIUS=500;X-TITLE=nterchange 8\, Al Dhaid Rd\, Rodhat Al Sidir:geo:55.8827946,25.287829
END:VEVENT
BEGIN:VEVENT
DTSTART;TZID=Asia/Dubai:20260214T183000
DTEND;TZID=Asia/Dubai:20260214T200000
DTSTAMP:20260423T105940
CREATED:20260209T124028Z
LAST-MODIFIED:20260209T124028Z
UID:10013414-1771093800-1771099200@magpie.ae
SUMMARY:Stuart Little: dir Rob Minkoff (1999)
DESCRIPTION:Live action animated comedy featuring a mouse that gets adopted by a (human) family. A fun family film\, with a great cast (Geena Davis and Hugh Laurie as the parents\, Michael J Fox voicing Stuart). \nPart of the Movies Under the Stars programme\, a weekend pop-up that features a selection of classic films screened in a unique outdoor setting at the iconic BEEAH Headquarters\, curated in collaboration with Cinema Akil; the final film in the series is Costa Brava\, Lebanon on 15 February.
URL:https://magpie.ae/event/stuart-little-dir-rob-minkoff-1999/
LOCATION:BEEAH Headquarters\, nterchange 8\, Al Dhaid Rd\, Rodhat Al Sidir\, Sharjah
CATEGORIES:Film
ATTACH;FMTTYPE=image/webp:https://magpie.ae/wp-content/uploads/2026/02/Stuart-Little.webp
GEO:25.287829;55.8827946
X-APPLE-STRUCTURED-LOCATION;VALUE=URI;X-ADDRESS=BEEAH Headquarters nterchange 8 Al Dhaid Rd Rodhat Al Sidir Sharjah;X-APPLE-RADIUS=500;X-TITLE=nterchange 8\, Al Dhaid Rd\, Rodhat Al Sidir:geo:55.8827946,25.287829
END:VEVENT
BEGIN:VEVENT
DTSTART;TZID=Asia/Dubai:20260213T183000
DTEND;TZID=Asia/Dubai:20260213T200000
DTSTAMP:20260423T105940
CREATED:20260209T123202Z
LAST-MODIFIED:20260211T143248Z
UID:10013413-1771007400-1771012800@magpie.ae
SUMMARY:The Grand Budapest Hotel: dir Wes Anderson (2014)
DESCRIPTION:Wes Anderson at his best: outlandish humour\, artistic sensibilities\, genuine filmic expertise\, slightly kitschy … The madcap adventure is breathlessly entertaining and is graced by an excellent actors’ ensemble\, with Ralph Fiennes in particualr having a great time stretching his emotional range. \nPart of the Movies Under the Stars programme\, a weekend pop-up that features a selection of classic films screened in a unique outdoor setting at the iconic BEEAH Headquarters\, curated in collaboration with Cinema Akil. Coming next: \nStuart Little 14 February\nCosta Brava\, Lebanon 15 February
URL:https://magpie.ae/event/the-brand-budapest-hotel-dir-wes-anderson-2014/
LOCATION:BEEAH Headquarters\, nterchange 8\, Al Dhaid Rd\, Rodhat Al Sidir\, Sharjah
CATEGORIES:Film
ATTACH;FMTTYPE=image/webp:https://magpie.ae/wp-content/uploads/2026/02/grand-budapest.webp
GEO:25.287829;55.8827946
X-APPLE-STRUCTURED-LOCATION;VALUE=URI;X-ADDRESS=BEEAH Headquarters nterchange 8 Al Dhaid Rd Rodhat Al Sidir Sharjah;X-APPLE-RADIUS=500;X-TITLE=nterchange 8\, Al Dhaid Rd\, Rodhat Al Sidir:geo:55.8827946,25.287829
END:VEVENT
BEGIN:VEVENT
DTSTART;TZID=Asia/Dubai:20260212T183000
DTEND;TZID=Asia/Dubai:20260212T200000
DTSTAMP:20260423T105940
CREATED:20260209T121747Z
LAST-MODIFIED:20260209T122504Z
UID:10013412-1770921000-1770926400@magpie.ae
SUMMARY:Spirited Away: dir Hayao Miyazaki (2001)
DESCRIPTION:The classic Studio Ghibli / Hayao Miyazaki animated fantasy – young girl inadvertently enters the world of kami (spirits of Japanese Shinto folklore). Almost universally praised and frequently appears in Best Films lists. \nPart of the Movies Under the Stars programme\, a weekend pop-up that features a selection of classic films screened in a unique outdoor setting at the iconic BEEAH Headquarters\, curated in collaboration with Cinema Akil. Coming next: \nThe Grand Budapest Hotel 13 February\nStuart Little 14 February\nCosta Brava\, Lebanon 15 February
URL:https://magpie.ae/event/spirited-away-dir/
LOCATION:BEEAH Headquarters\, nterchange 8\, Al Dhaid Rd\, Rodhat Al Sidir\, Sharjah
CATEGORIES:Film
ATTACH;FMTTYPE=image/webp:https://magpie.ae/wp-content/uploads/2026/02/spirited-away.webp
GEO:25.287829;55.8827946
X-APPLE-STRUCTURED-LOCATION;VALUE=URI;X-ADDRESS=BEEAH Headquarters nterchange 8 Al Dhaid Rd Rodhat Al Sidir Sharjah;X-APPLE-RADIUS=500;X-TITLE=nterchange 8\, Al Dhaid Rd\, Rodhat Al Sidir:geo:55.8827946,25.287829
END:VEVENT
END:VCALENDAR