BEGIN:VCALENDAR
VERSION:2.0
PRODID:-//magpie - ECPv6.15.20//NONSGML v1.0//EN
CALSCALE:GREGORIAN
METHOD:PUBLISH
X-ORIGINAL-URL:https://magpie.ae
X-WR-CALDESC:Events for magpie
REFRESH-INTERVAL;VALUE=DURATION:PT1H
X-Robots-Tag:noindex
X-PUBLISHED-TTL:PT1H
BEGIN:VTIMEZONE
TZID:Asia/Dubai
BEGIN:STANDARD
TZOFFSETFROM:+0400
TZOFFSETTO:+0400
TZNAME:+04
DTSTART:20230101T000000
END:STANDARD
END:VTIMEZONE
BEGIN:VEVENT
DTSTART;VALUE=DATE:20260405
DTEND;VALUE=DATE:20260406
DTSTAMP:20260421T123550
CREATED:20260401T114942Z
LAST-MODIFIED:20260401T114942Z
UID:10013571-1775347200-1775433599@magpie.ae
SUMMARY:Mulhaq: On Annexed Architecture and Peripheral Typologies
DESCRIPTION:This exhibition explores the quiet logic of annexed spaces and the peripheral architectures that shape everyday life across the Gulf. Through documentation\, case studies\, and spatial narratives\, it reflects on how these overlooked structures mediate between privacy\, family\, and urban form. \nThe exhibition reflects ongoing research by Amer Madhoun\, co-founder of Collectus Design & Architecture Studio\, conducted as part of Bayt AlMamzar’s first design and architecture residency. Developed over nearly three years\, the Mulhaq research residency has been conceived as a long-term process with outcomes that includes publications and the future renovation of BAM’s mulhaq (annex) as well as the exhibition itself. \nThis project is supported through the Modern Heritage Grant Program\, an initiative by the UAE Ministry of Culture\, in collaboration with Zayed University and Majra – National CSR Fund. \nTo 8 May.
URL:https://magpie.ae/event/mulhaq-on-annexed-architecture-and-peripheral-typologies/
LOCATION:Bayt AlMamzar\, House 2\, 26 Street\, Al Mamzar\, Dubai
CATEGORIES:Architecture,Exhibition
GEO:25.2959701;55.3419302
X-APPLE-STRUCTURED-LOCATION;VALUE=URI;X-ADDRESS=Bayt AlMamzar House 2 26 Street Al Mamzar Dubai;X-APPLE-RADIUS=500;X-TITLE=House 2\, 26 Street\, Al Mamzar:geo:55.3419302,25.2959701
END:VEVENT
BEGIN:VEVENT
DTSTART;VALUE=DATE:20260104
DTEND;VALUE=DATE:20260105
DTSTAMP:20260421T123550
CREATED:20251110T114734Z
LAST-MODIFIED:20251110T114734Z
UID:10013044-1767484800-1767571199@magpie.ae
SUMMARY:LAST CHANCE Aliyah Alawadhi: Girl Parts
DESCRIPTION:“Childhood is a half-remembered taste: sweet\, sticky\, and sometimes spoiled.” In Girl Parts\, her first solo exhibition\, Aliyah Alawadhi expresses this residue in paint – bodies shimmering in pinks and creams\, mouths agape\, devouring and dreaming. Says the gallery: “These are not nostalgic visions of innocence but reimaginings of ‘girl’: an ancient inheritance of edicts around beauty\, shame\, and desire\, rewritten here with magic\, rage\, and much speculation”. \nThis Hunna Art exhibition is curated by Océane Sailly.
URL:https://magpie.ae/event/last-chance-aliyah-alawadhi-girl-parts/
LOCATION:Bayt AlMamzar\, House 2\, 26 Street\, Al Mamzar\, Dubai
CATEGORIES:Art,Exhibition
GEO:25.2959701;55.3419302
X-APPLE-STRUCTURED-LOCATION;VALUE=URI;X-ADDRESS=Bayt AlMamzar House 2 26 Street Al Mamzar Dubai;X-APPLE-RADIUS=500;X-TITLE=House 2\, 26 Street\, Al Mamzar:geo:55.3419302,25.2959701
END:VEVENT
BEGIN:VEVENT
DTSTART;VALUE=DATE:20251115
DTEND;VALUE=DATE:20251116
DTSTAMP:20260421T123550
CREATED:20251110T114624Z
LAST-MODIFIED:20251110T115229Z
UID:10013043-1763164800-1763251199@magpie.ae
SUMMARY:Aliyah Alawadhi: Girl Parts
DESCRIPTION:“Childhood is a half-remembered taste: sweet\, sticky\, and sometimes spoiled.” In Girl Parts\, her first solo exhibition\, Aliyah Alawadhi expresses this residue in paint – bodies shimmering in pinks and creams\, mouths agape\, devouring and dreaming. Says the gallery: “These are not nostalgic visions of innocence but reimaginings of ‘girl’: an ancient inheritance of edicts around beauty\, shame\, and desire\, rewritten here with magic\, rage\, and much speculation”. \nThis Hunna Art exhibition is curated by Océane Sailly. \nTo 4 January. \nAbove: Aliyah Alawadhi\, Star Chips (2025)
URL:https://magpie.ae/event/aliyah-alawadhi-girl-paris/
LOCATION:Bayt AlMamzar\, House 2\, 26 Street\, Al Mamzar\, Dubai
CATEGORIES:Art,Exhibition
ATTACH;FMTTYPE=image/webp:https://magpie.ae/wp-content/uploads/2025/11/Star-Chips.webp
GEO:25.2959701;55.3419302
X-APPLE-STRUCTURED-LOCATION;VALUE=URI;X-ADDRESS=Bayt AlMamzar House 2 26 Street Al Mamzar Dubai;X-APPLE-RADIUS=500;X-TITLE=House 2\, 26 Street\, Al Mamzar:geo:55.3419302,25.2959701
END:VEVENT
BEGIN:VEVENT
DTSTART;VALUE=DATE:20250518
DTEND;VALUE=DATE:20250519
DTSTAMP:20260421T123550
CREATED:20250219T134605Z
LAST-MODIFIED:20250219T134605Z
UID:10011735-1747526400-1747612799@magpie.ae
SUMMARY:LAST CHANCE Nadine Ghandour: Rooms for Error
DESCRIPTION:Nadine Ghandour’s first solo exhibition in the UAE\, curated by Dawn Ross\, features recent works informed by her experiences in various cities\, including Dubai\, Sharjah\, Cairo and Rotterdam. Working with drawing\, writing\, performance and sculpture\, Ghandour creates works that depict imagined (and often farcical) situations set within cities\, exploring the impact of rapid urban development on those environments. “The fast-forward city gives rise to characters who are chronically uncertain”\, says the gallery\, “navigating and coexisting within these fragile architectures\, while constantly teetering on the brink of change or collapse”.
URL:https://magpie.ae/event/last-chance-nadine-ghandour-rooms-for-error/
LOCATION:Bayt AlMamzar\, House 2\, 26 Street\, Al Mamzar\, Dubai
CATEGORIES:Art,Exhibition
GEO:25.2959701;55.3419302
X-APPLE-STRUCTURED-LOCATION;VALUE=URI;X-ADDRESS=Bayt AlMamzar House 2 26 Street Al Mamzar Dubai;X-APPLE-RADIUS=500;X-TITLE=House 2\, 26 Street\, Al Mamzar:geo:55.3419302,25.2959701
END:VEVENT
BEGIN:VEVENT
DTSTART;VALUE=DATE:20250223
DTEND;VALUE=DATE:20250224
DTSTAMP:20260421T123550
CREATED:20250219T134511Z
LAST-MODIFIED:20250219T134511Z
UID:10011734-1740268800-1740355199@magpie.ae
SUMMARY:Nadine Ghandour: Rooms for Error
DESCRIPTION:Nadine Ghandour’s first solo exhibition in the UAE\, curated by Dawn Ross\, features recent works informed by her experiences in various cities\, including Dubai\, Sharjah\, Cairo and Rotterdam. Working with drawing\, writing\, performance and sculpture\, Ghandour creates works that depict imagined (and often farcical) situations set within cities\, exploring the impact of rapid urban development on those environments. “The fast-forward city gives rise to characters who are chronically uncertain”\, says the gallery\, “navigating and coexisting within these fragile architectures\, while constantly teetering on the brink of change or collapse”. \nTo 18 May.
URL:https://magpie.ae/event/nadine-ghandour-rooms-for-error/
LOCATION:Bayt AlMamzar\, House 2\, 26 Street\, Al Mamzar\, Dubai
CATEGORIES:Art,Exhibition
GEO:25.2959701;55.3419302
X-APPLE-STRUCTURED-LOCATION;VALUE=URI;X-ADDRESS=Bayt AlMamzar House 2 26 Street Al Mamzar Dubai;X-APPLE-RADIUS=500;X-TITLE=House 2\, 26 Street\, Al Mamzar:geo:55.3419302,25.2959701
END:VEVENT
BEGIN:VEVENT
DTSTART;VALUE=DATE:20240714
DTEND;VALUE=DATE:20240715
DTSTAMP:20260421T123550
CREATED:20240605T102600Z
LAST-MODIFIED:20240605T102600Z
UID:10009560-1720915200-1721001599@magpie.ae
SUMMARY:LAST CHANCE Surreal: Magical realism in animation & contemporary art of the Soviet & post Soviet space
DESCRIPTION:An exhibition of Soviet animation film by Priit Parn\, Fyodor Khitruk\, Andrey Khrzhanovsky\, Yuri Norshtein\, and Robert Sahakyants; and post-soviet video art\, paintings\, installations\, objects and works on paper by Blue Noses\, Diana Kapizova\, Nikolay Koshelev\, Alina Kugush\, Katerina Lukina\, Kirill Makarov\, Kirill Mikhailin\, Slava Nesterov\, and Diana Shliman.
URL:https://magpie.ae/event/last-chance-surreal-magical-realism-in-animation-contemporary-art-of-the-soviet-post-soviet-space/
LOCATION:Bayt AlMamzar\, House 2\, 26 Street\, Al Mamzar\, Dubai
CATEGORIES:Art,Exhibition
GEO:25.2959701;55.3419302
X-APPLE-STRUCTURED-LOCATION;VALUE=URI;X-ADDRESS=Bayt AlMamzar House 2 26 Street Al Mamzar Dubai;X-APPLE-RADIUS=500;X-TITLE=House 2\, 26 Street\, Al Mamzar:geo:55.3419302,25.2959701
END:VEVENT
BEGIN:VEVENT
DTSTART;VALUE=DATE:20240608
DTEND;VALUE=DATE:20240609
DTSTAMP:20260421T123550
CREATED:20240605T102523Z
LAST-MODIFIED:20240605T102523Z
UID:10009559-1717804800-1717891199@magpie.ae
SUMMARY:Surreal: Magical realism in animation & contemporary art of the Soviet & post Soviet space
DESCRIPTION:An exhibition of Soviet animation film by Priit Parn\, Fyodor Khitruk\, Andrey Khrzhanovsky\, Yuri Norshtein\, and Robert Sahakyants; and post-soviet video art\, paintings\, installations\, objects and works on paper by Blue Noses\, Diana Kapizova\, Nikolay Koshelev\, Alina Kugush\, Katerina Lukina\, Kirill Makarov\, Kirill Mikhailin\, Slava Nesterov\, and Diana Shliman. \nSurreal considers a space in Soviet art where the grip of the state was weakened. Animators like Fyodor Khitruk\, Andrei Khrzhanovsky\, and Yuri Norstein made works ostensibly for children but which explored surreal realms of fiction and magical realism\, offering an escape from the isolated Soviet reality and a means of connecting with the wider world. By the late 80s\, these unconventional animations were influencing a generation caught between a bleak Soviet socialist reality and impending capitalism. \nTo 14 July.
URL:https://magpie.ae/event/surreal-magical-realism-in-animation-contemporary-art-of-the-soviet-post-soviet-space/
LOCATION:Bayt AlMamzar\, House 2\, 26 Street\, Al Mamzar\, Dubai
CATEGORIES:Art,Exhibition
GEO:25.2959701;55.3419302
X-APPLE-STRUCTURED-LOCATION;VALUE=URI;X-ADDRESS=Bayt AlMamzar House 2 26 Street Al Mamzar Dubai;X-APPLE-RADIUS=500;X-TITLE=House 2\, 26 Street\, Al Mamzar:geo:55.3419302,25.2959701
END:VEVENT
END:VCALENDAR