BEGIN:VCALENDAR
VERSION:2.0
PRODID:-//magpie - ECPv6.15.20//NONSGML v1.0//EN
CALSCALE:GREGORIAN
METHOD:PUBLISH
X-WR-CALNAME:magpie
X-ORIGINAL-URL:https://magpie.ae
X-WR-CALDESC:Events for magpie
REFRESH-INTERVAL;VALUE=DURATION:PT1H
X-Robots-Tag:noindex
X-PUBLISHED-TTL:PT1H
BEGIN:VTIMEZONE
TZID:Asia/Dubai
BEGIN:STANDARD
TZOFFSETFROM:+0400
TZOFFSETTO:+0400
TZNAME:+04
DTSTART:20250101T000000
END:STANDARD
END:VTIMEZONE
BEGIN:VEVENT
DTSTART;TZID=Asia/Dubai:20260306T120000
DTEND;TZID=Asia/Dubai:20260306T133000
DTSTAMP:20260425T075626
CREATED:20260225T124442Z
LAST-MODIFIED:20260225T124442Z
UID:10013488-1772798400-1772803800@magpie.ae
SUMMARY:Studio Visit: Saif Mhaisen
DESCRIPTION:A visit with Saif Mhaisen\, a Dubai-based artist working primarily in charcoal drawing and large-scale oil painting. Mhaisen’s practice is rooted in slow observation\, creating portraits shaped by community\, presence\, and lived experience. Through an intimate look at his process and current projects\, this visit invites participants to connect with the artist’s approach to portraiture and the quiet intensity of looking closely. Part of the Dubai Collection Nights programme.
URL:https://magpie.ae/event/studio-visit-saif-mhaisen/
LOCATION:Bayt Al Mamzar\, House 2\, 26 Street\, Al Mamzar\, Deira\, Dubai
CATEGORIES:Art,Tour/Visit
GEO:25.2769434;55.3338022
X-APPLE-STRUCTURED-LOCATION;VALUE=URI;X-ADDRESS=Bayt Al Mamzar House 2 26 Street Al Mamzar Deira Dubai;X-APPLE-RADIUS=500;X-TITLE=House 2\, 26 Street\, Al Mamzar\, Deira:geo:55.3338022,25.2769434
END:VEVENT
END:VCALENDAR