BEGIN:VCALENDAR
VERSION:2.0
PRODID:-//magpie - ECPv6.15.20//NONSGML v1.0//EN
CALSCALE:GREGORIAN
METHOD:PUBLISH
X-WR-CALNAME:magpie
X-ORIGINAL-URL:https://magpie.ae
X-WR-CALDESC:Events for magpie
REFRESH-INTERVAL;VALUE=DURATION:PT1H
X-Robots-Tag:noindex
X-PUBLISHED-TTL:PT1H
BEGIN:VTIMEZONE
TZID:Asia/Dubai
BEGIN:STANDARD
TZOFFSETFROM:+0400
TZOFFSETTO:+0400
TZNAME:+04
DTSTART:20250101T000000
END:STANDARD
END:VTIMEZONE
BEGIN:VEVENT
DTSTART;VALUE=DATE:20260509
DTEND;VALUE=DATE:20260510
DTSTAMP:20260421T123614
CREATED:20260223T145438Z
LAST-MODIFIED:20260415T110035Z
UID:10013467-1778284800-1778371199@magpie.ae
SUMMARY:LAST CHANCE Nihad Al Turk: Creatures of Hope
DESCRIPTION:Without formal art schooling\, Nihad Al Turk has developed a distinctive visual language that blends colours\, forms\, and patterns\, “preserving his naïve sensibility while conveying his philosophical outlook and artistic vision”. His paintings typically feature anthropomorphic shapes and figures\, a form of self-portraiture that reflects Al Turk’s view on humanity and his connection with the world – “these haunting\, creature-like beings represent the complexity of our human ecosystem”.
URL:https://magpie.ae/event/last-chance-nihad-al-turk-creatures-of-hope/
LOCATION:Ayyam Gallery\, B11\, Alserkal Avenue\, Dubai\, United Arab Emirates
CATEGORIES:Art,Exhibition
GEO:25.1431157;55.2246127
X-APPLE-STRUCTURED-LOCATION;VALUE=URI;X-ADDRESS=Ayyam Gallery B11 Alserkal Avenue Dubai United Arab Emirates;X-APPLE-RADIUS=500;X-TITLE=B11\, Alserkal Avenue:geo:55.2246127,25.1431157
END:VEVENT
END:VCALENDAR