BEGIN:VCALENDAR
VERSION:2.0
PRODID:-//magpie - ECPv6.15.20//NONSGML v1.0//EN
CALSCALE:GREGORIAN
METHOD:PUBLISH
X-WR-CALNAME:magpie
X-ORIGINAL-URL:https://magpie.ae
X-WR-CALDESC:Events for magpie
REFRESH-INTERVAL;VALUE=DURATION:PT1H
X-Robots-Tag:noindex
X-PUBLISHED-TTL:PT1H
BEGIN:VTIMEZONE
TZID:Asia/Dubai
BEGIN:STANDARD
TZOFFSETFROM:+0400
TZOFFSETTO:+0400
TZNAME:+04
DTSTART:20230101T000000
END:STANDARD
END:VTIMEZONE
BEGIN:VEVENT
DTSTART;TZID=Asia/Dubai:20240908T190000
DTEND;TZID=Asia/Dubai:20240908T200000
DTSTAMP:20260423T153259
CREATED:20240903T081434Z
LAST-MODIFIED:20240903T081518Z
UID:10010557-1725822000-1725825600@magpie.ae
SUMMARY:Candlelight: Mozart's Masterpieces
DESCRIPTION:Aldo Dotto plays a recital of what does indeed look like a top selection of the composer’s works\, all lit by candlelight. The programme: \n♦ Symphony 40\, 1st movement (arranged for piano)\n♦ Sonata no.5 KV 283 in G Major: Allegro\n♦ Turkish March\n♦ Piano concerto no. 23 K.488\, II. Adagio\n♦ Eine Kleine Nachtmusik\, I. Allegro\n♦ Piano concerto no. 21 in C Major K. 467\, II. Andante\n♦ Sonata No.9 in D Major\, KV 311\, I. Allegro \nPerformances last around 65 minutes. Ticket holders can claim a 25% discount on F&B in the Shangri-La. \n 
URL:https://magpie.ae/event/candlelight-mozarts-masterpieces-3/
LOCATION:Al Nojoom Ballroom\, Shangri-La Dubai\, Sheikh Zayed Road\, Dubai\, United Arab Emirates
CATEGORIES:Recital
ATTACH;FMTTYPE=image/jpeg:https://magpie.ae/wp-content/uploads/2023/10/fever.jpeg
GEO:25.0699544;55.1370806
X-APPLE-STRUCTURED-LOCATION;VALUE=URI;X-ADDRESS=Al Nojoom Ballroom Shangri-La Dubai Sheikh Zayed Road Dubai United Arab Emirates;X-APPLE-RADIUS=500;X-TITLE=Sheikh Zayed Road:geo:55.1370806,25.0699544
END:VEVENT
END:VCALENDAR