BEGIN:VCALENDAR
VERSION:2.0
PRODID:-//magpie - ECPv6.15.20//NONSGML v1.0//EN
CALSCALE:GREGORIAN
METHOD:PUBLISH
X-WR-CALNAME:magpie
X-ORIGINAL-URL:https://magpie.ae
X-WR-CALDESC:Events for magpie
REFRESH-INTERVAL;VALUE=DURATION:PT1H
X-Robots-Tag:noindex
X-PUBLISHED-TTL:PT1H
BEGIN:VTIMEZONE
TZID:Asia/Dubai
BEGIN:STANDARD
TZOFFSETFROM:+0400
TZOFFSETTO:+0400
TZNAME:+04
DTSTART:20220101T000000
END:STANDARD
END:VTIMEZONE
BEGIN:VEVENT
DTSTART;VALUE=DATE:20240616
DTEND;VALUE=DATE:20240617
DTSTAMP:20260419T210951
CREATED:20240409T124856Z
LAST-MODIFIED:20240409T124856Z
UID:10007499-1718496000-1718582399@magpie.ae
SUMMARY:LAST CHANCE The Casablanca Art School: Platforms and Patterns for a Postcolonial Avant-Garde 1962–1987
DESCRIPTION:Sharjah Art Foundation presents the first major museum exhibition of works of the Casablanca Art School\, whose revolutionary approach following Morocco’s independence in 1956 proposed a bold new visual culture. This landmark exhibition\, first seen at Tate St Ives\, brings together works by more than 20 artists\, from abstract paintings and graphic art to craftwork and ceramics\, as well as a selection of rarely seen archival material. \n  \n 
URL:https://magpie.ae/event/last-chance-casablanca-art-school-platforms-and-patterns-for-a-postcolonial-avant-garde-1962-1987/
LOCATION:Al Hamriyah Studios\, Sharjah
CATEGORIES:Art,Exhibition
END:VEVENT
BEGIN:VEVENT
DTSTART;VALUE=DATE:20240224
DTEND;VALUE=DATE:20240225
DTSTAMP:20260419T210951
CREATED:20240110T144530Z
LAST-MODIFIED:20240207T080757Z
UID:10007422-1708732800-1708819199@magpie.ae
SUMMARY:The Casablanca Art School: Platforms and Patterns for a Postcolonial Avant-Garde 1962–1987
DESCRIPTION:Sharjah Art Foundation presents the first major museum exhibition of works of the Casablanca Art School\, whose revolutionary approach following Morocco’s independence in 1956 proposed a bold new visual culture. This landmark exhibition\, first seen at Tate St Ives\, brings together works by more than 20 artists\, from abstract paintings and graphic art to craftwork and ceramics\, as well as a selection of rarely seen archival material. \nCo-organised by Sharjah Art Foundation and Tate St Ives in collaboration with Schirn Kunsthalle Frankfurt\, the exhibition is curated by Morad Montazami and Madeleine de Colnet for Zamân Books & Curating with Hoor Al Qasimi\, Director of Sharjah Art Foundation\, and with associate researchers Fatima-Zahra Lakrissa and Maud Houssais. \nTo 16 June. \n 
URL:https://magpie.ae/event/casablanca-art-school-platforms-and-patterns-for-a-postcolonial-avant-garde-1962-1987/
LOCATION:Al Hamriyah Studios\, Sharjah
CATEGORIES:Art,Exhibition
END:VEVENT
BEGIN:VEVENT
DTSTART;VALUE=DATE:20231014
DTEND;VALUE=DATE:20231015
DTSTAMP:20260419T210951
CREATED:20230913T082249Z
LAST-MODIFIED:20230913T093208Z
UID:10005549-1697241600-1697327999@magpie.ae
SUMMARY:Vantage Point Sharjah (VPS 11)
DESCRIPTION:Sharjah Art Foundation’s annual photography exhibition returns for its 11th edition\, featuring artists “whose work challenges established notions of photographic practices” – four individuals and one collective\, chosen through an international open call that received more than 350 applications. \nThis year VPS identifies and supports early-career photographers from Africa and Asia (those who were born there\, who are currently based there\, or who are part of the diaspora). “The selected artists embody diverse approaches but share overlapping tendencies\,” say the organisers\, citing “the pursuit of contemporary image-making techniques\, the recontextualisation of found or inherited images and engagement with the visual afterlives of colonialist legacies”: \n\nOumaima Abaraghe (b.1999\, Casablanca) uses collage techniques and digital manipulation to reconstruct Morocco’s fragmentary colonial archive\, signalling its inherent fallibility\nYashna Kaul (b.1995\, Mumbai) unearths the secrets embedded in her family’s photo album and reveals how the framing of a moment can shape personal histories and collective memory.\nMohamed Mahdy (b.1996\, Giza) uses emotive storytelling to document the displacement of the fishing community of El Maks\, Alexandria\, and captures the generational impact of urban redevelopment policies.\nClea Rekhou (b.1988\, Paris) contrasts a series of soft-lit\, intimate family portraits with narratives of generational violence\, suggesting the complexity of human relationships.\nPostbox Ghana – Nana Ofosu Adjei (b.1993\, Accra)\, Courage Dzidula Kpodo (b.1999\, Kumasi) and Manuela Nebuloni (b.1986\, Milan) – resituate popular postcard images of post-independence Ghana within the country’s contemporary urban landscape and question the aspirations of nation-state imagery.\n\nWorks by these emerging artists will be displayed in two exhibition modes: independent presentations of the artists’ individual practices and a communal storytelling space that interweaves their combined practices. \nVPS 11 also introduces a one-on-one professional mentoring programme. Participating artists will be paired with cultural practitioners or industry professionals of their choice so that they can improve their skills and take advantage of a unique learning experience led by experts in the field. \nThe exhibition is open 9am to 9pm\, Saturday to Thursday\, and 4-9pm on Friday; it runs to 14 January. \nAbove: Oumaima Abaraghe\, History as they present it (2022)
URL:https://magpie.ae/event/vantage-point-sharjah-vps-11/
LOCATION:Al Hamriyah Studios\, Sharjah
CATEGORIES:Exhibition,Photography
ATTACH;FMTTYPE=image/jpeg:https://magpie.ae/wp-content/uploads/2023/09/VPS11-1.jpg
END:VEVENT
BEGIN:VEVENT
DTSTART;VALUE=DATE:20231014
DTEND;VALUE=DATE:20231015
DTSTAMP:20260419T210951
CREATED:20230614T164344Z
LAST-MODIFIED:20230614T164344Z
UID:10004651-1697241600-1697327999@magpie.ae
SUMMARY:Henok Melkamzer
DESCRIPTION:Featuring more than 100 works\, many on view for the first time\, this exhibition is the largest solo presentation of artworks by Ethiopian telsem artist Henok Melkamzer. Traditionally termed as healing or talisman art\, telsem is a sophisticated visual art form that incorporates philosophy and intricate themes and includes various symbols\, drawings and texts imbibed with deeper meanings. Combining ancient inspirations with modern idioms\, Melkamzer’s canvas works reconstruct the conventions of this traditional art form and broaden the understanding of ‘modern’ art through their visual sophistication and complex conceptualisation. \nOrganised in collaboration with The Africa Institute\, Sharjah\, the exhibition is curated by Elizabeth Giorgis\, Associate Professor of Art History\, Theory and Criticism at The Africa Institute. \nTo 10 March.
URL:https://magpie.ae/event/henok-melkamzer/
LOCATION:Al Hamriyah Studios\, Sharjah
CATEGORIES:Art,Exhibition
ATTACH;FMTTYPE=image/png:https://magpie.ae/wp-content/uploads/2023/06/Henok-Melkamzer.png
END:VEVENT
END:VCALENDAR