BEGIN:VCALENDAR
VERSION:2.0
PRODID:-//magpie - ECPv6.15.20//NONSGML v1.0//EN
CALSCALE:GREGORIAN
METHOD:PUBLISH
X-ORIGINAL-URL:https://magpie.ae
X-WR-CALDESC:Events for magpie
REFRESH-INTERVAL;VALUE=DURATION:PT1H
X-Robots-Tag:noindex
X-PUBLISHED-TTL:PT1H
BEGIN:VTIMEZONE
TZID:Asia/Dubai
BEGIN:STANDARD
TZOFFSETFROM:+0400
TZOFFSETTO:+0400
TZNAME:+04
DTSTART:20230101T000000
END:STANDARD
END:VTIMEZONE
BEGIN:VEVENT
DTSTART;VALUE=DATE:20240908
DTEND;VALUE=DATE:20240909
DTSTAMP:20260423T074205
CREATED:20240822T151835Z
LAST-MODIFIED:20240822T151835Z
UID:10010496-1725753600-1725839999@magpie.ae
SUMMARY:Cirque Dreams: Elysion
DESCRIPTION:“A breathtaking journey through a land of pure imagination and wonder … an extraordinary adventure into a world of fantasy and awe” promises the blurb\, adding “the audience is transported to an ethereal garden atmosphere\, alive with animated creatures that embody the tranquillity and chaos of nature”. \nIf you think the description of the show – a “vivid\, three-dimensional world is filled with astonishing acrobatics\, captivating choreography\, and beautiful costumes” – sounds like Cirque du Soleil\, you’d be right; although started independently\, Cirque Dreams was acquired by Cirque du Soleil’s owners in 2018 and runs as a kind of junior operation. Its shows are still spectacular demonstrations of modern circus arts and high-tech staging (especially lighting)\, but they tend to be smaller and perhaps less pretentious than the parent company’s productions. \nThe current show apparently draws inspiration from the concept of Elysium\, “a place of perfect happiness and eternal peace” – in Greek mythology it was the paradise where heroes went if the gods had conferred immortality of them. In the Cirque Dreams interpretation with the adapted name it’s rather different\, a garden setting “where every creature\, from the tiniest insect to the grandest display\, contributes to the tapestry of life … The fusion of an immersive production design\, other-worldly costume designs\, and the unparalleled skill of our performers brings this blissful garden to life”. \nThe lustre have gone from the ‘new circus’ idea\, and it’s unlikely that Elysion will “redefine the boundaries of circus artistry and theatricality” as the press release suggests; but it should still make for a decent evening’s entertainment – especially with tickets starting at a modest AED 75. \nThere are performances at 3pm and 6.30pm.
URL:https://magpie.ae/event/cirque-dreams-elysion-9/
LOCATION:Al Ain Square\, Al Ain\, Eastern Region\, United Arab Emirates
CATEGORIES:Circus
GEO:24.2231534;55.7228542
END:VEVENT
BEGIN:VEVENT
DTSTART;VALUE=DATE:20240907
DTEND;VALUE=DATE:20240908
DTSTAMP:20260423T074205
CREATED:20240822T151741Z
LAST-MODIFIED:20240822T151741Z
UID:10010495-1725667200-1725753599@magpie.ae
SUMMARY:Cirque Dreams: Elysion
DESCRIPTION:“A breathtaking journey through a land of pure imagination and wonder … an extraordinary adventure into a world of fantasy and awe” promises the blurb\, adding “the audience is transported to an ethereal garden atmosphere\, alive with animated creatures that embody the tranquillity and chaos of nature”. \nIf you think the description of the show – a “vivid\, three-dimensional world is filled with astonishing acrobatics\, captivating choreography\, and beautiful costumes” – sounds like Cirque du Soleil\, you’d be right; although started independently\, Cirque Dreams was acquired by Cirque du Soleil’s owners in 2018 and runs as a kind of junior operation. Its shows are still spectacular demonstrations of modern circus arts and high-tech staging (especially lighting)\, but they tend to be smaller and perhaps less pretentious than the parent company’s productions. \nThe current show apparently draws inspiration from the concept of Elysium\, “a place of perfect happiness and eternal peace” – in Greek mythology it was the paradise where heroes went if the gods had conferred immortality of them. In the Cirque Dreams interpretation with the adapted name it’s rather different\, a garden setting “where every creature\, from the tiniest insect to the grandest display\, contributes to the tapestry of life … The fusion of an immersive production design\, other-worldly costume designs\, and the unparalleled skill of our performers brings this blissful garden to life”. \nThe lustre have gone from the ‘new circus’ idea\, and it’s unlikely that Elysion will “redefine the boundaries of circus artistry and theatricality” as the press release suggests; but it should still make for a decent evening’s entertainment – especially with tickets starting at a modest AED 75. \nThe last performances are on 8 September 3pm and 6.30pm.
URL:https://magpie.ae/event/cirque-dreams-elysion-8/
LOCATION:Al Ain Square\, Al Ain\, Eastern Region\, United Arab Emirates
CATEGORIES:Circus
GEO:24.2231534;55.7228542
END:VEVENT
BEGIN:VEVENT
DTSTART;VALUE=DATE:20240906
DTEND;VALUE=DATE:20240907
DTSTAMP:20260423T074205
CREATED:20240822T151647Z
LAST-MODIFIED:20240822T151647Z
UID:10010494-1725580800-1725667199@magpie.ae
SUMMARY:Cirque Dreams: Elysion
DESCRIPTION:“A breathtaking journey through a land of pure imagination and wonder … an extraordinary adventure into a world of fantasy and awe” promises the blurb\, adding “the audience is transported to an ethereal garden atmosphere\, alive with animated creatures that embody the tranquillity and chaos of nature”. \nIf you think the description of the show – a “vivid\, three-dimensional world is filled with astonishing acrobatics\, captivating choreography\, and beautiful costumes” – sounds like Cirque du Soleil\, you’d be right; although started independently\, Cirque Dreams was acquired by Cirque du Soleil’s owners in 2018 and runs as a kind of junior operation. Its shows are still spectacular demonstrations of modern circus arts and high-tech staging (especially lighting)\, but they tend to be smaller and perhaps less pretentious than the parent company’s productions. \nThe current show apparently draws inspiration from the concept of Elysium\, “a place of perfect happiness and eternal peace” – in Greek mythology it was the paradise where heroes went if the gods had conferred immortality of them. In the Cirque Dreams interpretation with the adapted name it’s rather different\, a garden setting “where every creature\, from the tiniest insect to the grandest display\, contributes to the tapestry of life … The fusion of an immersive production design\, other-worldly costume designs\, and the unparalleled skill of our performers brings this blissful garden to life”. \nThe lustre have gone from the ‘new circus’ idea\, and it’s unlikely that Elysion will “redefine the boundaries of circus artistry and theatricality” as the press release suggests; but it should still make for a decent evening’s entertainment – especially with tickets starting at a modest AED 75. \nThere are two shows a day at 3pm and 6.30pm in a purpose built tent in Al Ain Square\, right by Hazza Bin Zayed Stadium. The last two dates are … \n7 September 3pm and 6.30pm\n8 September 3pm and 6.30pm
URL:https://magpie.ae/event/cirque-dreams-elysion-7/
LOCATION:Al Ain Square\, Al Ain\, Eastern Region\, United Arab Emirates
CATEGORIES:Circus
GEO:24.2231534;55.7228542
END:VEVENT
BEGIN:VEVENT
DTSTART;VALUE=DATE:20240901
DTEND;VALUE=DATE:20240902
DTSTAMP:20260423T074205
CREATED:20240822T151556Z
LAST-MODIFIED:20240822T151556Z
UID:10010493-1725148800-1725235199@magpie.ae
SUMMARY:Cirque Dreams: Elysion
DESCRIPTION:“A breathtaking journey through a land of pure imagination and wonder … an extraordinary adventure into a world of fantasy and awe” promises the blurb\, adding “the audience is transported to an ethereal garden atmosphere\, alive with animated creatures that embody the tranquillity and chaos of nature”. \nIf you think the description of the show – a “vivid\, three-dimensional world is filled with astonishing acrobatics\, captivating choreography\, and beautiful costumes” – sounds like Cirque du Soleil\, you’d be right; although started independently\, Cirque Dreams was acquired by Cirque du Soleil’s owners in 2018 and runs as a kind of junior operation. Its shows are still spectacular demonstrations of modern circus arts and high-tech staging (especially lighting)\, but they tend to be smaller and perhaps less pretentious than the parent company’s productions. \nThe current show apparently draws inspiration from the concept of Elysium\, “a place of perfect happiness and eternal peace” – in Greek mythology it was the paradise where heroes went if the gods had conferred immortality of them. In the Cirque Dreams interpretation with the adapted name it’s rather different\, a garden setting “where every creature\, from the tiniest insect to the grandest display\, contributes to the tapestry of life … The fusion of an immersive production design\, other-worldly costume designs\, and the unparalleled skill of our performers brings this blissful garden to life”. \nThe lustre have gone from the ‘new circus’ idea\, and it’s unlikely that Elysion will “redefine the boundaries of circus artistry and theatricality” as the press release suggests; but it should still make for a decent evening’s entertainment – especially with tickets starting at a modest AED 75. \nThere are two shows a day at 3pm and 6.30pm in a purpose built tent in Al Ain Square\, right by Hazza Bin Zayed Stadium. The upcoming dates: \n6 September 3pm and 6.30pm\n7 September 3pm and 6.30pm\n8 September 3pm and 6.30pm
URL:https://magpie.ae/event/cirque-dreams-elysion-6/
LOCATION:Al Ain Square\, Al Ain\, Eastern Region\, United Arab Emirates
CATEGORIES:Circus
GEO:24.2231534;55.7228542
END:VEVENT
BEGIN:VEVENT
DTSTART;VALUE=DATE:20240831
DTEND;VALUE=DATE:20240901
DTSTAMP:20260423T074205
CREATED:20240822T151531Z
LAST-MODIFIED:20240822T151531Z
UID:10010492-1725062400-1725148799@magpie.ae
SUMMARY:Cirque Dreams: Elysion
DESCRIPTION:“A breathtaking journey through a land of pure imagination and wonder … an extraordinary adventure into a world of fantasy and awe” promises the blurb\, adding “the audience is transported to an ethereal garden atmosphere\, alive with animated creatures that embody the tranquillity and chaos of nature”. \nIf you think the description of the show – a “vivid\, three-dimensional world is filled with astonishing acrobatics\, captivating choreography\, and beautiful costumes” – sounds like Cirque du Soleil\, you’d be right; although started independently\, Cirque Dreams was acquired by Cirque du Soleil’s owners in 2018 and runs as a kind of junior operation. Its shows are still spectacular demonstrations of modern circus arts and high-tech staging (especially lighting)\, but they tend to be smaller and perhaps less pretentious than the parent company’s productions. \nThe current show apparently draws inspiration from the concept of Elysium\, “a place of perfect happiness and eternal peace” – in Greek mythology it was the paradise where heroes went if the gods had conferred immortality of them. In the Cirque Dreams interpretation with the adapted name it’s rather different\, a garden setting “where every creature\, from the tiniest insect to the grandest display\, contributes to the tapestry of life … The fusion of an immersive production design\, other-worldly costume designs\, and the unparalleled skill of our performers brings this blissful garden to life”. \nThe lustre have gone from the ‘new circus’ idea\, and it’s unlikely that Elysion will “redefine the boundaries of circus artistry and theatricality” as the press release suggests; but it should still make for a decent evening’s entertainment – especially with tickets starting at a modest AED 75. \nThere are two shows a day at 3pm and 6.30pm in a purpose built tent in Al Ain Square\, right by Hazza Bin Zayed Stadium. The upcoming dates: \n1 September 3pm and 6.30pm\n6 September 3pm and 6.30pm\n7 September 3pm and 6.30pm\n8 September 3pm and 6.30pm
URL:https://magpie.ae/event/cirque-dreams-elysion-5/
LOCATION:Al Ain Square\, Al Ain\, Eastern Region\, United Arab Emirates
CATEGORIES:Circus
GEO:24.2231534;55.7228542
END:VEVENT
BEGIN:VEVENT
DTSTART;VALUE=DATE:20240830
DTEND;VALUE=DATE:20240831
DTSTAMP:20260423T074205
CREATED:20240822T151449Z
LAST-MODIFIED:20240822T151449Z
UID:10010491-1724976000-1725062399@magpie.ae
SUMMARY:Cirque Dreams: Elysion
DESCRIPTION:“A breathtaking journey through a land of pure imagination and wonder … an extraordinary adventure into a world of fantasy and awe” promises the blurb\, adding “the audience is transported to an ethereal garden atmosphere\, alive with animated creatures that embody the tranquillity and chaos of nature”. \nIf you think the description of the show – a “vivid\, three-dimensional world is filled with astonishing acrobatics\, captivating choreography\, and beautiful costumes” – sounds like Cirque du Soleil\, you’d be right; although started independently\, Cirque Dreams was acquired by Cirque du Soleil’s owners in 2018 and runs as a kind of junior operation. Its shows are still spectacular demonstrations of modern circus arts and high-tech staging (especially lighting)\, but they tend to be smaller and perhaps less pretentious than the parent company’s productions. \nThe current show apparently draws inspiration from the concept of Elysium\, “a place of perfect happiness and eternal peace” – in Greek mythology it was the paradise where heroes went if the gods had conferred immortality of them. In the Cirque Dreams interpretation with the adapted name it’s rather different\, a garden setting “where every creature\, from the tiniest insect to the grandest display\, contributes to the tapestry of life … The fusion of an immersive production design\, other-worldly costume designs\, and the unparalleled skill of our performers brings this blissful garden to life”. \nThe lustre have gone from the ‘new circus’ idea\, and it’s unlikely that Elysion will “redefine the boundaries of circus artistry and theatricality” as the press release suggests; but it should still make for a decent evening’s entertainment – especially with tickets starting at a modest AED 75. \nThere are two shows a day at 3pm and 6.30pm in a purpose built tent in Al Ain Square\, right by Hazza Bin Zayed Stadium. The upcoming dates: \n31 August 3pm and 6.30pm\n1 September 3pm and 6.30pm \n6 September 3pm and 6.30pm\n7 September 3pm and 6.30pm\n8 September 3pm and 6.30pm
URL:https://magpie.ae/event/cirque-dreams-elysion-4/
LOCATION:Al Ain Square\, Al Ain\, Eastern Region\, United Arab Emirates
CATEGORIES:Circus
GEO:24.2231534;55.7228542
END:VEVENT
BEGIN:VEVENT
DTSTART;VALUE=DATE:20240825
DTEND;VALUE=DATE:20240826
DTSTAMP:20260423T074205
CREATED:20240822T151423Z
LAST-MODIFIED:20240822T151423Z
UID:10010490-1724544000-1724630399@magpie.ae
SUMMARY:Cirque Dreams: Elysion
DESCRIPTION:“A breathtaking journey through a land of pure imagination and wonder … an extraordinary adventure into a world of fantasy and awe” promises the blurb\, adding “the audience is transported to an ethereal garden atmosphere\, alive with animated creatures that embody the tranquillity and chaos of nature”. \nIf you think the description of the show – a “vivid\, three-dimensional world is filled with astonishing acrobatics\, captivating choreography\, and beautiful costumes” – sounds like Cirque du Soleil\, you’d be right; although started independently\, Cirque Dreams was acquired by Cirque du Soleil’s owners in 2018 and runs as a kind of junior operation. Its shows are still spectacular demonstrations of modern circus arts and high-tech staging (especially lighting)\, but they tend to be smaller and perhaps less pretentious than the parent company’s productions. \nThe current show apparently draws inspiration from the concept of Elysium\, “a place of perfect happiness and eternal peace” – in Greek mythology it was the paradise where heroes went if the gods had conferred immortality of them. In the Cirque Dreams interpretation with the adapted name it’s rather different\, a garden setting “where every creature\, from the tiniest insect to the grandest display\, contributes to the tapestry of life … The fusion of an immersive production design\, other-worldly costume designs\, and the unparalleled skill of our performers brings this blissful garden to life”. \nThe lustre have gone from the ‘new circus’ idea\, and it’s unlikely that Elysion will “redefine the boundaries of circus artistry and theatricality” as the press release suggests; but it should still make for a decent evening’s entertainment – especially with tickets starting at a modest AED 75. \nThere are two shows a day at 3pm and 6.30pm in a purpose built tent in Al Ain Square\, right by Hazza Bin Zayed Stadium. The upcoming dates: \n30 August 3pm and 6.30pm\n31 August 3pm and 6.30pm\n1 September 3pm and 6.30pm \n6 September 3pm and 6.30pm\n7 September 3pm and 6.30pm\n8 September 3pm and 6.30pm
URL:https://magpie.ae/event/cirque-dreams-elysion-3/
LOCATION:Al Ain Square\, Al Ain\, Eastern Region\, United Arab Emirates
CATEGORIES:Circus
GEO:24.2231534;55.7228542
END:VEVENT
BEGIN:VEVENT
DTSTART;VALUE=DATE:20240824
DTEND;VALUE=DATE:20240825
DTSTAMP:20260423T074205
CREATED:20240822T151353Z
LAST-MODIFIED:20240822T151353Z
UID:10010489-1724457600-1724543999@magpie.ae
SUMMARY:Cirque Dreams: Elysion
DESCRIPTION:“A breathtaking journey through a land of pure imagination and wonder … an extraordinary adventure into a world of fantasy and awe” promises the blurb\, adding “the audience is transported to an ethereal garden atmosphere\, alive with animated creatures that embody the tranquillity and chaos of nature”. \nIf you think the description of the show – a “vivid\, three-dimensional world is filled with astonishing acrobatics\, captivating choreography\, and beautiful costumes” – sounds like Cirque du Soleil\, you’d be right; although started independently\, Cirque Dreams was acquired by Cirque du Soleil’s owners in 2018 and runs as a kind of junior operation. Its shows are still spectacular demonstrations of modern circus arts and high-tech staging (especially lighting)\, but they tend to be smaller and perhaps less pretentious than the parent company’s productions. \nThe current show apparently draws inspiration from the concept of Elysium\, “a place of perfect happiness and eternal peace” – in Greek mythology it was the paradise where heroes went if the gods had conferred immortality of them. In the Cirque Dreams interpretation with the adapted name it’s rather different\, a garden setting “where every creature\, from the tiniest insect to the grandest display\, contributes to the tapestry of life … The fusion of an immersive production design\, other-worldly costume designs\, and the unparalleled skill of our performers brings this blissful garden to life”. \nThe lustre have gone from the ‘new circus’ idea\, and it’s unlikely that Elysion will “redefine the boundaries of circus artistry and theatricality” as the press release suggests; but it should still make for a decent evening’s entertainment – especially with tickets starting at a modest AED 75. \nThere are two shows a day at 3pm and 6.30pm in a purpose built tent in Al Ain Square\, right by Hazza Bin Zayed Stadium. The upcoming dates: \n25 August 3pm and 6.30pm \n30 August 3pm and 6.30pm\n31 August 3pm and 6.30pm\n1 September 3pm and 6.30pm \n6 September 3pm and 6.30pm\n7 September 3pm and 6.30pm\n8 September 3pm and 6.30pm
URL:https://magpie.ae/event/cirque-dreams-elysion-2/
LOCATION:Al Ain Square\, Al Ain\, Eastern Region\, United Arab Emirates
CATEGORIES:Circus
GEO:24.2231534;55.7228542
END:VEVENT
BEGIN:VEVENT
DTSTART;TZID=Asia/Dubai:20240823T063000
DTEND;TZID=Asia/Dubai:20240823T203000
DTSTAMP:20260423T074205
CREATED:20240822T151132Z
LAST-MODIFIED:20240822T151238Z
UID:10010487-1724394600-1724445000@magpie.ae
SUMMARY:Cirque Dreams: Elysion
DESCRIPTION:“A breathtaking journey through a land of pure imagination and wonder … an extraordinary adventure into a world of fantasy and awe” promises the blurb\, adding “the audience is transported to an ethereal garden atmosphere\, alive with animated creatures that embody the tranquillity and chaos of nature”. \nIf you think the description of the show – a “vivid\, three-dimensional world is filled with astonishing acrobatics\, captivating choreography\, and beautiful costumes” – sounds like Cirque du Soleil\, you’d be right; although started independently\, Cirque Dreams was acquired by Cirque du Soleil’s owners in 2018 and runs as a kind of junior operation. Its shows are still spectacular demonstrations of modern circus arts and high-tech staging (especially lighting)\, but they tend to be smaller and perhaps less pretentious than the parent company’s productions. \nThe current show apparently draws inspiration from the concept of Elysium\, “a place of perfect happiness and eternal peace” – in Greek mythology it was the paradise where heroes went if the gods had conferred immortality of them. In the Cirque Dreams interpretation with the adapted name it’s rather different\, a garden setting “where every creature\, from the tiniest insect to the grandest display\, contributes to the tapestry of life … The fusion of an immersive production design\, other-worldly costume designs\, and the unparalleled skill of our performers brings this blissful garden to life”. \nThe lustre have gone from the ‘new circus’ idea\, and it’s unlikely that Elysion will “redefine the boundaries of circus artistry and theatricality” as the press release suggests; but it should still make for a decent evening’s entertainment – especially with tickets starting at a modest AED 75. \nIt runs from 23 August to 8 September (two shows a day\, except for the opener) in a purpose built tent in Al Ain Square\, right by Hazza Bin Zayed Stadium. \n23 August 6.30pm\n24 August 3pm and 6.30pm\n25 August 3pm and 6.30pm \n30 August 3pm and 6.30pm\n31 August 3pm and 6.30pm\n1 September 3pm and 6.30pm \n6 September 3pm and 6.30pm\n7 September 3pm and 6.30pm\n8 September 3pm and 6.30pm
URL:https://magpie.ae/event/cirque-dreams-elysion/
LOCATION:Al Ain Square\, Al Ain\, Eastern Region\, United Arab Emirates
CATEGORIES:Circus
ATTACH;FMTTYPE=image/jpeg:https://magpie.ae/wp-content/uploads/2024/08/elysion.jpg
GEO:24.2231534;55.7228542
END:VEVENT
END:VCALENDAR