BEGIN:VCALENDAR
VERSION:2.0
PRODID:-//magpie - ECPv6.15.20//NONSGML v1.0//EN
CALSCALE:GREGORIAN
METHOD:PUBLISH
X-ORIGINAL-URL:https://magpie.ae
X-WR-CALDESC:Events for magpie
REFRESH-INTERVAL;VALUE=DURATION:PT1H
X-Robots-Tag:noindex
X-PUBLISHED-TTL:PT1H
BEGIN:VTIMEZONE
TZID:Asia/Dubai
BEGIN:STANDARD
TZOFFSETFROM:+0400
TZOFFSETTO:+0400
TZNAME:+04
DTSTART:20220101T000000
END:STANDARD
END:VTIMEZONE
BEGIN:VEVENT
DTSTART;TZID=Asia/Dubai:20230719T190000
DTEND;TZID=Asia/Dubai:20230719T200000
DTSTAMP:20260422T220831
CREATED:20230531T094714Z
LAST-MODIFIED:20230531T094714Z
UID:10004619-1689793200-1689796800@magpie.ae
SUMMARY:Talk: Maha Alsharif – Collecting Prints
DESCRIPTION:Maha Alsharif from the MA in Art Business faculty at ZU talks about the nuances of the print market and the value and significance of limited edition prints regionally and internationally. This talk is part of the programme for Press Print!\, the gallery’s current show.
URL:https://magpie.ae/event/talk-maha-alsharif-collecting-prints/
LOCATION:Aisha Alabbar Gallery\, Warehouse 101\, Al Quoz 2\, Dubai
CATEGORIES:Art,Prints,Talk
GEO:25.1196663;55.217749
X-APPLE-STRUCTURED-LOCATION;VALUE=URI;X-ADDRESS=Aisha Alabbar Gallery Warehouse 101 Al Quoz 2 Dubai;X-APPLE-RADIUS=500;X-TITLE=Warehouse 101\, Al Quoz 2:geo:55.217749,25.1196663
END:VEVENT
BEGIN:VEVENT
DTSTART;TZID=Asia/Dubai:20230712T190000
DTEND;TZID=Asia/Dubai:20230712T200000
DTSTAMP:20260422T220831
CREATED:20230531T100433Z
LAST-MODIFIED:20230531T100433Z
UID:10004623-1689188400-1689192000@magpie.ae
SUMMARY:Artists Talk II: Brian Gonzales\, Diego Mendoza\, Hala El Abora\, ji-Hye Kim
DESCRIPTION:As part of the programme for Press Print!\, the gallery’s current show\, four more of the participating artists talk about their creative process\, inspiration\, and the stories behind their works in the exhibition.
URL:https://magpie.ae/event/artists-talk-ii-brian-gonzales-diego-mendoza-hala-el-abora-ji-hye-kim/
LOCATION:Aisha Alabbar Gallery\, Warehouse 101\, Al Quoz 2\, Dubai
CATEGORIES:Art,Prints,Talk
GEO:25.1196663;55.217749
X-APPLE-STRUCTURED-LOCATION;VALUE=URI;X-ADDRESS=Aisha Alabbar Gallery Warehouse 101 Al Quoz 2 Dubai;X-APPLE-RADIUS=500;X-TITLE=Warehouse 101\, Al Quoz 2:geo:55.217749,25.1196663
END:VEVENT
BEGIN:VEVENT
DTSTART;TZID=Asia/Dubai:20230705T190000
DTEND;TZID=Asia/Dubai:20230705T200000
DTSTAMP:20260422T220831
CREATED:20230531T100237Z
LAST-MODIFIED:20230531T100624Z
UID:10004622-1688583600-1688587200@magpie.ae
SUMMARY:Artists Talk I: Brian Gonzales\, Diego Mendoza\, Hala El Abora\, ji-Hye Kim
DESCRIPTION:As part of the programme for Press Print!\, the gallery’s current show\, four of the participating artists talk about their creative process\, inspiration\, and the stories behind their works in the exhibition. (The other four artists in the exhibition are doing a similar session the following week.)
URL:https://magpie.ae/event/artists-talk-brian-gonzales-diego-mendoza-hala-el-abora-ji-hye-kim/
LOCATION:Aisha Alabbar Gallery\, Warehouse 101\, Al Quoz 2\, Dubai
CATEGORIES:Art,Prints,Talk
GEO:25.1196663;55.217749
X-APPLE-STRUCTURED-LOCATION;VALUE=URI;X-ADDRESS=Aisha Alabbar Gallery Warehouse 101 Al Quoz 2 Dubai;X-APPLE-RADIUS=500;X-TITLE=Warehouse 101\, Al Quoz 2:geo:55.217749,25.1196663
END:VEVENT
BEGIN:VEVENT
DTSTART;TZID=Asia/Dubai:20230613T190000
DTEND;TZID=Asia/Dubai:20230613T200000
DTSTAMP:20260422T220831
CREATED:20230531T100031Z
LAST-MODIFIED:20230531T100118Z
UID:10004621-1686682800-1686686400@magpie.ae
SUMMARY:Talk: Brian Gonzales – International Print Community
DESCRIPTION:As part of the programme for Press Print!\, the gallery’s current show\, Brian Gonzales – printmaker\, art collector\, lecturer at the University of Sharjah and one of the participating artists – explores cultural influences and the power of print to transcend borders.
URL:https://magpie.ae/event/talk-brian-gonzales-international-print-community/
LOCATION:Aisha Alabbar Gallery\, Warehouse 101\, Al Quoz 2\, Dubai
CATEGORIES:Art,Prints,Talk
GEO:25.1196663;55.217749
X-APPLE-STRUCTURED-LOCATION;VALUE=URI;X-ADDRESS=Aisha Alabbar Gallery Warehouse 101 Al Quoz 2 Dubai;X-APPLE-RADIUS=500;X-TITLE=Warehouse 101\, Al Quoz 2:geo:55.217749,25.1196663
END:VEVENT
BEGIN:VEVENT
DTSTART;TZID=Asia/Dubai:20230611T160000
DTEND;TZID=Asia/Dubai:20230611T180000
DTSTAMP:20260422T220831
CREATED:20230531T095611Z
LAST-MODIFIED:20230531T095611Z
UID:10004620-1686499200-1686506400@magpie.ae
SUMMARY:Storytelling Sunday with Suzy Sikorski
DESCRIPTION:As part of the programme for Press Print!\, the gallery’s current show\, Aisha Alabar is hosting a session with Suzy Sikorski of Mid East Art\, “a digital storytelling platform of art and culture of the Middle East region that focuses on analysing the regional modern art scenes”. Led by artists from Press Print! this storytelling session will engage participants in conversation around theory\, process\, and application.
URL:https://magpie.ae/event/storytelling-sunday-with-suzy-sikorski/
LOCATION:Aisha Alabbar Gallery\, Warehouse 101\, Al Quoz 2\, Dubai
CATEGORIES:Art,Prints,Workshop
GEO:25.1196663;55.217749
X-APPLE-STRUCTURED-LOCATION;VALUE=URI;X-ADDRESS=Aisha Alabbar Gallery Warehouse 101 Al Quoz 2 Dubai;X-APPLE-RADIUS=500;X-TITLE=Warehouse 101\, Al Quoz 2:geo:55.217749,25.1196663
END:VEVENT
BEGIN:VEVENT
DTSTART;VALUE=DATE:20230531
DTEND;VALUE=DATE:20230601
DTSTAMP:20260422T220831
CREATED:20230531T092515Z
LAST-MODIFIED:20230531T093105Z
UID:10004617-1685491200-1685577599@magpie.ae
SUMMARY:Press Print!
DESCRIPTION:A group show that celebrates printmaking practices in the UAE\, especially “the inherent experimental potential and various techniques available to artists working today”. From the gallery’s press release: \n\nDubai-based illustrator and printmaker Azim Al Ghussein experiments with image making methods and materials outside the conventional studio. Made using linocut\, tetrapak drypoint and risograph techniques\, Azim’s prints are thoughtful explorations of the capacity for sharing (and caring)\, distribution\, and hospitality.\nUAE-based American printmaker and lecturer Brian Gonzales presents a new series of CMYK screenprints depicting irrational compositions and vibrant colour schemes. The abstract prints that mark the artist’s sixth year in the UAE belong to Brian’s wider narrative unravelling endless enigmas.\nIn a new series of etchings and screenprints\, Diego Mendoza explores culture induced concepts of masculinity by layering multiple image transfer methods to create pattern compositions of overlapping imagery. With visual references to mythological\, current\, and cross-cultural representations of the subject\, Diego portrays changing spectrums of measuring masculinity.\nHala El Abora takes an experimental and interdisciplinary approach to materialise her printmaking process beyond the surface. Inspired by archiving practices\, Hala’s work explores acts of preservation\, merging the real and imaginary into permanent objects facing the test of time.\nJi-Hye Kim conveys the question of self-identity by reflecting on the properties of the UAE’s rocky mountains against natural occurrences\, such as rain and wind. In new large-scale monoprints\, the artist traces the textures of these mountains as if recalling their memories and transformation overtime.\nEmirati artist Khalid Mezaina presents a new body of mixed media prints on paper and fabric\, drawing from his research on regional and historical talismanic practices. In these works\, Khalid repetitively uses simple shape stamps to compose images of movement rituals\, such as dancing.\nSafeya Sharif explores the concept of selective memory in a new series of embossed and linocut prints. By isolating selected scenes of her signature endless hallways\, Safeya highlights the correlation between memory and imagination.\nSalama Nasib presents a new series of prints as part of her continued exploration of memory. In this playful series\, Salama looks at childhood desires to play\, collaging a print illustration of her family home’s slide against screenprinted backdrops of the past.\n\nThe exhibition includes a Print Exchange\, a collection of limited edition prints by each of the eight participating artists available for purchase. \nTo 7 September.
URL:https://magpie.ae/event/press-print/
LOCATION:Aisha Alabbar Gallery\, Warehouse 101\, Al Quoz 2\, Dubai
CATEGORIES:Art,Exhibition,Prints
ATTACH;FMTTYPE=image/jpeg:https://magpie.ae/wp-content/uploads/2023/05/8.-SalamaNasib_LikeAChildseries-Playing3_2023_Monoprint-screenprint-collageonBunkoshipaper_35x20cm_Unique.jpg
GEO:25.1196663;55.217749
X-APPLE-STRUCTURED-LOCATION;VALUE=URI;X-ADDRESS=Aisha Alabbar Gallery Warehouse 101 Al Quoz 2 Dubai;X-APPLE-RADIUS=500;X-TITLE=Warehouse 101\, Al Quoz 2:geo:55.217749,25.1196663
END:VEVENT
END:VCALENDAR