BEGIN:VCALENDAR
VERSION:2.0
PRODID:-//magpie - ECPv6.15.20//NONSGML v1.0//EN
CALSCALE:GREGORIAN
METHOD:PUBLISH
X-ORIGINAL-URL:https://magpie.ae
X-WR-CALDESC:Events for magpie
REFRESH-INTERVAL;VALUE=DURATION:PT1H
X-Robots-Tag:noindex
X-PUBLISHED-TTL:PT1H
BEGIN:VTIMEZONE
TZID:Asia/Dubai
BEGIN:STANDARD
TZOFFSETFROM:+0400
TZOFFSETTO:+0400
TZNAME:+04
DTSTART:20250101T000000
END:STANDARD
END:VTIMEZONE
BEGIN:VEVENT
DTSTART;VALUE=DATE:20261101
DTEND;VALUE=DATE:20261102
DTSTAMP:20260422T234414
CREATED:20260204T101924Z
LAST-MODIFIED:20260204T101924Z
UID:10013398-1793491200-1793577599@magpie.ae
SUMMARY:LAST CHANCE Artists’ Rooms: Kamruzzaman Shahdin
DESCRIPTION:A monumental one-room installation that restages the Bangladeshi artist’s The River Remembers. Originally commissioned by the Diriyah Biennale Foundation and created in 2023\, this large-scale textile work has handcrafted threads mapping the colour of the water of the Teesta and the Brahmaputra\, two rivers flowing through the Bengal delta. Engraved brass disks convey the memories and migration stories of two women in the artist’s life whose own lives were strongly marked by the river.
URL:https://magpie.ae/event/last-chance-artists-rooms-kamruzzaman-shahdin/
LOCATION:Jameel Arts Centre\, Al Jaddaf\, Dubai
CATEGORIES:Art,Exhibition
GEO:25.216757;55.3309395
X-APPLE-STRUCTURED-LOCATION;VALUE=URI;X-ADDRESS=Jameel Arts Centre Al Jaddaf Dubai;X-APPLE-RADIUS=500;X-TITLE=Al Jaddaf:geo:55.3309395,25.216757
END:VEVENT
END:VCALENDAR