BEGIN:VCALENDAR
VERSION:2.0
PRODID:-//magpie - ECPv6.15.20//NONSGML v1.0//EN
CALSCALE:GREGORIAN
METHOD:PUBLISH
X-WR-CALNAME:magpie
X-ORIGINAL-URL:https://magpie.ae
X-WR-CALDESC:Events for magpie
REFRESH-INTERVAL;VALUE=DURATION:PT1H
X-Robots-Tag:noindex
X-PUBLISHED-TTL:PT1H
BEGIN:VTIMEZONE
TZID:Asia/Dubai
BEGIN:STANDARD
TZOFFSETFROM:+0400
TZOFFSETTO:+0400
TZNAME:+04
DTSTART:20250101T000000
END:STANDARD
END:VTIMEZONE
BEGIN:VEVENT
DTSTART;TZID=Asia/Dubai:20260925T200000
DTEND;TZID=Asia/Dubai:20260925T220000
DTSTAMP:20260419T221439
CREATED:20260203T095712Z
LAST-MODIFIED:20260314T095654Z
UID:10013375-1790366400-1790373600@magpie.ae
SUMMARY:Father Ted
DESCRIPTION:How could this stage adaptation of the near legendary Graham Linehan / Arthur Mathews TV series not be seriously funny? Dubai Drama Group says “the show captures everything fans adore about the cult classic: razor-sharp dialogue\, joyfully absurd situations\, and characters who tumble headlong into chaos with divine enthusiasm …” \nCraggy Island is lovingly brought to life for just three performances – one tonight (Friday)\, two tomorrow (at 3pm and 8pm).
URL:https://magpie.ae/event/father-ted/
LOCATION:Theatre by QE2\, Queen Elizabeth 2\, Port Rashid\, Dubai
CATEGORIES:Theatre
GEO:25.2621669;55.2810185
X-APPLE-STRUCTURED-LOCATION;VALUE=URI;X-ADDRESS=Theatre by QE2 Queen Elizabeth 2 Port Rashid Dubai;X-APPLE-RADIUS=500;X-TITLE=Queen Elizabeth 2\, Port Rashid:geo:55.2810185,25.2621669
END:VEVENT
BEGIN:VEVENT
DTSTART;VALUE=DATE:20260926
DTEND;VALUE=DATE:20260927
DTSTAMP:20260419T221439
CREATED:20260203T095837Z
LAST-MODIFIED:20260314T095707Z
UID:10013376-1790380800-1790467199@magpie.ae
SUMMARY:Father Ted
DESCRIPTION:Two further performances for this stage adaptation of the near legendary Graham Linehan / Arthur Mathews TV series. Dubai Drama Group says “the show captures everything fans adore about the cult classic: razor-sharp dialogue\, joyfully absurd situations\, and characters who tumble headlong into chaos with divine enthusiasm …” There are shows at 3pm and 8pm.
URL:https://magpie.ae/event/father-ted-2/
LOCATION:Theatre by QE2\, Queen Elizabeth 2\, Port Rashid\, Dubai
CATEGORIES:Theatre
GEO:25.2621669;55.2810185
X-APPLE-STRUCTURED-LOCATION;VALUE=URI;X-ADDRESS=Theatre by QE2 Queen Elizabeth 2 Port Rashid Dubai;X-APPLE-RADIUS=500;X-TITLE=Queen Elizabeth 2\, Port Rashid:geo:55.2810185,25.2621669
END:VEVENT
BEGIN:VEVENT
DTSTART;VALUE=DATE:20261004
DTEND;VALUE=DATE:20261005
DTSTAMP:20260419T221439
CREATED:20260403T134712Z
LAST-MODIFIED:20260403T134810Z
UID:10013597-1791072000-1791158399@magpie.ae
SUMMARY:Global Positioning System
DESCRIPTION:A group exhibition dedicated to mapping and navigation systems\, “telling stories of fast cars and donkeys\, spinning globes and street barricades\, cosmic highways and broken bridges …” Curated by Indranjan Banerjee and Lucas Morin\, the exhibition presents a wide range of practices\, from research-based critical engagements with infrastructure projects to conceptual works that question the very perception of distance. It’s in two parts\, reflecting Art Jameel’s specific geographic footprint at two extremities of the Arabian Peninsula: at the Jameel in Dubai\, the show centres on navigation systems and mobility networks; at Hayy Jameel in Jeddah the exhibition (which runs to 17 October) focuses on cartography and mapping.
URL:https://magpie.ae/event/global-positioning-system-3/
LOCATION:Jameel Arts Centre\, Al Jaddaf\, Dubai
CATEGORIES:Art,Exhibition
GEO:25.216757;55.3309395
X-APPLE-STRUCTURED-LOCATION;VALUE=URI;X-ADDRESS=Jameel Arts Centre Al Jaddaf Dubai;X-APPLE-RADIUS=500;X-TITLE=Al Jaddaf:geo:55.3309395,25.216757
END:VEVENT
BEGIN:VEVENT
DTSTART;VALUE=DATE:20261101
DTEND;VALUE=DATE:20261102
DTSTAMP:20260419T221439
CREATED:20260204T101924Z
LAST-MODIFIED:20260204T101924Z
UID:10013398-1793491200-1793577599@magpie.ae
SUMMARY:LAST CHANCE Artists’ Rooms: Kamruzzaman Shahdin
DESCRIPTION:A monumental one-room installation that restages the Bangladeshi artist’s The River Remembers. Originally commissioned by the Diriyah Biennale Foundation and created in 2023\, this large-scale textile work has handcrafted threads mapping the colour of the water of the Teesta and the Brahmaputra\, two rivers flowing through the Bengal delta. Engraved brass disks convey the memories and migration stories of two women in the artist’s life whose own lives were strongly marked by the river.
URL:https://magpie.ae/event/last-chance-artists-rooms-kamruzzaman-shahdin/
LOCATION:Jameel Arts Centre\, Al Jaddaf\, Dubai
CATEGORIES:Art,Exhibition
GEO:25.216757;55.3309395
X-APPLE-STRUCTURED-LOCATION;VALUE=URI;X-ADDRESS=Jameel Arts Centre Al Jaddaf Dubai;X-APPLE-RADIUS=500;X-TITLE=Al Jaddaf:geo:55.3309395,25.216757
END:VEVENT
END:VCALENDAR