BEGIN:VCALENDAR
VERSION:2.0
PRODID:-//magpie - ECPv6.15.20//NONSGML v1.0//EN
CALSCALE:GREGORIAN
METHOD:PUBLISH
X-ORIGINAL-URL:https://magpie.ae
X-WR-CALDESC:Events for magpie
REFRESH-INTERVAL;VALUE=DURATION:PT1H
X-Robots-Tag:noindex
X-PUBLISHED-TTL:PT1H
BEGIN:VTIMEZONE
TZID:Asia/Dubai
BEGIN:STANDARD
TZOFFSETFROM:+0400
TZOFFSETTO:+0400
TZNAME:+04
DTSTART:20230101T000000
END:STANDARD
END:VTIMEZONE
BEGIN:VEVENT
DTSTART;VALUE=DATE:20240825
DTEND;VALUE=DATE:20240826
DTSTAMP:20260423T142659
CREATED:20240416T094338Z
LAST-MODIFIED:20240416T094338Z
UID:10008984-1724544000-1724630399@magpie.ae
SUMMARY:LAST CHANCE Mona Ayyash: The Clock Doesn’t Care
DESCRIPTION:In her first solo exhibition\, Mona Ayyash presents a collaborative video piece with a group of actors\, dancers\, and performance artists\, focusing on small body movements. Selected through an open call\, the artist’s collaborators committed to a long-term creative process where they contributed to the work by filming themselves responding to movement prompts\, encouraging them to consider what ‘doing nothing’ looks like. The resulting work is a study of repetitive non-functional movements\, without purpose or productivity; it questions the tension between passing time and wasting time.
URL:https://magpie.ae/event/last-chance-mona-ayyash-the-clock-doesnt-care/
LOCATION:421 Arts Campus\, Mina Zayed\, Abu Dhabi\, United Arab Emirates
CATEGORIES:Art,Exhibition,Video
GEO:24.5224833;54.3877183
X-APPLE-STRUCTURED-LOCATION;VALUE=URI;X-ADDRESS=421 Arts Campus Mina Zayed Abu Dhabi United Arab Emirates;X-APPLE-RADIUS=500;X-TITLE=Mina Zayed:geo:54.3877183,24.5224833
END:VEVENT
BEGIN:VEVENT
DTSTART;VALUE=DATE:20240825
DTEND;VALUE=DATE:20240826
DTSTAMP:20260423T142659
CREATED:20240416T095348Z
LAST-MODIFIED:20240416T095348Z
UID:10008986-1724544000-1724630399@magpie.ae
SUMMARY:LAST CHANCE On a Timeline: 2024 MFA Graduate Show
DESCRIPTION:Marking the third year of collaboration and an expanded partnership between 421 Arts Campus and NYUAD\, the exhibition of work by students completing the two-year Master of Fine Arts in Art and Media at NYUAD showcases research and experimentation by the 2024 MFA cohort “who visualise questions and ideas in expansive ways that provide valuable insights into our contemporary global condition”.
URL:https://magpie.ae/event/last-chance-on-a-timeline-2024-mfa-graduate-show/
LOCATION:421 Arts Campus\, Mina Zayed\, Abu Dhabi\, United Arab Emirates
CATEGORIES:Art,Exhibition,Video
GEO:24.5224833;54.3877183
X-APPLE-STRUCTURED-LOCATION;VALUE=URI;X-ADDRESS=421 Arts Campus Mina Zayed Abu Dhabi United Arab Emirates;X-APPLE-RADIUS=500;X-TITLE=Mina Zayed:geo:54.3877183,24.5224833
END:VEVENT
END:VCALENDAR