BEGIN:VCALENDAR
VERSION:2.0
PRODID:-//magpie - ECPv6.15.20//NONSGML v1.0//EN
CALSCALE:GREGORIAN
METHOD:PUBLISH
X-ORIGINAL-URL:https://magpie.ae
X-WR-CALDESC:Events for magpie
REFRESH-INTERVAL;VALUE=DURATION:PT1H
X-Robots-Tag:noindex
X-PUBLISHED-TTL:PT1H
BEGIN:VTIMEZONE
TZID:Asia/Dubai
BEGIN:STANDARD
TZOFFSETFROM:+0400
TZOFFSETTO:+0400
TZNAME:+04
DTSTART:20230101T000000
END:STANDARD
END:VTIMEZONE
BEGIN:VEVENT
DTSTART;VALUE=DATE:20240630
DTEND;VALUE=DATE:20240701
DTSTAMP:20260423T195109
CREATED:20240508T103328Z
LAST-MODIFIED:20240508T103328Z
UID:10009438-1719705600-1719791999@magpie.ae
SUMMARY:LAST CHANCE Susan Kosti: What Lies Beneath
DESCRIPTION:The Sydney-based media artist and motion graphic designer has assembled a cutting-edge immersive 3D-projection show that translates ocean data collected by NASA into what the organisers describe as “a stunning kaleidoscope of vibrant corals and sea creatures … What Lies Beneath uses a unique visual language and goes far beyond the analytical origins of data visualisation by becoming a work of art”. This a new version of a project that was commissioned by NSW Destination and presented at Vivid Sydney last year.
URL:https://magpie.ae/event/last-chance-susan-kosti-what-lies-beneath/
LOCATION:kanvas Dubai\, Unit 1\, Al Khayat Art Avenue\, 19th Street Al Quoz 1\, Dubai
CATEGORIES:Art,Video
GEO:25.1399294;55.2285748
X-APPLE-STRUCTURED-LOCATION;VALUE=URI;X-ADDRESS=kanvas Dubai Unit 1 Al Khayat Art Avenue 19th Street Al Quoz 1 Dubai;X-APPLE-RADIUS=500;X-TITLE=Unit 1\, Al Khayat Art Avenue\, 19th Street Al Quoz 1:geo:55.2285748,25.1399294
END:VEVENT
END:VCALENDAR