BEGIN:VCALENDAR
VERSION:2.0
PRODID:-//magpie - ECPv6.15.20//NONSGML v1.0//EN
CALSCALE:GREGORIAN
METHOD:PUBLISH
X-WR-CALNAME:magpie
X-ORIGINAL-URL:https://magpie.ae
X-WR-CALDESC:Events for magpie
REFRESH-INTERVAL;VALUE=DURATION:PT1H
X-Robots-Tag:noindex
X-PUBLISHED-TTL:PT1H
BEGIN:VTIMEZONE
TZID:Asia/Dubai
BEGIN:STANDARD
TZOFFSETFROM:+0400
TZOFFSETTO:+0400
TZNAME:+04
DTSTART:20230101T000000
END:STANDARD
END:VTIMEZONE
BEGIN:VEVENT
DTSTART;VALUE=DATE:20240509
DTEND;VALUE=DATE:20240510
DTSTAMP:20260424T032602
CREATED:20240508T103249Z
LAST-MODIFIED:20240508T103249Z
UID:10009437-1715212800-1715299199@magpie.ae
SUMMARY:Susan Kosti: What Lies Beneath
DESCRIPTION:The Sydney-based media artist and motion graphic designer has assembled a cutting-edge immersive 3D-projection show that translates ocean data collected by NASA into what the organisers describe as “a stunning kaleidoscope of vibrant corals and sea creatures … What Lies Beneath uses a unique visual language and goes far beyond the analytical origins of data visualisation by becoming a work of art”. \nThis a new version of a project that was commissioned by NSW Destination and presented at Vivid Sydney last year. To 30 June.
URL:https://magpie.ae/event/susan-kosti-what-lies-beneath/
LOCATION:kanvas Dubai\, Unit 1\, Al Khayat Art Avenue\, 19th Street Al Quoz 1\, Dubai
CATEGORIES:Art,Video
ATTACH;FMTTYPE=image/jpeg:https://magpie.ae/wp-content/uploads/2024/05/kosti-1.jpg
GEO:25.1399294;55.2285748
X-APPLE-STRUCTURED-LOCATION;VALUE=URI;X-ADDRESS=kanvas Dubai Unit 1 Al Khayat Art Avenue 19th Street Al Quoz 1 Dubai;X-APPLE-RADIUS=500;X-TITLE=Unit 1\, Al Khayat Art Avenue\, 19th Street Al Quoz 1:geo:55.2285748,25.1399294
END:VEVENT
BEGIN:VEVENT
DTSTART;VALUE=DATE:20240516
DTEND;VALUE=DATE:20240517
DTSTAMP:20260424T032602
CREATED:20240416T094301Z
LAST-MODIFIED:20240514T124414Z
UID:10008983-1715817600-1715903999@magpie.ae
SUMMARY:Mona Ayyash: The Clock Doesn’t Care
DESCRIPTION:For her first solo exhibition\, the culmination of the artist’s participation in the 2024 cycle of the 421 Artistic Development Program\, Ayyash presents a collaborative video piece focusing on small body movements. Created with a group of actors\, dancers\, and performance artists selected through an open call\, the piece is a study of repetitive non-functional movements\, without purpose or productivity\, that questions the tension between passing time and wasting time. \nThe collaborators filmed themselves responding to movement prompts\, encouraging them to consider what ‘doing nothing’ looks like; Ayyash extracts fragments of the collected footage and edits them to be layered one over the other or side-by-side\, constantly changing\, accumulating\, and subtracting. The everyday and the mundane are themes highlighted in work\, as the bodies are stuck repeating their movements in a loop\, going nowhere. Without a clear narrative to hold the spectator’s attention\, the exhibition serves as a playful inquiry into the objective nature of time. \nThis project grew from the artist’s earlier participation in the Homebound Residency Program in 2020\, where she produced a video work titled Folding Bellies in collaboration with five participants from the UAE art community. \nTo 25 August.
URL:https://magpie.ae/event/mona-ayyash-the-clock-doesnt-care/
LOCATION:421 Arts Campus\, Mina Zayed\, Abu Dhabi\, United Arab Emirates
CATEGORIES:Art,Exhibition,Video
ATTACH;FMTTYPE=image/jpeg:https://magpie.ae/wp-content/uploads/2024/04/Mona-Ayyash-The-Clock-Doesnt-Care-1.jpeg
GEO:24.5224833;54.3877183
X-APPLE-STRUCTURED-LOCATION;VALUE=URI;X-ADDRESS=421 Arts Campus Mina Zayed Abu Dhabi United Arab Emirates;X-APPLE-RADIUS=500;X-TITLE=Mina Zayed:geo:54.3877183,24.5224833
END:VEVENT
BEGIN:VEVENT
DTSTART;VALUE=DATE:20240516
DTEND;VALUE=DATE:20240517
DTSTAMP:20260424T032602
CREATED:20240416T095300Z
LAST-MODIFIED:20240514T124112Z
UID:10008985-1715817600-1715903999@magpie.ae
SUMMARY:On a Timeline: 2024 MFA Graduate Show
DESCRIPTION:Marking the third year of collaboration and an expanded partnership between 421 Arts Campus and NYUAD\, this exhibition of work by students completing the two-year Master of Fine Arts in Art and Media at NYUAD showcases research and experimentation by the 2024 MFA cohort “who visualise questions and ideas in expansive ways that provide valuable insights into our contemporary global condition”. Featured are projects by Sara Alahbabi\, Ciel Arbour-Boehme\, Zara Mahmood\, Fatima Al Romaithi\, and Farah Soltani. \nSays 421: “This collaboration between 421 and NYUAD supports the production of emergent contemporary practices from the region through facilitating explorations by MFA graduates. The yearly exhibition offers graduate students a platform to showcase their artistic research and growth developed throughout their academic program\, emphasising the significance of sharing their work with the broader community.” \nTo 25 August.
URL:https://magpie.ae/event/on-a-timeline-2024-mfa-graduate-show/
LOCATION:421 Arts Campus\, Mina Zayed\, Abu Dhabi\, United Arab Emirates
CATEGORIES:Art,Exhibition,Video
ATTACH;FMTTYPE=image/jpeg:https://magpie.ae/wp-content/uploads/2024/04/mfa-2024.jpg
GEO:24.5224833;54.3877183
X-APPLE-STRUCTURED-LOCATION;VALUE=URI;X-ADDRESS=421 Arts Campus Mina Zayed Abu Dhabi United Arab Emirates;X-APPLE-RADIUS=500;X-TITLE=Mina Zayed:geo:54.3877183,24.5224833
END:VEVENT
END:VCALENDAR