BEGIN:VCALENDAR
VERSION:2.0
PRODID:-//magpie - ECPv6.15.20//NONSGML v1.0//EN
CALSCALE:GREGORIAN
METHOD:PUBLISH
X-WR-CALNAME:magpie
X-ORIGINAL-URL:https://magpie.ae
X-WR-CALDESC:Events for magpie
REFRESH-INTERVAL;VALUE=DURATION:PT1H
X-Robots-Tag:noindex
X-PUBLISHED-TTL:PT1H
BEGIN:VTIMEZONE
TZID:Asia/Dubai
BEGIN:STANDARD
TZOFFSETFROM:+0400
TZOFFSETTO:+0400
TZNAME:+04
DTSTART:20250101T000000
END:STANDARD
END:VTIMEZONE
BEGIN:VEVENT
DTSTART;VALUE=DATE:20260516
DTEND;VALUE=DATE:20260517
DTSTAMP:20260425T082617
CREATED:20260414T175522Z
LAST-MODIFIED:20260414T175629Z
UID:10013625-1778889600-1778975999@magpie.ae
SUMMARY:Short+Sweet Dubai: People’s Choice Semi-Finals
DESCRIPTION:The semi finals weekend of the festival of 10-minute plays\, today being for the People’s Choices. The best playlets will return to compete for the top prizes on the Gala Weekend\, 23-24 May. \nTimes\, dates\, prices: \n3.00-5.00pm 16 May AED 150 People’s Choice Semi-Final 1\n7.30-9.30pm 16 May AED 150 People’s Choice Semi-Final 2\n3.00-5.00pm 17 May AED 150 Judge’s Choice Semi-Final 1\n7.30-9.30pm 17 May AED 150 Judge’s Choice Semi-Final 2\n 
URL:https://magpie.ae/event/shortsweet-dubai-peoples-choice-semi-finals/
LOCATION:New Covent Garden Theatre\, Mall of the Emirates\, Dubai
CATEGORIES:Theatre
GEO:25.118107;55.200608
X-APPLE-STRUCTURED-LOCATION;VALUE=URI;X-ADDRESS=New Covent Garden Theatre Mall of the Emirates Dubai;X-APPLE-RADIUS=500;X-TITLE=Mall of the Emirates:geo:55.200608,25.118107
END:VEVENT
BEGIN:VEVENT
DTSTART;VALUE=DATE:20260516
DTEND;VALUE=DATE:20260517
DTSTAMP:20260425T082617
CREATED:20260414T175620Z
LAST-MODIFIED:20260414T175620Z
UID:10013626-1778889600-1778975999@magpie.ae
SUMMARY:Short+Sweet Dubai: Judge’s Choice Semi-Finals
DESCRIPTION:The semi finals weekend of the festival of 10-minute plays\, today being for the Judge’s Choices. The best playlets will return to compete for the top prizes on the Gala Weekend\, 23-24 May. \nTimes\, dates\, prices: \n3.00-5.00pm 17 May AED 150 Judge’s Choice Semi-Final 1\n7.30-9.30pm 17 May AED 150 Judge’s Choice Semi-Final 2\n 
URL:https://magpie.ae/event/shortsweet-dubai-judges-choice-semi-finals/
LOCATION:New Covent Garden Theatre\, Mall of the Emirates\, Dubai
CATEGORIES:Theatre
GEO:25.118107;55.200608
X-APPLE-STRUCTURED-LOCATION;VALUE=URI;X-ADDRESS=New Covent Garden Theatre Mall of the Emirates Dubai;X-APPLE-RADIUS=500;X-TITLE=Mall of the Emirates:geo:55.200608,25.118107
END:VEVENT
BEGIN:VEVENT
DTSTART;TZID=Asia/Dubai:20260516T193000
DTEND;TZID=Asia/Dubai:20260516T213000
DTSTAMP:20260425T082617
CREATED:20260414T152744Z
LAST-MODIFIED:20260414T152814Z
UID:10013613-1778959800-1778967000@magpie.ae
SUMMARY:X Fest DXB: weekend 4
DESCRIPTION:The penultimate weekend for the Junction’s short play festival: if you’ve been attending all performances\, you could have seen something like 70 original 10-minute plays by now … The strongest return to the stage to compete for the top honours of the festival on the Finals Weekend\, 22-24 May. \nUpcoming times\, dates\, prices: \n7.30pm 16 May AED 120\n7.30pm 17 May AED 120\n7.30pm 22 May tbc\n7.30pm 23 May tbc\n7.30pm 24 May tbc\n  \n 
URL:https://magpie.ae/event/x-fest-dxb-weekend-4-3/
LOCATION:The Junction\, Unit H72\, Alserkal Avenue\, Dubai\, United Arab Emirates
CATEGORIES:Theatre
GEO:25.1431157;55.2246127
X-APPLE-STRUCTURED-LOCATION;VALUE=URI;X-ADDRESS=The Junction Unit H72 Alserkal Avenue Dubai United Arab Emirates;X-APPLE-RADIUS=500;X-TITLE=Unit H72\, Alserkal Avenue:geo:55.2246127,25.1431157
END:VEVENT
BEGIN:VEVENT
DTSTART;TZID=Asia/Dubai:20260516T193000
DTEND;TZID=Asia/Dubai:20260516T213000
DTSTAMP:20260425T082617
CREATED:20260414T152808Z
LAST-MODIFIED:20260414T152808Z
UID:10013614-1778959800-1778967000@magpie.ae
SUMMARY:X Fest DXB: weekend 4
DESCRIPTION:The penultimate weekend for the Junction’s short play festival: if you’ve been attending all performances\, you could have seen something like 70 original 10-minute plays by now … The strongest return to the stage to compete for the top honours of the festival on the Finals Weekend\, 22-24 May. \nUpcoming times\, dates\, prices: \n7.30pm 22 May tbc\n7.30pm 23 May tbc\n7.30pm 24 May tbc\n  \n 
URL:https://magpie.ae/event/x-fest-dxb-weekend-4-4/
LOCATION:The Junction\, Unit H72\, Alserkal Avenue\, Dubai\, United Arab Emirates
CATEGORIES:Theatre
GEO:25.1431157;55.2246127
X-APPLE-STRUCTURED-LOCATION;VALUE=URI;X-ADDRESS=The Junction Unit H72 Alserkal Avenue Dubai United Arab Emirates;X-APPLE-RADIUS=500;X-TITLE=Unit H72\, Alserkal Avenue:geo:55.2246127,25.1431157
END:VEVENT
END:VCALENDAR