BEGIN:VCALENDAR
VERSION:2.0
PRODID:-//magpie - ECPv6.15.20//NONSGML v1.0//EN
CALSCALE:GREGORIAN
METHOD:PUBLISH
X-ORIGINAL-URL:https://magpie.ae
X-WR-CALDESC:Events for magpie
REFRESH-INTERVAL;VALUE=DURATION:PT1H
X-Robots-Tag:noindex
X-PUBLISHED-TTL:PT1H
BEGIN:VTIMEZONE
TZID:Asia/Dubai
BEGIN:STANDARD
TZOFFSETFROM:+0400
TZOFFSETTO:+0400
TZNAME:+04
DTSTART:20250101T000000
END:STANDARD
END:VTIMEZONE
BEGIN:VEVENT
DTSTART;TZID=Asia/Dubai:20260328T193000
DTEND;TZID=Asia/Dubai:20260328T210000
DTSTAMP:20260425T082930
CREATED:20260325T134954Z
LAST-MODIFIED:20260325T135005Z
UID:10013533-1774726200-1774731600@magpie.ae
SUMMARY:Jake's Women
DESCRIPTION:A second performance for Neil Simon’s comedy of relationships. Jake is a New York novelist with a troubled marriage; he can’t stop talking to other women in his life\, some of whom are imaginary\, in an attempt to gain some insight on the problem … There’s a final show on 29 March.
URL:https://magpie.ae/event/jakes-women-2/
LOCATION:The Junction\, Unit H72\, Alserkal Avenue\, Dubai\, United Arab Emirates
CATEGORIES:Theatre
GEO:25.1431157;55.2246127
X-APPLE-STRUCTURED-LOCATION;VALUE=URI;X-ADDRESS=The Junction Unit H72 Alserkal Avenue Dubai United Arab Emirates;X-APPLE-RADIUS=500;X-TITLE=Unit H72\, Alserkal Avenue:geo:55.2246127,25.1431157
END:VEVENT
END:VCALENDAR