BEGIN:VCALENDAR
VERSION:2.0
PRODID:-//magpie - ECPv6.15.20//NONSGML v1.0//EN
CALSCALE:GREGORIAN
METHOD:PUBLISH
X-WR-CALNAME:magpie
X-ORIGINAL-URL:https://magpie.ae
X-WR-CALDESC:Events for magpie
REFRESH-INTERVAL;VALUE=DURATION:PT1H
X-Robots-Tag:noindex
X-PUBLISHED-TTL:PT1H
BEGIN:VTIMEZONE
TZID:Asia/Dubai
BEGIN:STANDARD
TZOFFSETFROM:+0400
TZOFFSETTO:+0400
TZNAME:+04
DTSTART:20250101T000000
END:STANDARD
END:VTIMEZONE
BEGIN:VEVENT
DTSTART;TZID=Asia/Dubai:20260305T200000
DTEND;TZID=Asia/Dubai:20260305T213000
DTSTAMP:20260425T065526
CREATED:20260112T183018Z
LAST-MODIFIED:20260112T183018Z
UID:10013239-1772740800-1772746200@magpie.ae
SUMMARY:Le Prénom
DESCRIPTION:Culture Emulsion’s production (in French\, of course) of the popular comedy by Matthieu Delaporte and Alexandre de la Patellière that premiered in 2010 and went on to become a successful film adaptation. It’s a story about names and family relationships; 40-something Vincent is about to become a father for the first time. Invited to dinner by his sister and brother-in-law\, he meets up with childhood friend Claude. A convivial evening ensues – until Vincent announces the baby’s name … \nThere are further performances at 8pm on 6\, 7 and 8 March.
URL:https://magpie.ae/event/le-prenom-2/
LOCATION:The Junction\, Unit H72\, Alserkal Avenue\, Dubai\, United Arab Emirates
CATEGORIES:Theatre
GEO:25.1431157;55.2246127
X-APPLE-STRUCTURED-LOCATION;VALUE=URI;X-ADDRESS=The Junction Unit H72 Alserkal Avenue Dubai United Arab Emirates;X-APPLE-RADIUS=500;X-TITLE=Unit H72\, Alserkal Avenue:geo:55.2246127,25.1431157
END:VEVENT
BEGIN:VEVENT
DTSTART;TZID=Asia/Dubai:20260306T200000
DTEND;TZID=Asia/Dubai:20260306T213000
DTSTAMP:20260425T065526
CREATED:20260112T183119Z
LAST-MODIFIED:20260112T183119Z
UID:10013240-1772827200-1772832600@magpie.ae
SUMMARY:Le Prénom
DESCRIPTION:Second of four Junction performances for Culture Emulsion’s production (in French\, of course) of the popular comedy by Matthieu Delaporte and Alexandre de la Patellière. Forty-something Vincent is about to become a father for the first time. Invited to dinner by his sister and brother-in-law\, he meets up with childhood friend Claude. A convivial evening ensues – until Vincent announces the baby’s name … \nThere are further performances at 8pm on 7 and 8 March.
URL:https://magpie.ae/event/le-prenom-3/
LOCATION:The Junction\, Unit H72\, Alserkal Avenue\, Dubai\, United Arab Emirates
CATEGORIES:Theatre
GEO:25.1431157;55.2246127
X-APPLE-STRUCTURED-LOCATION;VALUE=URI;X-ADDRESS=The Junction Unit H72 Alserkal Avenue Dubai United Arab Emirates;X-APPLE-RADIUS=500;X-TITLE=Unit H72\, Alserkal Avenue:geo:55.2246127,25.1431157
END:VEVENT
BEGIN:VEVENT
DTSTART;TZID=Asia/Dubai:20260327T193000
DTEND;TZID=Asia/Dubai:20260327T210000
DTSTAMP:20260425T065526
CREATED:20260325T134835Z
LAST-MODIFIED:20260325T134835Z
UID:10013532-1774639800-1774645200@magpie.ae
SUMMARY:Jake's Women
DESCRIPTION:Jake is a New York novelist with a troubled marriage; he can’t stop talking to other women in his life\, some of whom are imaginary\, in an attempt to gain some insight on the problem – his daughter Molly\, his sister Karen\, his psychiatrist Edith\, his dead wife Julie … The result is a poignant comedy with a witty take on modern relationships. It’s by Neil Simon\, of course\, but you could probably have guessed that. Sumaya Kubeisy for the Junction’s house company H2 Productions. \nThere are two further performances on 28 and 29 March.
URL:https://magpie.ae/event/jakes-women/
LOCATION:The Junction\, Unit H72\, Alserkal Avenue\, Dubai\, United Arab Emirates
CATEGORIES:Theatre
GEO:25.1431157;55.2246127
X-APPLE-STRUCTURED-LOCATION;VALUE=URI;X-ADDRESS=The Junction Unit H72 Alserkal Avenue Dubai United Arab Emirates;X-APPLE-RADIUS=500;X-TITLE=Unit H72\, Alserkal Avenue:geo:55.2246127,25.1431157
END:VEVENT
BEGIN:VEVENT
DTSTART;TZID=Asia/Dubai:20260328T193000
DTEND;TZID=Asia/Dubai:20260328T210000
DTSTAMP:20260425T065526
CREATED:20260325T134954Z
LAST-MODIFIED:20260325T135005Z
UID:10013533-1774726200-1774731600@magpie.ae
SUMMARY:Jake's Women
DESCRIPTION:A second performance for Neil Simon’s comedy of relationships. Jake is a New York novelist with a troubled marriage; he can’t stop talking to other women in his life\, some of whom are imaginary\, in an attempt to gain some insight on the problem … There’s a final show on 29 March.
URL:https://magpie.ae/event/jakes-women-2/
LOCATION:The Junction\, Unit H72\, Alserkal Avenue\, Dubai\, United Arab Emirates
CATEGORIES:Theatre
GEO:25.1431157;55.2246127
X-APPLE-STRUCTURED-LOCATION;VALUE=URI;X-ADDRESS=The Junction Unit H72 Alserkal Avenue Dubai United Arab Emirates;X-APPLE-RADIUS=500;X-TITLE=Unit H72\, Alserkal Avenue:geo:55.2246127,25.1431157
END:VEVENT
BEGIN:VEVENT
DTSTART;TZID=Asia/Dubai:20260329T193000
DTEND;TZID=Asia/Dubai:20260329T210000
DTSTAMP:20260425T065526
CREATED:20260325T135035Z
LAST-MODIFIED:20260325T135035Z
UID:10013534-1774812600-1774818000@magpie.ae
SUMMARY:Jake's Women
DESCRIPTION:Final performance for Neil Simon’s comedy of relationships. Jake is a New York novelist with a troubled marriage; he can’t stop talking to other women in his life\, some of whom are imaginary\, in an attempt to gain some insight on the problem …
URL:https://magpie.ae/event/jakes-women-3/
LOCATION:The Junction\, Unit H72\, Alserkal Avenue\, Dubai\, United Arab Emirates
CATEGORIES:Theatre
GEO:25.1431157;55.2246127
X-APPLE-STRUCTURED-LOCATION;VALUE=URI;X-ADDRESS=The Junction Unit H72 Alserkal Avenue Dubai United Arab Emirates;X-APPLE-RADIUS=500;X-TITLE=Unit H72\, Alserkal Avenue:geo:55.2246127,25.1431157
END:VEVENT
END:VCALENDAR