BEGIN:VCALENDAR
VERSION:2.0
PRODID:-//magpie - ECPv6.15.20//NONSGML v1.0//EN
CALSCALE:GREGORIAN
METHOD:PUBLISH
X-WR-CALNAME:magpie
X-ORIGINAL-URL:https://magpie.ae
X-WR-CALDESC:Events for magpie
REFRESH-INTERVAL;VALUE=DURATION:PT1H
X-Robots-Tag:noindex
X-PUBLISHED-TTL:PT1H
BEGIN:VTIMEZONE
TZID:Asia/Dubai
BEGIN:STANDARD
TZOFFSETFROM:+0400
TZOFFSETTO:+0400
TZNAME:+04
DTSTART:20220101T000000
END:STANDARD
END:VTIMEZONE
BEGIN:VEVENT
DTSTART;TZID=Asia/Dubai:20260213T160000
DTEND;TZID=Asia/Dubai:20260213T210000
DTSTAMP:20260425T051341
CREATED:20260108T142105Z
LAST-MODIFIED:20260114T131940Z
UID:10013221-1770998400-1771016400@magpie.ae
SUMMARY:NVIDIA Studio Nights 6
DESCRIPTION:This free-to-attend event for the UAE’s creative community – including “leading creators\, designers\, press\, influencers\, and key industry partners” – is NVIDIA’s sixth such gathering; previous venues were in KSA\, Egypt\, Turkey\, and Abu Dhabi (back in February 2024). The aim is to showcase work\, connect with industry peers\, discover new opportunities\, and explore the future of digital artistry as facilitated (of course) by the NVIDIA Studio platform. Plus perhaps a bit of demonstrating and promoting for NVIDIA Studio. \nYou also get the chance to see the entries for the Creative Challenge\, which indeed you may want to enter – there are categories for 3D/CGI\, interior design\, short films\, photography\, and digital fashion. Entrants have to be using an NVDIA product and must submit work that reflects the event’s theme\, which is just ‘Museum of the Future\, Dubai’. There will be “exciting” prizes and trophies\, plus recognition on NVIDIA’s social channels; the deadline for entries is 25 January. More details and the entry form are here. \nYou can register here to attend as a non-participating guest (limited slots available\, and it looks as though you have to be approved too: the application form includes questions like ‘How will this event benefit your career’ which will presumably be the dealbreaker).
URL:https://magpie.ae/event/nvidia-studio-night-6/
LOCATION:Museum of the Future\, Trade Centre 2\, Sheikh Zayed Rd\, Dubai
CATEGORIES:Competition,Design,Tech
ATTACH;FMTTYPE=image/webp:https://magpie.ae/wp-content/uploads/2026/01/nvidia-studio.webp
GEO:25.2234381;55.2836908
X-APPLE-STRUCTURED-LOCATION;VALUE=URI;X-ADDRESS=Museum of the Future Trade Centre 2 Sheikh Zayed Rd Dubai;X-APPLE-RADIUS=500;X-TITLE=Trade Centre 2\, Sheikh Zayed Rd:geo:55.2836908,25.2234381
END:VEVENT
BEGIN:VEVENT
DTSTART;TZID=Asia/Dubai:20231006T080000
DTEND;TZID=Asia/Dubai:20231008T170000
DTSTAMP:20260425T051341
CREATED:20230926T085529Z
LAST-MODIFIED:20230926T090254Z
UID:10005585-1696579200-1696784400@magpie.ae
SUMMARY:Festival X
DESCRIPTION:This is the second edition of a festival that described itself as “the point of intersection between art\, technology and the community … The main goal is to attract and create a community of open minded artists\, scientists\, and tech experts to come together and share knowledge”. It also aims to promote an alternative to “the ‘entertainment-only’ lifestyle in Dubai”. \nThat was for the original festival\, which ran back in 2022 with some success. The upcoming version tomes down the rhetoric somewhat but retains a strapline of ‘arts / technology / science’ and adds an overlay of community. The UAE is seen as “a special ecosystem in which people and their culture\, tools\, and relationship with nature form a special alliance … This raises the question of how this complex life situation can be artistically reflected and what artistic forms of expression and tools can emerge from it … The contemporary form of media art\, which engages with a society shaped by new technologies and the associated risks and opportunities\, is presented …” \nThe organisers say their goal is to promote a local artistic community through this future-oriented art form” “inspired by the dynamics of the region’s unique circumstances\, a distinct dialectic of media art will emerge”. \nSounds impressive\, and at the very least Festival X should stimulate thought if not action. It runs for three days in Alserkal Avenue\, with Exhibitions of curated installations and projects with the title  ‘From the past we love\, to the future we need’ in Alserkal Avenue’s Concrete and Warehouse 46; a couple of Workshops; Performances in the evening on all three days; and a short programme of panel discussions. \nThe workshops are by new media artist Amir Bastan (“An Astrolabe for Computational Arts”\, 10am on all three days) and James Kelly from NYUAD (active sound researcher/performer\, vinyl enthusiast\, and responsible for the interesting Phonography show back in February; his workshop is repeated on two days only). The performance schedule also looks interesting – they include a total of five sessions by James Kelly again\, immersive AV installations from Italian artist Michela Pelusio\, soundscapes by Safeya Alblooshi from NYUAD\, and the very cool Sahar Homami who creates real-time visual content “at the intersection of art\, technology\, philosophy\, and mysticism”. \nThe panels and presentations look to be more of a mixed bag\, with a Keynote session on two days followed by a panel. The keynotes are two hours of bite-size contributions from individuals and organisations apparently without a specific theme\, and they range from educational institutions like DIDI\, VCUarts Qatar\, and NYUAD through local business-oriented organisations like PwC Middle East and Dubai Economy & Tourism to thought leaders Ars Electronica and Alserkal Avenue (the original inspiration for Festival X does apparently come largely from Ars Electronica\, an Austrian new media art institute which also runs a similar “festival for art\, technology and society“). \nThat leaves two panels\, both of which seem to us to be a little underserved timewise and slightly baffling in their choice of subject. There’s only 45 minutes for the first\, ‘How to Create a Connection Between Tradition\, Innovation and Vision’ with which has contributions from Ars Electronica\, Alserkal Avenue\, Dubai Future Foundation\, Dubai Department of Economy & Tourism Dubai\, and PwC MiddleEast. The moderator is Olof Van Winden\, Founder and Director of TodaysArt Festival (maybe we’ll get to hear whether the Festival will be returning in its original format). And on the final day there’s what looks like another meaty topic with only an hour allowed for it; we think the subject is ‘The University Portal: Fast Forward To The Future And Back’\, which makes sense given that the panellists come from all those educational bodies (with Amir Bastan as moderator)\, but elsewhere in the website it’s listed as ‘How Media Artists Can Shape the Future’. \nThe best news is that it’s all free\, though you do have to pre-register for individual sessions presumably to give the organisers a chance to manage numbers. \n 
URL:https://magpie.ae/event/festival-x-2/
LOCATION:Alserkal Avenue\, Al Quoz 1\, Dubai
CATEGORIES:Festival,Tech
GEO:25.168395;55.2563077
X-APPLE-STRUCTURED-LOCATION;VALUE=URI;X-ADDRESS=Alserkal Avenue Al Quoz 1 Dubai;X-APPLE-RADIUS=500;X-TITLE=Al Quoz 1:geo:55.2563077,25.168395
END:VEVENT
END:VCALENDAR