BEGIN:VCALENDAR
VERSION:2.0
PRODID:-//magpie - ECPv6.15.20//NONSGML v1.0//EN
CALSCALE:GREGORIAN
METHOD:PUBLISH
X-WR-CALNAME:magpie
X-ORIGINAL-URL:https://magpie.ae
X-WR-CALDESC:Events for magpie
REFRESH-INTERVAL;VALUE=DURATION:PT1H
X-Robots-Tag:noindex
X-PUBLISHED-TTL:PT1H
BEGIN:VTIMEZONE
TZID:Asia/Dubai
BEGIN:STANDARD
TZOFFSETFROM:+0400
TZOFFSETTO:+0400
TZNAME:+04
DTSTART:20250101T000000
END:STANDARD
END:VTIMEZONE
BEGIN:VEVENT
DTSTART;TZID=Asia/Dubai:20260118T190000
DTEND;TZID=Asia/Dubai:20260118T203000
DTSTAMP:20260422T235917
CREATED:20251231T152214Z
LAST-MODIFIED:20251231T152214Z
UID:10013166-1768762800-1768768200@magpie.ae
SUMMARY:School is a City: Prasad Shetty and Rupali Gupte
DESCRIPTION:Prasad Shetty and Rupali Gupte reflect on the motivations and challenges that shaped their commitment to the School of Environment and Architecture in Mumbai which they founded in 2014. Today\, it is a fully accredited architecture school with around 200 students\, 30 faculty members\, and a reputation for a critical and playfully experimental approach. Gupte and Shetty suggest one of the clearest ways architects contribute to a city: by engaging those who will soon be designing it. \nThis is a public event associated with the Jameel’s Night School 2026\, an intensive five-week seminar programme (which itself is now fully subscribed).
URL:https://magpie.ae/event/school-is-a-city-prasad-shetty-and-rupali-gupte/
LOCATION:Jameel Arts Centre\, Al Jaddaf\, Dubai
CATEGORIES:Talk
GEO:25.216757;55.3309395
X-APPLE-STRUCTURED-LOCATION;VALUE=URI;X-ADDRESS=Jameel Arts Centre Al Jaddaf Dubai;X-APPLE-RADIUS=500;X-TITLE=Al Jaddaf:geo:55.3309395,25.216757
END:VEVENT
END:VCALENDAR