BEGIN:VCALENDAR
VERSION:2.0
PRODID:-//magpie - ECPv6.15.20//NONSGML v1.0//EN
CALSCALE:GREGORIAN
METHOD:PUBLISH
X-WR-CALNAME:magpie
X-ORIGINAL-URL:https://magpie.ae
X-WR-CALDESC:Events for magpie
REFRESH-INTERVAL;VALUE=DURATION:PT1H
X-Robots-Tag:noindex
X-PUBLISHED-TTL:PT1H
BEGIN:VTIMEZONE
TZID:Asia/Dubai
BEGIN:STANDARD
TZOFFSETFROM:+0400
TZOFFSETTO:+0400
TZNAME:+04
DTSTART:20240101T000000
END:STANDARD
END:VTIMEZONE
BEGIN:VEVENT
DTSTART;TZID=Asia/Dubai:20251102T150000
DTEND;TZID=Asia/Dubai:20251102T163000
DTSTAMP:20260423T042616
CREATED:20251028T091913Z
LAST-MODIFIED:20251028T091913Z
UID:10012959-1762095600-1762101000@magpie.ae
SUMMARY:Hussein Nassereddine: You\, Only\, Inhabit My Years
DESCRIPTION:Artist and writer Hussein Nassereddine\, the Alserkal Arts Foundation’s Fall 2025 resident\, presents an afternoon of film and reading around poetics of time\, repetition\, and the limits of language. He will present his recent video work You\, Only\, Inhabit My Years (2025)\, followed by readings from his forthcoming book Years of the Shining Face\, and a discussion with artist and researcher Lawrence Abu Hamdan.
URL:https://magpie.ae/event/hussein-nassereddine-you-only-inhabit-my-years/
LOCATION:Alserkal Arts Foundation Common Room\, Warehouse 51\, Alserkal Avenue\, Dubai
CATEGORIES:Art,Talk,Video
ATTACH;FMTTYPE=image/webp:https://magpie.ae/wp-content/uploads/2025/10/Hussein-Nassereddine-You-Only-Inhabit-My-Years-2025-Image-courtesy-of-the-Artist-1.webp
GEO:25.2048493;55.2707828
X-APPLE-STRUCTURED-LOCATION;VALUE=URI;X-ADDRESS=Alserkal Arts Foundation Common Room Warehouse 51 Alserkal Avenue Dubai;X-APPLE-RADIUS=500;X-TITLE=Warehouse 51\, Alserkal Avenue:geo:55.2707828,25.2048493
END:VEVENT
BEGIN:VEVENT
DTSTART;TZID=Asia/Dubai:20251120T180000
DTEND;TZID=Asia/Dubai:20251120T200000
DTSTAMP:20260423T042616
CREATED:20251113T101940Z
LAST-MODIFIED:20251113T102552Z
UID:10013065-1763661600-1763668800@magpie.ae
SUMMARY:Art Thinking: The Intricacies of Corporate and Brand Patronage
DESCRIPTION:What do Louis Vuitton\, Marina Abramović and BMW have in common? According to cultural strategist Vadim Grigoryan in his newly published book\, Art Thinking: Art\, Meaning and Brand Leadership\, they are all players in the evolving relationship between the art world and brands – where creativity meets commerce and where brands increasingly function as cultural agents. \nThe book invites readers to explore the intersection of art\, luxury\, and fashion brands\, examining the role of brands as cultural agents and the potential of art to serve as a bridge between meaning and management. It offers practical guidance for developing strategic art initiatives\, managing artist collaborations\, and understanding the artistic process behind creativity. \nAs part of the launch for Sorbonne University Abu Dhabi’s new Executive Education Program on ‘Art and Luxury’\, focusing on luxury branding in the Gulf countries\, Vadim Grigoryan will introduce his book and discuss the role of art and culture in building brands today – with emphasis on the importance of high-level academic programmes as an added value for management in the luxury sector.
URL:https://magpie.ae/event/art-thinking-the-intricacies-of-corporate-and-brand-patronage/
LOCATION:Sorbonne University Abu Dhabi\, Reem Island\, Abu Dhabi
CATEGORIES:Talk
GEO:24.4942437;54.4068603
X-APPLE-STRUCTURED-LOCATION;VALUE=URI;X-ADDRESS=Sorbonne University Abu Dhabi Reem Island Abu Dhabi;X-APPLE-RADIUS=500;X-TITLE=Reem Island:geo:54.4068603,24.4942437
END:VEVENT
END:VCALENDAR