BEGIN:VCALENDAR
VERSION:2.0
PRODID:-//magpie - ECPv6.15.20//NONSGML v1.0//EN
CALSCALE:GREGORIAN
METHOD:PUBLISH
X-WR-CALNAME:magpie
X-ORIGINAL-URL:https://magpie.ae
X-WR-CALDESC:Events for magpie
REFRESH-INTERVAL;VALUE=DURATION:PT1H
X-Robots-Tag:noindex
X-PUBLISHED-TTL:PT1H
BEGIN:VTIMEZONE
TZID:Asia/Dubai
BEGIN:STANDARD
TZOFFSETFROM:+0400
TZOFFSETTO:+0400
TZNAME:+04
DTSTART:20240101T000000
END:STANDARD
END:VTIMEZONE
BEGIN:VEVENT
DTSTART;TZID=Asia/Dubai:20250709T180000
DTEND;TZID=Asia/Dubai:20250709T193000
DTSTAMP:20260423T110154
CREATED:20250624T123332Z
LAST-MODIFIED:20250624T123332Z
UID:10012592-1752084000-1752089400@magpie.ae
SUMMARY:Ruby\, Art & Science
DESCRIPTION:A L’ÉCOLE Middle East talk that exploring the world of pearls\, given by two of the School of Jewelry Arts’ lecturers – gemologist/lecturers Chandra Horn and Tania Heikal. A welcome reception is followed by the talk at 6.30pm.
URL:https://magpie.ae/event/ruby-art-science/
LOCATION:L’ÉCOLE Middle East\, School of Jewelry Arts\, Building 10\, Dubai Design District\, Dubai\, United Arab Emirates
CATEGORIES:Talk
ATTACH;FMTTYPE=image/webp:https://magpie.ae/wp-content/uploads/2025/06/Rubis-entre-Science-et-Histoire_Mystery-Set-Three-leaves-clip_1955.webp
GEO:25.1894859;55.2978869
X-APPLE-STRUCTURED-LOCATION;VALUE=URI;X-ADDRESS=L’ÉCOLE Middle East School of Jewelry Arts Building 10 Dubai Design District Dubai United Arab Emirates;X-APPLE-RADIUS=500;X-TITLE=Building 10\, Dubai Design District:geo:55.2978869,25.1894859
END:VEVENT
END:VCALENDAR