BEGIN:VCALENDAR
VERSION:2.0
PRODID:-//magpie - ECPv6.15.20//NONSGML v1.0//EN
CALSCALE:GREGORIAN
METHOD:PUBLISH
X-ORIGINAL-URL:https://magpie.ae
X-WR-CALDESC:Events for magpie
REFRESH-INTERVAL;VALUE=DURATION:PT1H
X-Robots-Tag:noindex
X-PUBLISHED-TTL:PT1H
BEGIN:VTIMEZONE
TZID:Asia/Dubai
BEGIN:STANDARD
TZOFFSETFROM:+0400
TZOFFSETTO:+0400
TZNAME:+04
DTSTART:20250101T000000
END:STANDARD
END:VTIMEZONE
BEGIN:VEVENT
DTSTART;VALUE=DATE:20260426
DTEND;VALUE=DATE:20260427
DTSTAMP:20260422T091212
CREATED:20251028T102213Z
LAST-MODIFIED:20251028T115536Z
UID:10012966-1777161600-1777247999@magpie.ae
SUMMARY:LAST CHANCE Image Keepers
DESCRIPTION:For its inaugural exhibition\, SAF’s Photography Gallery presents a panorama of artistic experimentation and engagement drawn from the Sharjah Art Foundation Collection of photography. Says the Foundation: “the works navigate the sociopolitical terrain of the last six decades against a backdrop of the compressed\, and often fissured\, processes of modernisation and decolonisation”.
URL:https://magpie.ae/event/last-chance-image-keepers/
LOCATION:Sharjah Art Foundation Photography Gallery\, Al Manakh\, Sharjah
CATEGORIES:Exhibition,Photography
GEO:25.351671;55.396596
X-APPLE-STRUCTURED-LOCATION;VALUE=URI;X-ADDRESS=Sharjah Art Foundation Photography Gallery Al Manakh Sharjah;X-APPLE-RADIUS=500;X-TITLE=Al Manakh:geo:55.396596,25.351671
END:VEVENT
END:VCALENDAR