BEGIN:VCALENDAR
VERSION:2.0
PRODID:-//magpie - ECPv6.15.20//NONSGML v1.0//EN
CALSCALE:GREGORIAN
METHOD:PUBLISH
X-WR-CALNAME:magpie
X-ORIGINAL-URL:https://magpie.ae
X-WR-CALDESC:Events for magpie
REFRESH-INTERVAL;VALUE=DURATION:PT1H
X-Robots-Tag:noindex
X-PUBLISHED-TTL:PT1H
BEGIN:VTIMEZONE
TZID:Asia/Dubai
BEGIN:STANDARD
TZOFFSETFROM:+0400
TZOFFSETTO:+0400
TZNAME:+04
DTSTART:20250101T000000
END:STANDARD
END:VTIMEZONE
BEGIN:VEVENT
DTSTART;VALUE=DATE:20260418
DTEND;VALUE=DATE:20260419
DTSTAMP:20260421T231742
CREATED:20260420T150739Z
LAST-MODIFIED:20260420T150949Z
UID:10013640-1776470400-1776556799@magpie.ae
SUMMARY:The importance of staying quiet: Fahd Burki II.a
DESCRIPTION:In 2014\, an exhibition was held in Hong Kong under the title The importance of staying quiet; conceived by Saira Ansari and Umer Butt\, it was an attempt to find a minimal vocabulary within Pakistani art. A decade later\, The importance of staying quiet returns as a year-long dialogic exchange between Butt and Ansari as a series of presentations shaped through discursive encounters. This time\, the programme will examine the development of practices that have deliberately engaged minimal or abstract strategies. \nFahd Burki II.a\, the fourth exhibition in The importance of staying quiet\, extended the dialogue initiated through painting in Fahd Burki I via works on paper\, canvas\, and wood\, pulling through the two-dimensional language in shift towards 3D. The works on display here turn toward contour\, elevation\, and depressions\, explored through both actual and implied relief; “from the surface outward\, the edges crawl\, fold around the frame\, and consolidate into a single wooden form that anchors the centre of the presentation. The remaining tonally minimal\, monochromatic works hold the space in a light yet concentrated tension …” \nTo 9 May. The final presentation in the series\, Fahd Burki II.b will move fully into the three-dimensional; it opens on 16 May.
URL:https://magpie.ae/event/the-importance-of-staying-quiet-fahd-burki-ii/
LOCATION:Grey Noise\, Unit 24 Alserkal Avenue\, Dubai\, United Arab Emirates
CATEGORIES:Art,Exhibition,Photography
GEO:25.1431157;55.2246127
X-APPLE-STRUCTURED-LOCATION;VALUE=URI;X-ADDRESS=Grey Noise Unit 24 Alserkal Avenue Dubai United Arab Emirates;X-APPLE-RADIUS=500;X-TITLE=Unit 24 Alserkal Avenue:geo:55.2246127,25.1431157
END:VEVENT
END:VCALENDAR