BEGIN:VCALENDAR
VERSION:2.0
PRODID:-//magpie - ECPv6.15.20//NONSGML v1.0//EN
CALSCALE:GREGORIAN
METHOD:PUBLISH
X-WR-CALNAME:magpie
X-ORIGINAL-URL:https://magpie.ae
X-WR-CALDESC:Events for magpie
REFRESH-INTERVAL;VALUE=DURATION:PT1H
X-Robots-Tag:noindex
X-PUBLISHED-TTL:PT1H
BEGIN:VTIMEZONE
TZID:Asia/Dubai
BEGIN:STANDARD
TZOFFSETFROM:+0400
TZOFFSETTO:+0400
TZNAME:+04
DTSTART:20250101T000000
END:STANDARD
END:VTIMEZONE
BEGIN:VEVENT
DTSTART;VALUE=DATE:20260503
DTEND;VALUE=DATE:20260504
DTSTAMP:20260419T182427
CREATED:20260120T124857Z
LAST-MODIFIED:20260120T124857Z
UID:10013329-1777766400-1777852799@magpie.ae
SUMMARY:LAST CHANCE Ahaad Alamoudi: Sunkissed
DESCRIPTION:Alamoudi’s snapshots of contemporary Khaleeji aesthetics playfully capture the give-and-take between developmental goals and their real-world manifestation. Viral memes\, talking falcons\, automated toy cars and insect light traps all function as tools to process accelerating change; together\, these works explore how the overarching desire for development is absorbed and rearticulated in everyday life.
URL:https://magpie.ae/event/last-chance-ahaad-alamoudi-sunkissed/
LOCATION:Al Mureijah Square\, Sharjah
CATEGORIES:Art,Exhibition,Photography
END:VEVENT
BEGIN:VEVENT
DTSTART;VALUE=DATE:20260510
DTEND;VALUE=DATE:20260511
DTSTAMP:20260419T182427
CREATED:20260401T122305Z
LAST-MODIFIED:20260401T122423Z
UID:10013577-1778371200-1778457599@magpie.ae
SUMMARY:LAST CHANCE Robert Powers: The City in Its Details – The Past and Future in Dubai’s Architecture
DESCRIPTION:A close look at Dubai’s urban fabric through the lens of architect and photographer Robert Powers. The exhibition traces the patterns and repetitions in architecture\, streetscapes\, industry\, and infrastructure that shapes the character of a city; taken between 2013 and 2025 in Deira and Bur Dubai\, the photographs document walkable parts of Dubai that have existed since the early days of the Union. Much of this older architecture may soon be demolished\, as its value is often unrecognised – yet these buildings hold beauty\, interest\, and cultural significance\, forming an essential part of the city’s history and collective memory. \n 
URL:https://magpie.ae/event/last-chance-robert-powers-the-city-in-its-details-the-past-and-future-in-dubais-architecture/
LOCATION:Kutubna Cultural Center\, Madina Avenues 17\, Nadd Al Hamar\, Dubai
CATEGORIES:Exhibition,Photography,Urbanism
GEO:25.1887983;55.3840009
X-APPLE-STRUCTURED-LOCATION;VALUE=URI;X-ADDRESS=Kutubna Cultural Center Madina Avenues 17 Nadd Al Hamar Dubai;X-APPLE-RADIUS=500;X-TITLE=Madina Avenues 17\, Nadd Al Hamar:geo:55.3840009,25.1887983
END:VEVENT
END:VCALENDAR