BEGIN:VCALENDAR
VERSION:2.0
PRODID:-//magpie - ECPv6.15.20//NONSGML v1.0//EN
CALSCALE:GREGORIAN
METHOD:PUBLISH
X-WR-CALNAME:magpie
X-ORIGINAL-URL:https://magpie.ae
X-WR-CALDESC:Events for magpie
REFRESH-INTERVAL;VALUE=DURATION:PT1H
X-Robots-Tag:noindex
X-PUBLISHED-TTL:PT1H
BEGIN:VTIMEZONE
TZID:Asia/Dubai
BEGIN:STANDARD
TZOFFSETFROM:+0400
TZOFFSETTO:+0400
TZNAME:+04
DTSTART:20250101T000000
END:STANDARD
END:VTIMEZONE
BEGIN:VEVENT
DTSTART;VALUE=DATE:20260104
DTEND;VALUE=DATE:20260105
DTSTAMP:20260422T093154
CREATED:20251110T143156Z
LAST-MODIFIED:20251110T143307Z
UID:10013047-1767484800-1767571199@magpie.ae
SUMMARY:LAST CHANCE Manar Abu Dhabi 2025
DESCRIPTION:Manar Abu Dhabi returns for its second edition with the theme The Light Compass\, presenting 19 newly commissioned light-based artworks by Emirati and international artists Key locations include Jubail Island\, Souq Al Mina\, and\, for the first time\, Al Ain’s Al Qattara and Al Jimi Oases. Guided tours will be available at both Jubail Island and Al Ain location; Jubail Island\, Al Qattara Oasis and Al Jimi Oasis will all have F&B pop-ups and “experiences”. The website will have a map indicating locations. \nCo-curated by Alia Zaal Lootah\, Munira Al Sayegh and Mariam Alshehhi\, the project forms part of Public Art Abu Dhabi\, a DCT Abu Dhabi initiative that champions art in public spaces and sustained engagement with the city’s environment.
URL:https://magpie.ae/event/last-chance-manar-abu-dhabi-2025/
LOCATION:[various Abu Dhabi locations]\, Abu Dhabi
CATEGORIES:Art,Light,Performance
GEO:24.453884;54.3773438
END:VEVENT
END:VCALENDAR