BEGIN:VCALENDAR
VERSION:2.0
PRODID:-//magpie - ECPv6.15.20//NONSGML v1.0//EN
CALSCALE:GREGORIAN
METHOD:PUBLISH
X-WR-CALNAME:magpie
X-ORIGINAL-URL:https://magpie.ae
X-WR-CALDESC:Events for magpie
REFRESH-INTERVAL;VALUE=DURATION:PT1H
X-Robots-Tag:noindex
X-PUBLISHED-TTL:PT1H
BEGIN:VTIMEZONE
TZID:Asia/Dubai
BEGIN:STANDARD
TZOFFSETFROM:+0400
TZOFFSETTO:+0400
TZNAME:+04
DTSTART:20240101T000000
END:STANDARD
END:VTIMEZONE
BEGIN:VEVENT
DTSTART;TZID=Asia/Dubai:20251129T203000
DTEND;TZID=Asia/Dubai:20251129T211000
DTSTAMP:20260425T050951
CREATED:20251008T161219Z
LAST-MODIFIED:20251008T161219Z
UID:10012892-1764448200-1764450600@magpie.ae
SUMMARY:Claire & Antho: Souvenirs
DESCRIPTION:A second performance for this Perform Sharjah event. Blending physical theatre\, shadow play\, dance\, and live video projection\, the piece explores the invisible baggage we carry – memories\, regrets\, dreams – with cinematic beauty and quiet humour. Both playful and contemplative\, Souvenirs is a tribute to human resilience and a testament to art’s ability to breathe new life into the familiar.
URL:https://magpie.ae/event/claire-antho-souvenirs-2/
LOCATION:Sharjah Arts Foundation\, Arts Square\, Al Shuweiheen\, Sharjah
CATEGORIES:Performance
GEO:25.3608001;55.3883392
X-APPLE-STRUCTURED-LOCATION;VALUE=URI;X-ADDRESS=Sharjah Arts Foundation Arts Square Al Shuweiheen Sharjah;X-APPLE-RADIUS=500;X-TITLE=Al Shuweiheen:geo:55.3883392,25.3608001
END:VEVENT
END:VCALENDAR