BEGIN:VCALENDAR
VERSION:2.0
PRODID:-//magpie - ECPv6.15.20//NONSGML v1.0//EN
CALSCALE:GREGORIAN
METHOD:PUBLISH
X-WR-CALNAME:magpie
X-ORIGINAL-URL:https://magpie.ae
X-WR-CALDESC:Events for magpie
REFRESH-INTERVAL;VALUE=DURATION:PT1H
X-Robots-Tag:noindex
X-PUBLISHED-TTL:PT1H
BEGIN:VTIMEZONE
TZID:Asia/Dubai
BEGIN:STANDARD
TZOFFSETFROM:+0400
TZOFFSETTO:+0400
TZNAME:+04
DTSTART:20240101T000000
END:STANDARD
END:VTIMEZONE
BEGIN:VEVENT
DTSTART;TZID=Asia/Dubai:20251127T193000
DTEND;TZID=Asia/Dubai:20251127T230000
DTSTAMP:20260425T051048
CREATED:20251028T132258Z
LAST-MODIFIED:20260127T173831Z
UID:10012971-1764271800-1764284400@magpie.ae
SUMMARY:Hekayah | The Story
DESCRIPTION:The Arts Center’s 11th annual celebration of the many meanings of ‘home’ – your country\, your city\, your family\, the place where you happen to be now … As always it’s a celebration UAE’s National Day\, Eid al Etihad\, with a curated selection of artists from diverse backgrounds bringing stories of our communities to life through the lens of their histories\, heritages\, and cultures. \nMC Shahad Alsaqqaf hosts this year’s lineup: \nAdel Awad spoken word (India)\nKenan Adnawi music (Syria)\nMaha Alkindi spoken word (UAE)\nMaisoon Mubarak music (Egypt)\nMalavika Suresh spoken word (India)\nNathalia Khawand spoken word (Lebanon)\nNima Elnour spoken word (Sudan/USA)\nNurzy music (Lebanon)\nOmar Awbu music (Palestine/USA)\nRei Co dance (Philippines)\nRosan Reodica spoken word (Philippines)\nSandra Ivette music (Cuba) \nSOLD OUT but there may be returns …
URL:https://magpie.ae/event/hekayah-the-story-3/
LOCATION:The Arts Center @ NYUAD\, NYUAD Campus\, Saadiyat Island\, Abu Dhabi\, United Arab Emirates
CATEGORIES:Performance
GEO:24.5238948;54.4345558
X-APPLE-STRUCTURED-LOCATION;VALUE=URI;X-ADDRESS=The Arts Center @ NYUAD NYUAD Campus Saadiyat Island Abu Dhabi United Arab Emirates;X-APPLE-RADIUS=500;X-TITLE=NYUAD Campus\, Saadiyat Island:geo:54.4345558,24.5238948
END:VEVENT
END:VCALENDAR