BEGIN:VCALENDAR
VERSION:2.0
PRODID:-//magpie - ECPv6.15.20//NONSGML v1.0//EN
CALSCALE:GREGORIAN
METHOD:PUBLISH
X-ORIGINAL-URL:https://magpie.ae
X-WR-CALDESC:Events for magpie
REFRESH-INTERVAL;VALUE=DURATION:PT1H
X-Robots-Tag:noindex
X-PUBLISHED-TTL:PT1H
BEGIN:VTIMEZONE
TZID:Asia/Dubai
BEGIN:STANDARD
TZOFFSETFROM:+0400
TZOFFSETTO:+0400
TZNAME:+04
DTSTART:20240101T000000
END:STANDARD
END:VTIMEZONE
BEGIN:VEVENT
DTSTART;TZID=Asia/Dubai:20251121T203000
DTEND;TZID=Asia/Dubai:20251121T213000
DTSTAMP:20260425T051248
CREATED:20251008T155555Z
LAST-MODIFIED:20251008T155555Z
UID:10012888-1763757000-1763760600@magpie.ae
SUMMARY:Luis Guenel Soto and Ebana Garin Coronel: Minga of a House in Ruins
DESCRIPTION:This performance\, part of the Perform Sharjah performance programme\,  centres around the Chilean tradition of ‘minga’ – the communal act of moving an entire house\, seen as a gesture of collective labour and shared resilience. Through three interwoven stories\, Minga of a House in Ruins delves into the meaning of home and whether we can build an alternative future out of the ruins of a world seemingly coming to an end. In this intimate encounter\, ruins are not simply remnants of destruction but living spaces of resistance\, where community\, imagination and care come together to affirm life in the shadow of collapse. Through movement\, sound and silence\, the work transforms decay into possibility\, showing how bodies and voices can rebuild\, even if only for a fleeting moment\, what has been lost …
URL:https://magpie.ae/event/luis-guenel-soto-and-ebana-garin-coronel-minga-of-a-house-in-ruins/
LOCATION:Al Qasimiyah School\, Sheikh Saqr Bin Khalid Al Qasimi St\, Sharjah
CATEGORIES:Performance
ATTACH;FMTTYPE=image/webp:https://magpie.ae/wp-content/uploads/2025/10/minga.webp
GEO:25.3447854;55.4028485
X-APPLE-STRUCTURED-LOCATION;VALUE=URI;X-ADDRESS=Al Qasimiyah School Sheikh Saqr Bin Khalid Al Qasimi St Sharjah;X-APPLE-RADIUS=500;X-TITLE=Sheikh Saqr Bin Khalid Al Qasimi St:geo:55.4028485,25.3447854
END:VEVENT
END:VCALENDAR