BEGIN:VCALENDAR
VERSION:2.0
PRODID:-//magpie - ECPv6.15.20//NONSGML v1.0//EN
CALSCALE:GREGORIAN
METHOD:PUBLISH
X-ORIGINAL-URL:https://magpie.ae
X-WR-CALDESC:Events for magpie
REFRESH-INTERVAL;VALUE=DURATION:PT1H
X-Robots-Tag:noindex
X-PUBLISHED-TTL:PT1H
BEGIN:VTIMEZONE
TZID:Asia/Dubai
BEGIN:STANDARD
TZOFFSETFROM:+0400
TZOFFSETTO:+0400
TZNAME:+04
DTSTART:20240101T000000
END:STANDARD
END:VTIMEZONE
BEGIN:VEVENT
DTSTART;TZID=Asia/Dubai:20251101T160000
DTEND;TZID=Asia/Dubai:20251101T170000
DTSTAMP:20260425T015402
CREATED:20251014T122528Z
LAST-MODIFIED:20251014T122829Z
UID:10012919-1762012800-1762016400@magpie.ae
SUMMARY:Poetry in Action: The Poets' Quest
DESCRIPTION:A time travelling adventure\, where poetry saves the world as Blake journeys through time to win back his true love Grace … The show demonstrates how to master rhyme\, rhythm\, and imagery while rooting for Blake’s quest to win back love and rewrite destiny. One of a series of shows today and tomorrow from the excellent Poetry In Action\, a small-scale touring theatre company that creates professional shows based on poetry to inspire and engage audiences. This one is presented in partnership with Outside the Box Events. \nFor kids aged 8-14 and their families.
URL:https://magpie.ae/event/poetry-in-action-the-poets-quest-2-2/
LOCATION:Cultural Foundation\, Qasr al Hosn\, Abu Dhabi
CATEGORIES:Family/kids,Performance,Poetry
GEO:24.482237;54.354723
X-APPLE-STRUCTURED-LOCATION;VALUE=URI;X-ADDRESS=Cultural Foundation Qasr al Hosn Abu Dhabi;X-APPLE-RADIUS=500;X-TITLE=Qasr al Hosn:geo:54.354723,24.482237
END:VEVENT
BEGIN:VEVENT
DTSTART;TZID=Asia/Dubai:20251101T180000
DTEND;TZID=Asia/Dubai:20251101T190000
DTSTAMP:20260425T015402
CREATED:20251014T122313Z
LAST-MODIFIED:20251014T122810Z
UID:10012916-1762020000-1762023600@magpie.ae
SUMMARY:Poetry in Action: Muse It Or Lose It
DESCRIPTION:This high-energy comedy explores poetry through live performances\, linking classic literature with contemporary works and showcasing techniques like metaphor\, symbolism\, and why words matter — with plenty of laughs along the way. One of a series of shows today and tomorrow from the excellent Poetry In Action\, a small-scale touring theatre company that creates professional shows based on poetry to inspire and engage audiences. This one is presented in partnership with Outside the Box Events. \nFor kids aged 13-16 and their families.
URL:https://magpie.ae/event/poetry-in-action-muse-it-or-lose-it/
LOCATION:Cultural Foundation\, Qasr al Hosn\, Abu Dhabi
CATEGORIES:Family/kids,Performance,Poetry
GEO:24.482237;54.354723
X-APPLE-STRUCTURED-LOCATION;VALUE=URI;X-ADDRESS=Cultural Foundation Qasr al Hosn Abu Dhabi;X-APPLE-RADIUS=500;X-TITLE=Qasr al Hosn:geo:54.354723,24.482237
END:VEVENT
BEGIN:VEVENT
DTSTART;TZID=Asia/Dubai:20251101T180000
DTEND;TZID=Asia/Dubai:20251101T190000
DTSTAMP:20260425T015402
CREATED:20251014T123106Z
LAST-MODIFIED:20251014T123106Z
UID:10012921-1762020000-1762023600@magpie.ae
SUMMARY:Poetry in Action: Words Of War
DESCRIPTION:A dynamic performance showcasing Wilfred Owen’s most powerful poems\, including “Dulce et Decorum Est” and “Anthem for Doomed Youth.” The show explores poetic techniques like imagery\, irony\, and rhythmic schemes while reflecting on the brutal realities of World War I. One of a series of shows today and tomorrow from the excellent Poetry In Action\, a small-scale touring theatre company that creates professional shows based on poetry to inspire and engage audiences. This one is presented in partnership with Outside the Box Events. \nFor kids aged 14+ and their families.
URL:https://magpie.ae/event/poetry-in-action-words-of-war/
LOCATION:Cultural Foundation\, Qasr al Hosn\, Abu Dhabi
CATEGORIES:Family/kids,Performance,Poetry
GEO:24.482237;54.354723
X-APPLE-STRUCTURED-LOCATION;VALUE=URI;X-ADDRESS=Cultural Foundation Qasr al Hosn Abu Dhabi;X-APPLE-RADIUS=500;X-TITLE=Qasr al Hosn:geo:54.354723,24.482237
END:VEVENT
BEGIN:VEVENT
DTSTART;TZID=Asia/Dubai:20251102T160000
DTEND;TZID=Asia/Dubai:20251102T170000
DTSTAMP:20260425T015402
CREATED:20251014T122455Z
LAST-MODIFIED:20251014T122455Z
UID:10012918-1762099200-1762102800@magpie.ae
SUMMARY:Poetry in Action: The Poets' Quest
DESCRIPTION:A second performance for this time travelling adventure\, where poetry saves the world as Blake journeys through time to win back his true love … The show demonstrates how to master rhyme\, rhythm\, and imagery while rooting for Blake’s quest to win back love and rewrite destiny. One of a series of shows today from the excellent Poetry In Action\, a small-scale touring theatre company that creates professional shows based on poetry to inspire and engage audiences. This one is presented in partnership with Outside the Box Events. \nFor kids aged 8-14 yrs and their families.
URL:https://magpie.ae/event/poetry-in-action-the-poets-quest-2/
LOCATION:Cultural Foundation\, Qasr al Hosn\, Abu Dhabi
CATEGORIES:Family/kids,Performance,Poetry
GEO:24.482237;54.354723
X-APPLE-STRUCTURED-LOCATION;VALUE=URI;X-ADDRESS=Cultural Foundation Qasr al Hosn Abu Dhabi;X-APPLE-RADIUS=500;X-TITLE=Qasr al Hosn:geo:54.354723,24.482237
END:VEVENT
BEGIN:VEVENT
DTSTART;TZID=Asia/Dubai:20251102T180000
DTEND;TZID=Asia/Dubai:20251102T190000
DTSTAMP:20260425T015402
CREATED:20251014T122925Z
LAST-MODIFIED:20251014T122925Z
UID:10012920-1762106400-1762110000@magpie.ae
SUMMARY:Poetry in Action: Muse It Or Lose It
DESCRIPTION:A second performance for this high-energy exploration of poetry through live performances\, linking classic literature with contemporary works and showcasing techniques like metaphor\, symbolism\, and why words matter — with plenty of laughs along the way. One of a series of shows today and tomorrow from the excellent Poetry In Action\, a small-scale touring theatre company that creates professional shows based on poetry to inspire and engage audiences. This one is presented in partnership with Outside the Box Events. \nFor kids aged 13-16 and their families.
URL:https://magpie.ae/event/poetry-in-action-muse-it-or-lose-it-2/
LOCATION:Cultural Foundation\, Qasr al Hosn\, Abu Dhabi
CATEGORIES:Family/kids,Performance,Poetry
GEO:24.482237;54.354723
X-APPLE-STRUCTURED-LOCATION;VALUE=URI;X-ADDRESS=Cultural Foundation Qasr al Hosn Abu Dhabi;X-APPLE-RADIUS=500;X-TITLE=Qasr al Hosn:geo:54.354723,24.482237
END:VEVENT
BEGIN:VEVENT
DTSTART;TZID=Asia/Dubai:20251114T180000
DTEND;TZID=Asia/Dubai:20251114T190000
DTSTAMP:20260425T015402
CREATED:20251112T115216Z
LAST-MODIFIED:20251112T115216Z
UID:10013061-1763143200-1763146800@magpie.ae
SUMMARY:Science Museum Live
DESCRIPTION:“Explosive family theatre for curious minds”\, says then publicity. What a great idea – a spectacular family-friendly show inspired by the Science Museum in London\, very successful in the UK and now making its UAE debut with a performance that should inspire and entertain audiences of all ages. Expect a guided tour through experiments and demonstrations of sound\, air pressure\, combustion\, weight and mass\, friction\, fluid dynamics\, and the fascinating transformations of matter generally. Bet they had fun putting this together … There are shows as follows: \n14 Nov 6pm\n15 Nov 11am and 3pm\n16 Nov 11am and 3pm
URL:https://magpie.ae/event/science-museum-live/
LOCATION:Cultural Foundation\, Sheikh Rashid bin Saeed Al Maktoum Street\, Abu Dhabi
CATEGORIES:Performance
GEO:24.4856096;54.357172
X-APPLE-STRUCTURED-LOCATION;VALUE=URI;X-ADDRESS=Cultural Foundation Sheikh Rashid bin Saeed Al Maktoum Street Abu Dhabi;X-APPLE-RADIUS=500;X-TITLE=Sheikh Rashid bin Saeed Al Maktoum Street:geo:54.357172,24.4856096
END:VEVENT
BEGIN:VEVENT
DTSTART;VALUE=DATE:20251115
DTEND;VALUE=DATE:20251116
DTSTAMP:20260425T015402
CREATED:20251110T143041Z
LAST-MODIFIED:20251119T110317Z
UID:10013018-1763164800-1763251199@magpie.ae
SUMMARY:Manar Abu Dhabi 2025
DESCRIPTION:Manar Abu Dhabi returns for its second edition with the theme The Light Compass\, presenting 19 newly commissioned light-based artworks by Emirati and international artists – including some very big names: \nAbdulla Almulla (UAE)\nAmmar Al Attar (UAE)\nChristian Brinkmann (Germany)\nDRIFT (Netherlands)\nEncor Studio (Switzerland)\nEzequiel Pini (Argentina)\nIregular (Canada)\nKAWS (USA)\nKhalid Shafar (UAE)\nKirsten Berg (USA)\nLachlan Turczan (USA)\nMaitha Hamdan (UAE)\nPamela Poh (Malaysia)\nRafael Lozano-Hemmer (Mexico)\nShaikha Al Mazrou (UAE) \nThe locations include Jubail Island and Souq Al Mina in Abu Dhabi (gone is the experiment of scattering installations around the city: they are all concentrated in those two locations) and\, for the first time\, Al Qattara and Al Jimi Oases in Al Ain. Jubail Island\, Al Qattara Oasis and Al Jimi Oasis will all have F&B pop-ups and “experiences”. The website has a map indicating locations; there are guided buggy tours of the artworks on Jubail Island at AED 50 per person or AED 150 for a group of four\, with tours at 6pm\, 8pm and 10pm. There’s also an Al Ain tour through the Al Qattara and Al Jimi Oases at 7pm; prices are the same. Tours run daily until 4 January. \nManar Abu Dhabi isn’t just the roster of light installations – check the website for details and see our summary below\, but there’s a programme of artist led workshops; talks that explore the intersections of art\, technology\, and public space; performances including the Syrian-Lebanese duo Bedouin Burger\, Korean electronic duo Haepaary\, Napoli percussion trio Ars Nova Napoli\, and Tarek Yamani Trio; and set of partner programmes exploring “climate\, wellness\, and connection”. We’ve listed the principal elements below \nThe main location for talks and workshops is the Manar Abu Dhabi hub on Jubail Island\, with one talk at Manarat al Saadiyat (with Abu Dhabi Art). . Performances are at Souq Al Mina; all are free. Workshops are on Jubail\, and several of them are paid-for. \nCo-curated by Alia Zaal Lootah\, Munira Al Sayegh and Mariam Alshehhi with Khai Hori as Artistic Director\,  the project forms part of Public Art Abu Dhabi\, a DCT Abu Dhabi initiative that champions art in public spaces and sustained engagement with the city’s environment. \nManar Abu Dhabi runs to 4 January. \nAbove: Maitha Hamdan\, Breath of the Same Place (2025: installation in Al Ain) \n\nTALKS\nUnless noted these are all at Manar Abu Dhabi Stage\, Jubail Island; free and no pre-registration required \n16 Nov 6pm LETS TALK ABOUT MANAR ABU DHABI 2025\nSpeakers: Khai Hori\, Alia Lootah\, Mariam Al Shehhi\, Munira Al Sayegh\nMeet the curators … \n16 Nov 7pm THE FUTURE OF ART WITHOUT AI: IS IT POSSIBLE?\nSpeakers: Dr Elizabeth Churchill\, Khai Hori\, Dr Giulia Bini\nThe evolving relationship between art and AI. \n17 Nov 6pm ART\, TECH\, AND HUMAN CONNECTION\nSpeakers: Ralph Nauta (DRIFT)\, Prof. Hao Li\, Stephanie Rosenthal\nHow immersive experiences\, AI\, and creative technologies are reshaping the ways we see\, feel\, and connect with the world. \n19 Nov 6pm ART AT THE INTERSECTION OF NATURE AND TECHNOLOGY\nSpeakers: Ulrich Schrauth\, Christian Brinkmann\, Dr Brigitte Howarth\nHow artists and institutions are reimagining the relationship between the natural world\, innovation\, and public engagement. \n19 Nov 7pm LIGHT\, MOTION\, AND PERCEPTION\nSpeakers: Lachlan Turczan\, Ezequiel Pini\, Munira Al Sayegh\nHow physical and digital worlds can converge to reshape perception and inspire a sense of wonder in public spaces. \n20 Nov 2pm REIMAGINING SPACE THROUGH SCULPTURE\nSpeakers: Shaikha Al Mazrou\, Kirsten Berg\, Sara Bin Safwan\nBerg\, known for large-scale reflective installations\, creates immersive forms that fuse geometry and environmental sensitivity; Al Mazrou\, one of the UAE’s leading contemporary artists\, takes a distinct approach through minimal forms and conceptual rigour\, reflecting both personal narrative and wider sociocultural contexts. Registration required here. \n20 Nov 3pm DESIGNING PUBLIC ART FOR PRESENCE AND SPACE\nSpeakers: Abdalla Almulla\, Pamela Tan\, Alia Zaal Lootah\nHow does public art respond to its site\, and shape how people feel within it? Abdalla Almulla and Pamela Tan discuss how public artworks can transform passive environments into active\, contemplative spaces. Location: Abu Dhabi Art\, Manarat Al Saadiyat\, Saadiyat Island. Registration required here. \n  \n\nPERFORMANCES\nUnless noted these are all at Manar Abu Dhabi’s Souq Al Mina location; free and no pre-registration required. Additional performances will be announced “in due course”. \n21 Nov 8.15pm FOURMANOS\nAn Emirati band made up of six friends whose performances blend Latin and mariachi-style music with flamenco\, traditional Khaleeji rhythms\, and modern influences. \n22 Nov 8.15pm BEDOUIN BURGER\nFormed by Syrian vocalist Lynn Adib and Lebanese producer Zeid Hamdan\, Bedouin Burger harmonises classical and Arabic folk music with modern compositions\, blending jazz and minimalist electronica. \n23 Nov 8.15pm TAREK YAMANI TRIO: AFRO-TARAB JAZZ CONCEPTIONS\nTarek Yamani’s Afro-Tarab jazz journeys from early 1900s Egypt to contemporary New York\, including reinterpretations of classical Arabic muwashahat\, as well as original compositions based on edgy traditional Arabic rhythms and melodic modes. \n29 Nov 8.15pm HAEPAARY\nSouth Korean duo who merge traditional Korean music with experimental electronic soundscapes. \n10 Dec 8.15pm LOVE AND REVENGE: TRIBUTE TO OUM KALTHOUM​\nAgmal Layali reimagines the legendary repertoire of Oum Kalthoum through a contemporary lens\, blending her iconic recordings with live performance and cinematic visuals. \n13 Dec 8.15pm ARS NOVA NAPOLI\nArs Nova Napoli revives the spirit of southern Italian tradition through dynamic live performances of Neapolitan Nu Folk\, a fusion of Mediterranean rhythms and modern arrangements . \n19 Dec 8.15pm AMJAD SHAKIR\nAmjad Shakir is a contemporary Sudanese singer known for his soulful voice and vibrant stage presence. His performances offer a rich musical journey across cultures. \n26 Dec 8.15pm SHILPA ANANTH & BEATBOX RAY\nUAE born and based\, the duo’s genre-blending live set fuses soulful melodies\, intricate vocal loops\, and masterful beatboxing in an electrifying mix of South Indian influences\, jazz\, electronic soul\, and percussive vocal artistry. \n  \n\nWORKSHOPS\nAll workshops take place at Manar Abu Dhabi\, Jubail Island\, most require registration\, and some are charged-for. \n22 Nov 4.30pm SERENITY OF MANAR WITH ALTAMASH JAVED\nA fine art photography workshop with Fujifilm Creator Javed. Majoring on the art of stillness through light and composition. Register here. \n22 Nov 5.30pm-midnight THE SLIME LAB: NEON SLIME DROP-IN WORKSHOP\nKids make their very own slime using safe\, non-toxic materials with glow-in-the-dark pigments that come alive under UV or blacklight. AED 35 per person; no registration required. \n22 Nov 9pm GRACIA FARMS PAINT AND PLANT\nIn this interactive workshop\, children will decorate and personalise their own plant pots before planting a small seedling inside. AED 50 per person; register here. \n23 Nov 9pm GRACIA FARMS PAINT AND PLANT\nIn this interactive workshop\, children will decorate and personalise their own plant pots before planting a small seedling inside. AED 50 per person; register here. \n23 Nov 6pm THE KNOT: TALLI MEDAL CHARMS WORKSHOP\nWorkshop for youth and adults: create personalised Talli-inspired medal charms using a selection of accessories and LED balloon lights. AED 80 per person; no registration required. \n24 Nov 6pm THE KNOT: TALLI MEDAL CHARMS WORKSHOP\nWorkshop for youth and adults: create personalised Talli-inspired medal charms using a selection of accessories and LED balloon lights. AED 80 per person; no registration required. \n25 Nov 6pm THE KNOT: TALLI MEDAL CHARMS WORKSHOP\nWorkshop for youth and adults: create personalised Talli-inspired medal charms using a selection of accessories and LED balloon lights. AED 80 per person; no registration required. \n29 Nov 4.30pm MOTIONS OF MANAR WITH JARED MARTINEZ\nA Fujifilm workshop focused on cinematic video storytelling\, led by visual artist Jared Martinez\, exploring the art of motion\, light\, and storytelling. Register here. \n29 Nov 5.30pm-midnight THE SLIME LAB: NEON SLIME DROP-IN WORKSHOP\nKids make their very own slime using safe\, non-toxic materials with glow-in-the-dark pigments that come alive under UV or blacklight. AED 35 per person; no registration required. \n29 Nov 9pm GRACIA FARMS PUPPET MAKING WORKSHOP\nA hands on puppet-making working for children\, is a fun and creative way to express emotions\, build confidence\, and communicate ideas. AED 75 per person; register here. \n6 Dec 5.30pm FUTURE OF MANAR WITH MARK ANTHONY AGTAY\nDesigned for young creatives\, this Fujifilm workshop for young people introduces the fundamentals of photography. It encourages participants to see the world through a creative lens\, frame their perspectives\, tell visual stories\, and explore their surroundings with curiosity and imagination. Register here. \n6 Dec 5.30pm-midnight THE SLIME LAB: NEON SLIME DROP-IN WORKSHOP\nKids make their very own slime using safe\, non-toxic materials with glow-in-the-dark pigments that come alive under UV or blacklight. AED 35 per person; no registration required. \n6 Dec 9pm GRACIA FARMS PAINT AND PLANT\nIn this interactive workshop\, children will decorate and personalise their own plant pots before planting a small seedling inside. AED 50 per person; register here. \n13 Dec 4.30pm VISUALS OF MANAR WITH PREET UDAY\nA Fujifilm workshop that encourages participants to interpret Abu Dhabi through their own artistic lens and develop a strong visual narrative. Register here. \n13 Dec 5.30pm-midnight THE SLIME LAB: NEON SLIME DROP-IN WORKSHOP\nKids make their very own slime using safe\, non-toxic materials with glow-in-the-dark pigments that come alive under UV or blacklight. AED 35 per person; no registration required. \n13 Dec 6pm GRACIA FARMS PUPPET MAKING WORKSHOP\nA hands on puppet-making working for children\, is a fun and creative way to express emotions\, build confidence\, and communicate ideas. AED 75 per person; register here. \n14 Dec 6pm REFLECTIONS OF LIGHT: ARTIST-LED WORKSHOP WITH MAITHA HAMDAN\nHow does light make you feel? What memories do trees and nature bring to you? Art-making with Manar artist Maitha Hamdan. Registration will open soon \n20 Dec 4.30pm FACADES OF MANAR WITH HUSSEIN AL MOOSAWI\nA Fujifilm workshop exploring Abu Dhabi’s architectural identity through the lens of fine art photography. This session focuses on capturing form\, structure\, and light. Register here. \n20 Dec 5.30pm-midnight THE SLIME LAB: NEON SLIME DROP-IN WORKSHOP\nKids make their very own slime using safe\, non-toxic materials with glow-in-the-dark pigments that come alive under UV or blacklight. AED 35 per person; no registration required. \n20 Dec 9pm GRACIA FARMS PAINT AND PLANT\nIn this interactive workshop\, children will decorate and personalise their own plant pots before planting a small seedling inside. AED 50 per person; register here. \n27 Dec 5.30pm-midnight THE SLIME LAB: NEON SLIME DROP-IN WORKSHOP\nKids make their very own slime using safe\, non-toxic materials with glow-in-the-dark pigments that come alive under UV or blacklight. AED 35 per person; no registration required. \n27 Dec 9pm GRACIA FARMS PUPPET MAKING WORKSHOP\nA hands on puppet-making working for children\, is a fun and creative way to express emotions\, build confidence\, and communicate ideas. AED 75 per person; register here. \n3 Jan 5.30pm-midnight THE SLIME LAB: NEON SLIME DROP-IN WORKSHOP\nKids make their very own slime using safe\, non-toxic materials with glow-in-the-dark pigments that come alive under UV or blacklight. AED 35 per person; no registration required. \n3 Jan 9pm GRACIA FARMS PAINT AND PLANT\nIn this interactive workshop\, children will decorate and personalise their own plant pots before planting a small seedling inside. AED 50 per person; register here. \n\n 
URL:https://magpie.ae/event/manar-abu-dhabi-2025/
LOCATION:[various Abu Dhabi locations]\, Abu Dhabi
CATEGORIES:Art,Light,Performance
ATTACH;FMTTYPE=image/webp:https://magpie.ae/wp-content/uploads/2025/11/maitha-hamdan-breath-of-the-same-place-2025-image-courtesy-of-dct-abu-dhabi-4.webp
GEO:24.453884;54.3773438
END:VEVENT
BEGIN:VEVENT
DTSTART;TZID=Asia/Dubai:20251116T080000
DTEND;TZID=Asia/Dubai:20251116T170000
DTSTAMP:20260425T015402
CREATED:20251008T160416Z
LAST-MODIFIED:20251008T160416Z
UID:10012890-1763280000-1763312400@magpie.ae
SUMMARY:Searching for Love
DESCRIPTION:A lyrical duet that weaves together music and poetry\, Searching for Love transports audiences to the streets of Cairo to examine themes of love\, alienation and longing. Director and writer Nanda Mohammad joins composer and violinist Mohamed Sami to offer a deeply personal reflection on the emotional journey of their long marriage\, revealing how true love can endure even in a fragmented world. Each performer expresses themselves through their art: Inviting the audience to contemplate the fragility of human connection\, Searching for Love urges us to rediscover the affection we have for our cities and for one another. It is part of the Perform Sharjah programme. \nIn Arabic\, with English subtitles.
URL:https://magpie.ae/event/searching-for-love-2/
LOCATION:Al Dana Grand Ballroom\, Oceanic Khorfakkan ResortK\, Corniche Road\, horfakkan\, Sharjah
CATEGORIES:Performance
ATTACH;FMTTYPE=image/webp:https://magpie.ae/wp-content/uploads/2025/10/searching-for-love.webp
GEO:25.3713645;56.3489405
X-APPLE-STRUCTURED-LOCATION;VALUE=URI;X-ADDRESS=Al Dana Grand Ballroom Oceanic Khorfakkan ResortK Corniche Road horfakkan Sharjah;X-APPLE-RADIUS=500;X-TITLE=Oceanic Khorfakkan ResortK\, Corniche Road\, horfakkan:geo:56.3489405,25.3713645
END:VEVENT
BEGIN:VEVENT
DTSTART;TZID=Asia/Dubai:20251121T203000
DTEND;TZID=Asia/Dubai:20251121T213000
DTSTAMP:20260425T015402
CREATED:20251008T155555Z
LAST-MODIFIED:20251008T155555Z
UID:10012888-1763757000-1763760600@magpie.ae
SUMMARY:Luis Guenel Soto and Ebana Garin Coronel: Minga of a House in Ruins
DESCRIPTION:This performance\, part of the Perform Sharjah performance programme\,  centres around the Chilean tradition of ‘minga’ – the communal act of moving an entire house\, seen as a gesture of collective labour and shared resilience. Through three interwoven stories\, Minga of a House in Ruins delves into the meaning of home and whether we can build an alternative future out of the ruins of a world seemingly coming to an end. In this intimate encounter\, ruins are not simply remnants of destruction but living spaces of resistance\, where community\, imagination and care come together to affirm life in the shadow of collapse. Through movement\, sound and silence\, the work transforms decay into possibility\, showing how bodies and voices can rebuild\, even if only for a fleeting moment\, what has been lost …
URL:https://magpie.ae/event/luis-guenel-soto-and-ebana-garin-coronel-minga-of-a-house-in-ruins/
LOCATION:Al Qasimiyah School\, Sheikh Saqr Bin Khalid Al Qasimi St\, Sharjah
CATEGORIES:Performance
ATTACH;FMTTYPE=image/webp:https://magpie.ae/wp-content/uploads/2025/10/minga.webp
GEO:25.3447854;55.4028485
X-APPLE-STRUCTURED-LOCATION;VALUE=URI;X-ADDRESS=Al Qasimiyah School Sheikh Saqr Bin Khalid Al Qasimi St Sharjah;X-APPLE-RADIUS=500;X-TITLE=Sheikh Saqr Bin Khalid Al Qasimi St:geo:55.4028485,25.3447854
END:VEVENT
BEGIN:VEVENT
DTSTART;TZID=Asia/Dubai:20251127T193000
DTEND;TZID=Asia/Dubai:20251127T230000
DTSTAMP:20260425T015402
CREATED:20251028T132258Z
LAST-MODIFIED:20260127T173831Z
UID:10012971-1764271800-1764284400@magpie.ae
SUMMARY:Hekayah | The Story
DESCRIPTION:The Arts Center’s 11th annual celebration of the many meanings of ‘home’ – your country\, your city\, your family\, the place where you happen to be now … As always it’s a celebration UAE’s National Day\, Eid al Etihad\, with a curated selection of artists from diverse backgrounds bringing stories of our communities to life through the lens of their histories\, heritages\, and cultures. \nMC Shahad Alsaqqaf hosts this year’s lineup: \nAdel Awad spoken word (India)\nKenan Adnawi music (Syria)\nMaha Alkindi spoken word (UAE)\nMaisoon Mubarak music (Egypt)\nMalavika Suresh spoken word (India)\nNathalia Khawand spoken word (Lebanon)\nNima Elnour spoken word (Sudan/USA)\nNurzy music (Lebanon)\nOmar Awbu music (Palestine/USA)\nRei Co dance (Philippines)\nRosan Reodica spoken word (Philippines)\nSandra Ivette music (Cuba) \nSOLD OUT but there may be returns …
URL:https://magpie.ae/event/hekayah-the-story-3/
LOCATION:The Arts Center @ NYUAD\, NYUAD Campus\, Saadiyat Island\, Abu Dhabi\, United Arab Emirates
CATEGORIES:Performance
GEO:24.5238948;54.4345558
X-APPLE-STRUCTURED-LOCATION;VALUE=URI;X-ADDRESS=The Arts Center @ NYUAD NYUAD Campus Saadiyat Island Abu Dhabi United Arab Emirates;X-APPLE-RADIUS=500;X-TITLE=NYUAD Campus\, Saadiyat Island:geo:54.4345558,24.5238948
END:VEVENT
BEGIN:VEVENT
DTSTART;TZID=Asia/Dubai:20251128T203000
DTEND;TZID=Asia/Dubai:20251128T211000
DTSTAMP:20260425T015403
CREATED:20251008T161047Z
LAST-MODIFIED:20251008T161127Z
UID:10012891-1764361800-1764364200@magpie.ae
SUMMARY:Claire & Antho: Souvenirs
DESCRIPTION:Conceived and performed by the French duo Claire & Anthony\, Souvenirs transforms Sharjah’s open spaces into a stage where silhouettes\, music and dance intertwine. Blending physical theatre\, shadow play\, dance\, and live video projection\, the piece explores the invisible baggage we carry – memories\, regrets\, dreams – with cinematic beauty and quiet humour. Both playful and contemplative\, Souvenirs is a tribute to human resilience and a testament to art’s ability to breathe new life into the familiar. \nThere’s a second performance tomorrow (29 November).
URL:https://magpie.ae/event/claire-antho-souvenirs/
LOCATION:Sharjah Arts Foundation\, Arts Square\, Al Shuweiheen\, Sharjah
CATEGORIES:Performance
ATTACH;FMTTYPE=image/webp:https://magpie.ae/wp-content/uploads/2025/10/souvenirs.webp
GEO:25.3608001;55.3883392
X-APPLE-STRUCTURED-LOCATION;VALUE=URI;X-ADDRESS=Sharjah Arts Foundation Arts Square Al Shuweiheen Sharjah;X-APPLE-RADIUS=500;X-TITLE=Al Shuweiheen:geo:55.3883392,25.3608001
END:VEVENT
BEGIN:VEVENT
DTSTART;TZID=Asia/Dubai:20251129T203000
DTEND;TZID=Asia/Dubai:20251129T211000
DTSTAMP:20260425T015403
CREATED:20251008T161219Z
LAST-MODIFIED:20251008T161219Z
UID:10012892-1764448200-1764450600@magpie.ae
SUMMARY:Claire & Antho: Souvenirs
DESCRIPTION:A second performance for this Perform Sharjah event. Blending physical theatre\, shadow play\, dance\, and live video projection\, the piece explores the invisible baggage we carry – memories\, regrets\, dreams – with cinematic beauty and quiet humour. Both playful and contemplative\, Souvenirs is a tribute to human resilience and a testament to art’s ability to breathe new life into the familiar.
URL:https://magpie.ae/event/claire-antho-souvenirs-2/
LOCATION:Sharjah Arts Foundation\, Arts Square\, Al Shuweiheen\, Sharjah
CATEGORIES:Performance
GEO:25.3608001;55.3883392
X-APPLE-STRUCTURED-LOCATION;VALUE=URI;X-ADDRESS=Sharjah Arts Foundation Arts Square Al Shuweiheen Sharjah;X-APPLE-RADIUS=500;X-TITLE=Al Shuweiheen:geo:55.3883392,25.3608001
END:VEVENT
BEGIN:VEVENT
DTSTART;TZID=Asia/Dubai:20251130T203000
DTEND;TZID=Asia/Dubai:20251130T214000
DTSTAMP:20260425T015403
CREATED:20251007T152402Z
LAST-MODIFIED:20251007T152805Z
UID:10012872-1764534600-1764538800@magpie.ae
SUMMARY:Radouan Mriziga: Magec / The Desert
DESCRIPTION:Blending dance\, sound and imagery\, Mriziga crafts a meditative reflection on landscape and memory\, where the desert emerges as both a physical terrain and a symbolic stage. A Sharjah Art Foundation co-production with the Kunsten festival des arts in Brussels\, and featured here as part of the fourth edition of Sharjah Art Foundation’s Perform Sharjah performance programme\, Magec / The Desert resonates with themes of history and collective experience.
URL:https://magpie.ae/event/radouan-mriziga-magec-the-desert/
LOCATION:Sharjah Art Foundation\, Bait Obaid Al Shamsi\, Arts Square\, Sharjah
CATEGORIES:Performance
ATTACH;FMTTYPE=image/webp:https://magpie.ae/wp-content/uploads/2025/10/Radouan-Mriziga-1.webp
GEO:25.3461555;55.4210932
X-APPLE-STRUCTURED-LOCATION;VALUE=URI;X-ADDRESS=Sharjah Art Foundation Bait Obaid Al Shamsi Arts Square Sharjah;X-APPLE-RADIUS=500;X-TITLE=Arts Square:geo:55.4210932,25.3461555
END:VEVENT
END:VCALENDAR