BEGIN:VCALENDAR
VERSION:2.0
PRODID:-//magpie - ECPv6.15.20//NONSGML v1.0//EN
CALSCALE:GREGORIAN
METHOD:PUBLISH
X-WR-CALNAME:magpie
X-ORIGINAL-URL:https://magpie.ae
X-WR-CALDESC:Events for magpie
REFRESH-INTERVAL;VALUE=DURATION:PT1H
X-Robots-Tag:noindex
X-PUBLISHED-TTL:PT1H
BEGIN:VTIMEZONE
TZID:Asia/Dubai
BEGIN:STANDARD
TZOFFSETFROM:+0400
TZOFFSETTO:+0400
TZNAME:+04
DTSTART:20240101T000000
END:STANDARD
END:VTIMEZONE
BEGIN:VEVENT
DTSTART;TZID=Asia/Dubai:20251012T180000
DTEND;TZID=Asia/Dubai:20251012T200000
DTSTAMP:20260421T214318
CREATED:20251008T144809Z
LAST-MODIFIED:20251008T144809Z
UID:10012883-1760292000-1760299200@magpie.ae
SUMMARY:PechaKucha: On Noise
DESCRIPTION:Sound is a force we rarely notice\, yet it shapes our spatial\, emotional\, and cultural experiences in profound ways. This PechaKucha explores the unseen aspects of sound\, spanning audiology\, vinyl technology\, architectural acoustics\, voice as branding\, and early childhood communication through sign language.\nFive speakers from differing disciplines will seek to position sound as a vital force that influences perception and experience. \nSpeakers: \nFarid Esmaeil Founding Partner of X Architects\nAhmad Haffar Voice of Dubai\nKarim Houri CEO\, Houri Hearing\nJames Kelly Senior Lecturer in Audio at SAE Dubai\nShonali Lihala Chief Play Officer at Katie Jane
URL:https://magpie.ae/event/pechakucha-on-noise/
LOCATION:Etihad Museum\, 1 Jumeirah St\, Dubai
CATEGORIES:PechaKucha
GEO:25.241356;55.269841
X-APPLE-STRUCTURED-LOCATION;VALUE=URI;X-ADDRESS=Etihad Museum 1 Jumeirah St Dubai;X-APPLE-RADIUS=500;X-TITLE=1 Jumeirah St:geo:55.269841,25.241356
END:VEVENT
END:VCALENDAR