BEGIN:VCALENDAR
VERSION:2.0
PRODID:-//magpie - ECPv6.15.20//NONSGML v1.0//EN
CALSCALE:GREGORIAN
METHOD:PUBLISH
X-WR-CALNAME:magpie
X-ORIGINAL-URL:https://magpie.ae
X-WR-CALDESC:Events for magpie
REFRESH-INTERVAL;VALUE=DURATION:PT1H
X-Robots-Tag:noindex
X-PUBLISHED-TTL:PT1H
BEGIN:VTIMEZONE
TZID:Asia/Dubai
BEGIN:STANDARD
TZOFFSETFROM:+0400
TZOFFSETTO:+0400
TZNAME:+04
DTSTART:20220101T000000
END:STANDARD
END:VTIMEZONE
BEGIN:VEVENT
DTSTART;TZID=Asia/Dubai:20241012T180000
DTEND;TZID=Asia/Dubai:20241012T210000
DTSTAMP:20260422T123828
CREATED:20241009T092409Z
LAST-MODIFIED:20241009T092527Z
UID:10010687-1728756000-1728766800@magpie.ae
SUMMARY:Emanuele Dascanio: Crafting Reality
DESCRIPTION:A two-day popup (only one for the public) for NFTs by Emanuele Dascanio\, works that merge traditional techniques with cutting-edge digital experiences – so visitors will find physical artworks enhanced by AR plus some virtual-only pieces that need the AR headsets. 12 October is the public day; it’s preceded by an invite-only VIP day.
URL:https://magpie.ae/event/emanuele-dascanio-crafting-reality/
LOCATION:Hotel Indigo Dubai Downtown\, Marasi Drive\, Dubai\, United Arab Emirates
CATEGORIES:Art,Exhibition,NFTs
GEO:25.1856887;55.2742299
X-APPLE-STRUCTURED-LOCATION;VALUE=URI;X-ADDRESS=Hotel Indigo Dubai Downtown Marasi Drive Dubai United Arab Emirates;X-APPLE-RADIUS=500;X-TITLE=Marasi Drive:geo:55.2742299,25.1856887
END:VEVENT
BEGIN:VEVENT
DTSTART;VALUE=DATE:20230827
DTEND;VALUE=DATE:20230828
DTSTAMP:20260422T123828
CREATED:20230817T180109Z
LAST-MODIFIED:20230817T180109Z
UID:10005094-1693094400-1693180799@magpie.ae
SUMMARY:Deep Blue: Man + Machine
DESCRIPTION:A second pair of shows for this “immersive showcase that delves into the profound relationship between human creativity and cutting-edge artificial intelligence”. Effectively it’s a three-hour mini-festival of technology as art that also provides a networking opportunity for practitioners\, would-be investors and the techno-curious. At base the MORROW collective has created 360° Digital Art Show with live dancers; it uses ToDA’s stereo sound and vision experience to showcase the possibilities and profound impact of advanced technology and “blur the lines between the virtual and the tangible”. \nThere’s also Metaverse VR Experience “where digital and physical worlds seamlessly merge”\, a curators’ tour with Q&A\, a workshop by MORROW collective on Curating Digital Art\, and a series of NFT drops. Artists featured include Audrey Miller\, Gary Cartlidge\, Glass Crane\, Hipworth\, Jake-Andrew\, Lamia Eda Kula\, Martha Fiennes\, Stanislav Bartnikas\, Tomás Mujica Pérez\, and Zam. \nThere are shows at 10am and 2pm.
URL:https://magpie.ae/event/deep-blue-man-machine-2/
LOCATION:Theatre of Digital Arts\, Souk Madinat Jumeriah\, Dubai
CATEGORIES:Art,NFTs
ATTACH;FMTTYPE=image/jpeg:https://magpie.ae/wp-content/uploads/2023/08/LA_06810.jpeg
GEO:25.1331644;55.1862234
X-APPLE-STRUCTURED-LOCATION;VALUE=URI;X-ADDRESS=Theatre of Digital Arts Souk Madinat Jumeriah Dubai;X-APPLE-RADIUS=500;X-TITLE=Souk Madinat Jumeriah:geo:55.1862234,25.1331644
END:VEVENT
BEGIN:VEVENT
DTSTART;VALUE=DATE:20230826
DTEND;VALUE=DATE:20230827
DTSTAMP:20260422T123828
CREATED:20230817T175936Z
LAST-MODIFIED:20230817T180036Z
UID:10005093-1693008000-1693094399@magpie.ae
SUMMARY:Deep Blue: Man + Machine
DESCRIPTION:“An immersive showcase that delves into the profound relationship between human creativity and cutting-edge artificial intelligence\,” says the press blurb. “This extraordinary event is set to captivate audiences with a fusion of art\, technology\, and innovation.” \nEffectively it’s a three-hour mini-festival cum showcase of technology as art that also provides a networking opportunity for practitioners\, would-be investors and the techno-curious. At base the MORROW collective has created 360° Digital Art Show with live dancers; it uses ToDA’s stereo sound and vision experience to showcase the possibilities and profound impact of advanced technology and “blur the lines between the virtual and the tangible”. \nThere’s also Metaverse VR Experience “where digital and physical worlds seamlessly merge”\, a curators’ tour with Q&A\, a workshop by MORROW collective on Curating Digital Art\, and a series of NFT drops. Artists featured include Audrey Miller\, Gary Cartlidge\, Glass Crane\, Hipworth\, Jake-Andrew\, Lamia Eda Kula\, Martha Fiennes\, Stanislav Bartnikas\, Tomás Mujica Pérez\, and Zam. \nThe title\, incidentally\, riffs on IBM’s chess-playing supercomputer from the 19080s\, the first to defeat a human. It was the first computer to win a game against a human. As Morrow puts it\, “this exhibition comprises artwork that symbolises the vastness of intelligence between machine and man and what that means for our future … Artworks also explore the emotion of the colour blue\, which commands power and authority and can embody calmness\, stability and strength” \nThere are shows at 10am and 2pm\, repeated on 27 August.
URL:https://magpie.ae/event/deep-blue-man-machine/
LOCATION:Theatre of Digital Arts\, Souk Madinat Jumeriah\, Dubai
CATEGORIES:Art,NFTs
ATTACH;FMTTYPE=image/jpeg:https://magpie.ae/wp-content/uploads/2023/08/LA_06832.jpeg
GEO:25.1331644;55.1862234
X-APPLE-STRUCTURED-LOCATION;VALUE=URI;X-ADDRESS=Theatre of Digital Arts Souk Madinat Jumeriah Dubai;X-APPLE-RADIUS=500;X-TITLE=Souk Madinat Jumeriah:geo:55.1862234,25.1331644
END:VEVENT
END:VCALENDAR